BEGIN:VCALENDAR
VERSION:2.0
PRODID:-//EZFacility.com, Inc.//EZL 2.5.5.28621
BEGIN:VEVENT
UID:12873439@ezleagues.ezfacility.com
DTSTAMP:20260426T033855Z
CREATED:20260426T033855Z
DTSTART:20191207T234500Z
DTEND:20191208T010000Z
LOCATION:Baseball/Softball Field #1
CONTACT:Papiez
SUMMARY:NWI Storm Elite VS. BRW Blast LD
DESCRIPTION:League Name: December 7 Saturday Night Fever Pitch 14u\nGame Ty
 pe: Regular\nGame Status: Pending\nHome Team: NWI Storm Elite\nAway Team: 
 BRW Blast LD\n
END:VEVENT
BEGIN:VEVENT
UID:12873441@ezleagues.ezfacility.com
DTSTAMP:20260426T033855Z
CREATED:20260426T033855Z
DTSTART:20191208T011500Z
DTEND:20191208T023000Z
LOCATION:Baseball/Softball Field #1
CONTACT:Sterkowitz
SUMMARY:BRW Blast LD VS. Yardbirds
DESCRIPTION:League Name: December 7 Saturday Night Fever Pitch 14u\nGame Ty
 pe: Regular\nGame Status: Pending\nHome Team: BRW Blast LD\nAway Team: Yar
 dbirds\n
END:VEVENT
BEGIN:VEVENT
UID:12873444@ezleagues.ezfacility.com
DTSTAMP:20260426T033855Z
CREATED:20260426T033855Z
DTSTART:20191208T024500Z
DTEND:20191208T040000Z
LOCATION:Baseball/Softball Field #2
CONTACT:Sterkowitz
SUMMARY:Outsiders VS. BRW Blast LD
DESCRIPTION:League Name: December 7 Saturday Night Fever Pitch 14u\nGame Ty
 pe: Regular\nGame Status: Pending\nHome Team: Outsiders\nAway Team: BRW Bl
 ast LD\n
END:VEVENT
END:VCALENDAR
