BEGIN:VCALENDAR
VERSION:2.0
PRODID:-//EZFacility.com, Inc.//EZL 2.5.5.28621
BEGIN:VEVENT
UID:12906836@ezleagues.ezfacility.com
DTSTAMP:20260426T035004Z
CREATED:20260426T035004Z
DTSTART:20200105T143000Z
DTEND:20200105T151500Z
LOCATION:Soccer Field 1A
CONTACT:
SUMMARY:Palatine Black VS. Campton United
DESCRIPTION:League Name: YISL 2020 U11 BOYS 2009 7V7 A\nGame Type: Regular\
 nGame Status: Complete\nHome Team: Palatine Black\nAway Team: Campton Unit
 ed\nHome Score: 1\nAway Score: 11
END:VEVENT
BEGIN:VEVENT
UID:12906867@ezleagues.ezfacility.com
DTSTAMP:20260426T035004Z
CREATED:20260426T035004Z
DTSTART:20200112T143000Z
DTEND:20200112T151500Z
LOCATION:Soccer Field 1A
CONTACT:
SUMMARY:Palatine Black VS. Elgin Pumas 2010
DESCRIPTION:League Name: YISL 2020 U11 BOYS 2009 7V7 A\nGame Type: Regular\
 nGame Status: Complete\nHome Team: Palatine Black\nAway Team: Elgin Pumas 
 2010\nHome Score: 3\nAway Score: 6
END:VEVENT
BEGIN:VEVENT
UID:12906929@ezleagues.ezfacility.com
DTSTAMP:20260426T035004Z
CREATED:20260426T035004Z
DTSTART:20200126T134500Z
DTEND:20200126T143000Z
LOCATION:Soccer Field 2A
CONTACT:
SUMMARY:Palatine Black VS. Campton United
DESCRIPTION:League Name: YISL 2020 U11 BOYS 2009 7V7 A\nGame Type: Regular\
 nGame Status: Complete\nHome Team: Palatine Black\nAway Team: Campton Unit
 ed\nHome Score: 1\nAway Score: 2
END:VEVENT
BEGIN:VEVENT
UID:12906960@ezleagues.ezfacility.com
DTSTAMP:20260426T035004Z
CREATED:20260426T035004Z
DTSTART:20200202T134500Z
DTEND:20200202T143000Z
LOCATION:Soccer Field 2A
CONTACT:
SUMMARY:Palatine Black VS. Elgin Pumas 2010
DESCRIPTION:League Name: YISL 2020 U11 BOYS 2009 7V7 A\nGame Type: Regular\
 nGame Status: Complete\nHome Team: Palatine Black\nAway Team: Elgin Pumas 
 2010\nHome Score: 4\nAway Score: 2
END:VEVENT
BEGIN:VEVENT
UID:12906991@ezleagues.ezfacility.com
DTSTAMP:20260426T035004Z
CREATED:20260426T035004Z
DTSTART:20200209T130000Z
DTEND:20200209T134500Z
LOCATION:Soccer Field 2A
CONTACT:
SUMMARY:Sockers 2010 A1 VS. Palatine Black
DESCRIPTION:League Name: YISL 2020 U11 BOYS 2009 7V7 A\nGame Type: Regular\
 nGame Status: Complete\nHome Team: Sockers 2010 A1\nAway Team: Palatine Bl
 ack\nHome Score: 5\nAway Score: 3
END:VEVENT
BEGIN:VEVENT
UID:12907115@ezleagues.ezfacility.com
DTSTAMP:20260426T035004Z
CREATED:20260426T035004Z
DTSTART:20200217T160000Z
DTEND:20200217T164500Z
LOCATION:Soccer Field 2A
CONTACT:
SUMMARY:Campton United VS. Palatine Black
DESCRIPTION:League Name: YISL 2020 U11 BOYS 2009 7V7 A\nGame Type: Regular\
 nGame Status: Complete\nHome Team: Campton United\nAway Team: Palatine Bla
 ck\nHome Score: 7\nAway Score: 1
END:VEVENT
BEGIN:VEVENT
UID:12907053@ezleagues.ezfacility.com
DTSTAMP:20260426T035004Z
CREATED:20260426T035004Z
DTSTART:20200223T143000Z
DTEND:20200223T151500Z
LOCATION:Soccer Field 3A
CONTACT:
SUMMARY:Elgin Pumas 2010 VS. Palatine Black
DESCRIPTION:League Name: YISL 2020 U11 BOYS 2009 7V7 A\nGame Type: Regular\
 nGame Status: Complete\nHome Team: Elgin Pumas 2010\nAway Team: Palatine B
 lack\nHome Score: 4\nAway Score: 3
END:VEVENT
BEGIN:VEVENT
UID:12907084@ezleagues.ezfacility.com
DTSTAMP:20260426T035004Z
CREATED:20260426T035004Z
DTSTART:20200301T151500Z
DTEND:20200301T160000Z
LOCATION:Soccer Field 1A
CONTACT:
SUMMARY:Sockers 2010 A1 VS. Palatine Black
DESCRIPTION:League Name: YISL 2020 U11 BOYS 2009 7V7 A\nGame Type: Regular\
 nGame Status: Complete\nHome Team: Sockers 2010 A1\nAway Team: Palatine Bl
 ack\nHome Score: 11\nAway Score: 0
END:VEVENT
END:VCALENDAR
