BEGIN:VCALENDAR
VERSION:2.0
PRODID:-//EZFacility.com, Inc.//EZL 2.5.5.28621
BEGIN:VEVENT
UID:12906844@ezleagues.ezfacility.com
DTSTAMP:20260426T035140Z
CREATED:20260426T035140Z
DTSTART:20200105T130000Z
DTEND:20200105T134500Z
LOCATION:Soccer Field 4A
CONTACT:
SUMMARY:FC Lake County Black VS. Elite 2008 Black
DESCRIPTION:League Name: YISL 2020 U12 GIRLS 2008 8V8 A\nGame Type: Regular
 \nGame Status: Complete\nHome Team: FC Lake County Black\nAway Team: Elite
  2008 Black\nHome Score: 1\nAway Score: 1
END:VEVENT
BEGIN:VEVENT
UID:12906875@ezleagues.ezfacility.com
DTSTAMP:20260426T035140Z
CREATED:20260426T035140Z
DTSTART:20200112T143000Z
DTEND:20200112T151500Z
LOCATION:Soccer Field 4A
CONTACT:
SUMMARY:FC Lake County Black VS. Sockers 2009
DESCRIPTION:League Name: YISL 2020 U12 GIRLS 2008 8V8 A\nGame Type: Regular
 \nGame Status: Complete\nHome Team: FC Lake County Black\nAway Team: Socke
 rs 2009\nHome Score: 1\nAway Score: 2
END:VEVENT
BEGIN:VEVENT
UID:12906937@ezleagues.ezfacility.com
DTSTAMP:20260426T035140Z
CREATED:20260426T035140Z
DTSTART:20200126T160000Z
DTEND:20200126T164500Z
LOCATION:Soccer Field 4A
CONTACT:
SUMMARY:FC Lake County Black VS. Elite 2008 Black
DESCRIPTION:League Name: YISL 2020 U12 GIRLS 2008 8V8 A\nGame Type: Regular
 \nGame Status: Complete\nHome Team: FC Lake County Black\nAway Team: Elite
  2008 Black\nHome Score: 1\nAway Score: 3
END:VEVENT
BEGIN:VEVENT
UID:12906968@ezleagues.ezfacility.com
DTSTAMP:20260426T035140Z
CREATED:20260426T035140Z
DTSTART:20200202T130000Z
DTEND:20200202T134500Z
LOCATION:Soccer Field 4A
CONTACT:
SUMMARY:FC Lake County Black VS. Sockers 2009
DESCRIPTION:League Name: YISL 2020 U12 GIRLS 2008 8V8 A\nGame Type: Regular
 \nGame Status: Complete\nHome Team: FC Lake County Black\nAway Team: Socke
 rs 2009\nHome Score: 3\nAway Score: 2
END:VEVENT
BEGIN:VEVENT
UID:12906999@ezleagues.ezfacility.com
DTSTAMP:20260426T035140Z
CREATED:20260426T035140Z
DTSTART:20200209T151500Z
DTEND:20200209T160000Z
LOCATION:Soccer Field 4A
CONTACT:
SUMMARY:Campton United Red VS. FC Lake County Black
DESCRIPTION:League Name: YISL 2020 U12 GIRLS 2008 8V8 A\nGame Type: Regular
 \nGame Status: Complete\nHome Team: Campton United Red\nAway Team: FC Lake
  County Black\nHome Score: 3\nAway Score: 3
END:VEVENT
BEGIN:VEVENT
UID:12907030@ezleagues.ezfacility.com
DTSTAMP:20260426T035140Z
CREATED:20260426T035140Z
DTSTART:20200217T134500Z
DTEND:20200217T143000Z
LOCATION:Soccer Field 3A
CONTACT:
SUMMARY:Elite 2008 Black VS. FC Lake County Black
DESCRIPTION:League Name: YISL 2020 U12 GIRLS 2008 8V8 A\nGame Type: Regular
 \nGame Status: Complete\nHome Team: Elite 2008 Black\nAway Team: FC Lake C
 ounty Black\nHome Score: 1\nAway Score: 2
END:VEVENT
BEGIN:VEVENT
UID:12907061@ezleagues.ezfacility.com
DTSTAMP:20260426T035140Z
CREATED:20260426T035140Z
DTSTART:20200223T134500Z
DTEND:20200223T143000Z
LOCATION:Soccer Field 4A
CONTACT:
SUMMARY:Sockers 2009 VS. FC Lake County Black
DESCRIPTION:League Name: YISL 2020 U12 GIRLS 2008 8V8 A\nGame Type: Regular
 \nGame Status: Complete\nHome Team: Sockers 2009\nAway Team: FC Lake Count
 y Black\nHome Score: 2\nAway Score: 2
END:VEVENT
BEGIN:VEVENT
UID:12907092@ezleagues.ezfacility.com
DTSTAMP:20260426T035140Z
CREATED:20260426T035140Z
DTSTART:20200301T143000Z
DTEND:20200301T151500Z
LOCATION:Soccer Field 4A
CONTACT:
SUMMARY:Campton United Red VS. FC Lake County Black
DESCRIPTION:League Name: YISL 2020 U12 GIRLS 2008 8V8 A\nGame Type: Regular
 \nGame Status: Complete\nHome Team: Campton United Red\nAway Team: FC Lake
  County Black\nHome Score: 0\nAway Score: 3
END:VEVENT
END:VCALENDAR
