BEGIN:VCALENDAR
VERSION:2.0
PRODID:-//EZFacility.com, Inc.//EZL 2.5.5.28621
BEGIN:VEVENT
UID:12914189@ezleagues.ezfacility.com
DTSTAMP:20260426T033850Z
CREATED:20260426T033850Z
DTSTART:20200105T164500Z
DTEND:20200105T173000Z
LOCATION:Soccer Field 1
CONTACT:
SUMMARY:CL Force Elite VS. FC Lake County Elite
DESCRIPTION:League Name: YISL 2020 U13 BOYS 2007 9v9 A\nGame Type: Regular\
 nGame Status: Complete\nHome Team: CL Force Elite\nAway Team: FC Lake Coun
 ty Elite\nHome Score: 0\nAway Score: 3
END:VEVENT
BEGIN:VEVENT
UID:12914245@ezleagues.ezfacility.com
DTSTAMP:20260426T033850Z
CREATED:20260426T033850Z
DTSTART:20200119T181500Z
DTEND:20200119T190000Z
LOCATION:Soccer Field 1
CONTACT:
SUMMARY:Sockers 2008 A1 VS. FC Lake County Elite
DESCRIPTION:League Name: YISL 2020 U13 BOYS 2007 9v9 A\nGame Type: Regular\
 nGame Status: Complete\nHome Team: Sockers 2008 A1\nAway Team: FC Lake Cou
 nty Elite\nHome Score: 7\nAway Score: 0
END:VEVENT
BEGIN:VEVENT
UID:12914272@ezleagues.ezfacility.com
DTSTAMP:20260426T033850Z
CREATED:20260426T033850Z
DTSTART:20200126T181500Z
DTEND:20200126T190000Z
LOCATION:Soccer Field 1
CONTACT:
SUMMARY:FC Lake County Elite VS. Chicago Inferno A
DESCRIPTION:League Name: YISL 2020 U13 BOYS 2007 9v9 A\nGame Type: Regular\
 nGame Status: Complete\nHome Team: FC Lake County Elite\nAway Team: Chicag
 o Inferno A\nHome Score: 2\nAway Score: 0
END:VEVENT
BEGIN:VEVENT
UID:12914324@ezleagues.ezfacility.com
DTSTAMP:20260426T033850Z
CREATED:20260426T033850Z
DTSTART:20200209T173000Z
DTEND:20200209T181500Z
LOCATION:Soccer Field 1
CONTACT:
SUMMARY:FC Lake County Elite VS. CL Force Elite
DESCRIPTION:League Name: YISL 2020 U13 BOYS 2007 9v9 A\nGame Type: Regular\
 nGame Status: Complete\nHome Team: FC Lake County Elite\nAway Team: CL For
 ce Elite\nHome Score: 2\nAway Score: 2
END:VEVENT
BEGIN:VEVENT
UID:12914352@ezleagues.ezfacility.com
DTSTAMP:20260426T033850Z
CREATED:20260426T033850Z
DTSTART:20200216T173000Z
DTEND:20200216T181500Z
LOCATION:Soccer Field 1
CONTACT:
SUMMARY:FC Lake County Elite VS. Sockers 2008 A2
DESCRIPTION:League Name: YISL 2020 U13 BOYS 2007 9v9 A\nGame Type: Regular\
 nGame Status: Complete\nHome Team: FC Lake County Elite\nAway Team: Socker
 s 2008 A2\nHome Score: 5\nAway Score: 1
END:VEVENT
BEGIN:VEVENT
UID:12914380@ezleagues.ezfacility.com
DTSTAMP:20260426T033850Z
CREATED:20260426T033850Z
DTSTART:20200223T173000Z
DTEND:20200223T181500Z
LOCATION:Soccer Field 1
CONTACT:
SUMMARY:FC Lake County Elite VS. Sockers 2008 A1
DESCRIPTION:League Name: YISL 2020 U13 BOYS 2007 9v9 A\nGame Type: Regular\
 nGame Status: Complete\nHome Team: FC Lake County Elite\nAway Team: Socker
 s 2008 A1\nHome Score: 2\nAway Score: 3
END:VEVENT
BEGIN:VEVENT
UID:12914217@ezleagues.ezfacility.com
DTSTAMP:20260426T033850Z
CREATED:20260426T033850Z
DTSTART:20200301T173000Z
DTEND:20200301T181500Z
LOCATION:Soccer Field 1
CONTACT:
SUMMARY:Sockers 2008 A2 VS. FC Lake County Elite
DESCRIPTION:League Name: YISL 2020 U13 BOYS 2007 9v9 A\nGame Type: Regular\
 nGame Status: Complete\nHome Team: Sockers 2008 A2\nAway Team: FC Lake Cou
 nty Elite\nHome Score: 1\nAway Score: 3
END:VEVENT
BEGIN:VEVENT
UID:12914298@ezleagues.ezfacility.com
DTSTAMP:20260426T033850Z
CREATED:20260426T033850Z
DTSTART:20200308T154500Z
DTEND:20200308T163000Z
LOCATION:Soccer Field 1
CONTACT:
SUMMARY:FC Lake County Elite VS. FC 1974 Select
DESCRIPTION:League Name: YISL 2020 U13 BOYS 2007 9v9 A\nGame Type: Regular\
 nGame Status: Complete\nHome Team: FC Lake County Elite\nAway Team: FC 197
 4 Select\nHome Score: 3\nAway Score: 2
END:VEVENT
END:VCALENDAR
