BEGIN:VCALENDAR
VERSION:2.0
PRODID:-//EZFacility.com, Inc.//EZL 2.5.5.28621
BEGIN:VEVENT
UID:12914199@ezleagues.ezfacility.com
DTSTAMP:20260426T033817Z
CREATED:20260426T033817Z
DTSTART:20200105T194500Z
DTEND:20200105T203000Z
LOCATION:Soccer Field 1
CONTACT:
SUMMARY:Chicago Inferno VS. Palatine Showcase
DESCRIPTION:League Name: YISL 2020 U14 BOYS 2006 9v9 A\nGame Type: Regular\
 nGame Status: Complete\nHome Team: Chicago Inferno\nAway Team: Palatine Sh
 owcase\nHome Score: 3\nAway Score: 2
END:VEVENT
BEGIN:VEVENT
UID:12914252@ezleagues.ezfacility.com
DTSTAMP:20260426T033817Z
CREATED:20260426T033817Z
DTSTART:20200119T190000Z
DTEND:20200119T194500Z
LOCATION:Soccer Field 1
CONTACT:
SUMMARY:CL Force Elite VS. Palatine Showcase
DESCRIPTION:League Name: YISL 2020 U14 BOYS 2006 9v9 A\nGame Type: Regular\
 nGame Status: Complete\nHome Team: CL Force Elite\nAway Team: Palatine Sho
 wcase\nHome Score: 5\nAway Score: 1
END:VEVENT
BEGIN:VEVENT
UID:12914280@ezleagues.ezfacility.com
DTSTAMP:20260426T033817Z
CREATED:20260426T033817Z
DTSTART:20200126T190000Z
DTEND:20200126T194500Z
LOCATION:Soccer Field 1
CONTACT:
SUMMARY:Chicago Inferno VS. Palatine Showcase
DESCRIPTION:League Name: YISL 2020 U14 BOYS 2006 9v9 A\nGame Type: Regular\
 nGame Status: Complete\nHome Team: Chicago Inferno\nAway Team: Palatine Sh
 owcase\nHome Score: 3\nAway Score: 3
END:VEVENT
BEGIN:VEVENT
UID:12914333@ezleagues.ezfacility.com
DTSTAMP:20260426T033817Z
CREATED:20260426T033817Z
DTSTART:20200209T194500Z
DTEND:20200209T203000Z
LOCATION:Soccer Field 1
CONTACT:
SUMMARY:Palatine Showcase VS. CL Force Elite
DESCRIPTION:League Name: YISL 2020 U14 BOYS 2006 9v9 A\nGame Type: Regular\
 nGame Status: Complete\nHome Team: Palatine Showcase\nAway Team: CL Force 
 Elite\nHome Score: 3\nAway Score: 3
END:VEVENT
BEGIN:VEVENT
UID:12914361@ezleagues.ezfacility.com
DTSTAMP:20260426T033817Z
CREATED:20260426T033817Z
DTSTART:20200216T194500Z
DTEND:20200216T203000Z
LOCATION:Soccer Field 1
CONTACT:
SUMMARY:Palatine Showcase VS. Chicago Inferno
DESCRIPTION:League Name: YISL 2020 U14 BOYS 2006 9v9 A\nGame Type: Regular\
 nGame Status: Complete\nHome Team: Palatine Showcase\nAway Team: Chicago I
 nferno\nHome Score: 4\nAway Score: 3
END:VEVENT
BEGIN:VEVENT
UID:12914226@ezleagues.ezfacility.com
DTSTAMP:20260426T033817Z
CREATED:20260426T033817Z
DTSTART:20200217T194500Z
DTEND:20200217T203000Z
LOCATION:Soccer Field 1
CONTACT:
SUMMARY:Palatine Showcase VS. Aguilas
DESCRIPTION:League Name: YISL 2020 U14 BOYS 2006 9v9 A\nGame Type: Regular\
 nGame Status: Complete\nHome Team: Palatine Showcase\nAway Team: Aguilas\n
 Home Score: 1\nAway Score: 2
END:VEVENT
BEGIN:VEVENT
UID:12914388@ezleagues.ezfacility.com
DTSTAMP:20260426T033817Z
CREATED:20260426T033817Z
DTSTART:20200301T194500Z
DTEND:20200301T203000Z
LOCATION:Soccer Field 1
CONTACT:
SUMMARY:Aguilas VS. Palatine Showcase
DESCRIPTION:League Name: YISL 2020 U14 BOYS 2006 9v9 A\nGame Type: Regular\
 nGame Status: Complete\nHome Team: Aguilas\nAway Team: Palatine Showcase\n
 Home Score: 2\nAway Score: 2
END:VEVENT
BEGIN:VEVENT
UID:12914307@ezleagues.ezfacility.com
DTSTAMP:20260426T033817Z
CREATED:20260426T033817Z
DTSTART:20200308T180000Z
DTEND:20200308T184500Z
LOCATION:Soccer Field 1
CONTACT:
SUMMARY:Aguilas VS. Palatine Showcase
DESCRIPTION:League Name: YISL 2020 U14 BOYS 2006 9v9 A\nGame Type: Regular\
 nGame Status: Complete\nHome Team: Aguilas\nAway Team: Palatine Showcase\n
 Home Score: 3\nAway Score: 0
END:VEVENT
END:VCALENDAR
