BEGIN:VCALENDAR
VERSION:2.0
PRODID:-//EZFacility.com, Inc.//EZL 2.5.5.28621
BEGIN:VEVENT
UID:12916115@ezleagues.ezfacility.com
DTSTAMP:20260426T034049Z
CREATED:20260426T034049Z
DTSTART:20200107T030000Z
DTEND:20200107T034500Z
LOCATION:Soccer Field (half field) 1
CONTACT:
SUMMARY:Campton Navy VS. FC Lake County Elite
DESCRIPTION:League Name: YISL 2020 U18/U19 BOYS HF 9V9\nGame Type: Regular\
 nGame Status: Complete\nHome Team: Campton Navy\nAway Team: FC Lake County
  Elite\nHome Score: 2\nAway Score: 5
END:VEVENT
BEGIN:VEVENT
UID:12916119@ezleagues.ezfacility.com
DTSTAMP:20260426T034049Z
CREATED:20260426T034049Z
DTSTART:20200114T030000Z
DTEND:20200114T034500Z
LOCATION:Soccer Field (half field) 1
CONTACT:
SUMMARY:CL Force. VS. Campton Navy
DESCRIPTION:League Name: YISL 2020 U18/U19 BOYS HF 9V9\nGame Type: Regular\
 nGame Status: Complete\nHome Team: CL Force.\nAway Team: Campton Navy\nHom
 e Score: 8\nAway Score: 2
END:VEVENT
BEGIN:VEVENT
UID:12916123@ezleagues.ezfacility.com
DTSTAMP:20260426T034049Z
CREATED:20260426T034049Z
DTSTART:20200121T030000Z
DTEND:20200121T034500Z
LOCATION:Soccer Field (half field) 2
CONTACT:
SUMMARY:Campton Navy VS. Manchester
DESCRIPTION:League Name: YISL 2020 U18/U19 BOYS HF 9V9\nGame Type: Regular\
 nGame Status: Complete\nHome Team: Campton Navy\nAway Team: Manchester\nHo
 me Score: 0\nAway Score: 9
END:VEVENT
BEGIN:VEVENT
UID:12916127@ezleagues.ezfacility.com
DTSTAMP:20260426T034049Z
CREATED:20260426T034049Z
DTSTART:20200128T030000Z
DTEND:20200128T034500Z
LOCATION:Soccer Field (half field) 2
CONTACT:
SUMMARY:Campton Navy VS. Aguilas
DESCRIPTION:League Name: YISL 2020 U18/U19 BOYS HF 9V9\nGame Type: Regular\
 nGame Status: Complete\nHome Team: Campton Navy\nAway Team: Aguilas\nHome 
 Score: 2\nAway Score: 0
END:VEVENT
BEGIN:VEVENT
UID:12916131@ezleagues.ezfacility.com
DTSTAMP:20260426T034049Z
CREATED:20260426T034049Z
DTSTART:20200204T030000Z
DTEND:20200204T034500Z
LOCATION:Soccer Field (half field) 2
CONTACT:
SUMMARY:SAA VS. Campton Navy
DESCRIPTION:League Name: YISL 2020 U18/U19 BOYS HF 9V9\nGame Type: Regular\
 nGame Status: Complete\nHome Team: SAA\nAway Team: Campton Navy\nHome Scor
 e: 3\nAway Score: 2
END:VEVENT
BEGIN:VEVENT
UID:12916143@ezleagues.ezfacility.com
DTSTAMP:20260426T034049Z
CREATED:20260426T034049Z
DTSTART:20200225T030000Z
DTEND:20200225T034500Z
LOCATION:Soccer Field (half field) 2
CONTACT:
SUMMARY:FC Lake County Elite VS. Campton Navy
DESCRIPTION:League Name: YISL 2020 U18/U19 BOYS HF 9V9\nGame Type: Regular\
 nGame Status: Complete\nHome Team: FC Lake County Elite\nAway Team: Campto
 n Navy\nHome Score: 4\nAway Score: 0
END:VEVENT
BEGIN:VEVENT
UID:12916159@ezleagues.ezfacility.com
DTSTAMP:20260426T034049Z
CREATED:20260426T034049Z
DTSTART:20200309T000000Z
DTEND:20200309T004500Z
LOCATION:Soccer Field (half field) 2
CONTACT:
SUMMARY:Campton Navy VS. SAA
DESCRIPTION:League Name: YISL 2020 U18/U19 BOYS HF 9V9\nGame Type: Regular\
 nGame Status: Complete\nHome Team: Campton Navy\nAway Team: SAA\nHome Scor
 e: 4\nAway Score: 6
END:VEVENT
BEGIN:VEVENT
UID:12916151@ezleagues.ezfacility.com
DTSTAMP:20260426T034049Z
CREATED:20260426T034049Z
DTSTART:20200310T020000Z
DTEND:20200310T024500Z
LOCATION:Soccer Field (half field) 1
CONTACT:
SUMMARY:Manchester VS. Campton Navy
DESCRIPTION:League Name: YISL 2020 U18/U19 BOYS HF 9V9\nGame Type: Regular\
 nGame Status: Complete\nHome Team: Manchester\nAway Team: Campton Navy\nHo
 me Score: 6\nAway Score: 0
END:VEVENT
BEGIN:VEVENT
UID:12916139@ezleagues.ezfacility.com
DTSTAMP:20260426T034049Z
CREATED:20260426T034049Z
DTSTART:20200315T231500Z
DTEND:20200316T000000Z
LOCATION:Soccer Field (half field) 2
CONTACT:
SUMMARY:Alithsa VS. Campton Navy
DESCRIPTION:League Name: YISL 2020 U18/U19 BOYS HF 9V9\nGame Type: Regular\
 nGame Status: Pending\nHome Team: Alithsa\nAway Team: Campton Navy\n
END:VEVENT
BEGIN:VEVENT
UID:12916155@ezleagues.ezfacility.com
DTSTAMP:20260426T034049Z
CREATED:20260426T034049Z
DTSTART:20200317T020000Z
DTEND:20200317T024500Z
LOCATION:Soccer Field (half field) 2
CONTACT:
SUMMARY:Campton Navy VS. Aguilas
DESCRIPTION:League Name: YISL 2020 U18/U19 BOYS HF 9V9\nGame Type: Regular\
 nGame Status: Pending\nHome Team: Campton Navy\nAway Team: Aguilas\n
END:VEVENT
END:VCALENDAR
