BEGIN:VCALENDAR
VERSION:2.0
PRODID:-//EZFacility.com, Inc.//EZL 2.5.5.28621
BEGIN:VEVENT
UID:12882468@ezleagues.ezfacility.com
DTSTAMP:20260426T035015Z
CREATED:20260426T035015Z
DTSTART:20191207T190500Z
DTEND:20191207T195300Z
LOCATION:Jessup Premier Field #1
CONTACT:
SUMMARY:2008 A3 Liverpool  VS. 2008 Baltimore Uni0n Select 08
DESCRIPTION:League Name: Youth (WINTER 1) SD1 SAT/SUN 2008 Boys GOLD\nGame 
 Type: Regular\nGame Status: Complete\nHome Team: 2008 A3 Liverpool \nAway 
 Team: 2008 Baltimore Uni0n Select 08\nHome Score: 3\nAway Score: 5
END:VEVENT
BEGIN:VEVENT
UID:12882495@ezleagues.ezfacility.com
DTSTAMP:20260426T035015Z
CREATED:20260426T035015Z
DTSTART:20191214T152500Z
DTEND:20191214T161500Z
LOCATION:Jessup Premier Field #1
CONTACT:
SUMMARY:2008 Severna Park Tsunami VS. 2008 A3 Liverpool 
DESCRIPTION:League Name: Youth (WINTER 1) SD1 SAT/SUN 2008 Boys GOLD\nGame 
 Type: Regular\nGame Status: Complete\nHome Team: 2008 Severna Park Tsunami
 \nAway Team: 2008 A3 Liverpool \nHome Score: 2\nAway Score: 1
END:VEVENT
BEGIN:VEVENT
UID:12882524@ezleagues.ezfacility.com
DTSTAMP:20260426T035015Z
CREATED:20260426T035015Z
DTSTART:20191221T133500Z
DTEND:20191221T142300Z
LOCATION:Jessup Premier Field #2
CONTACT:
SUMMARY:2008 CSA VS. 2008 A3 Liverpool 
DESCRIPTION:League Name: Youth (WINTER 1) SD1 SAT/SUN 2008 Boys GOLD\nGame 
 Type: Regular\nGame Status: Complete\nHome Team: 2008 CSA\nAway Team: 2008
  A3 Liverpool \nHome Score: 9\nAway Score: 3
END:VEVENT
BEGIN:VEVENT
UID:12882581@ezleagues.ezfacility.com
DTSTAMP:20260426T035015Z
CREATED:20260426T035015Z
DTSTART:20200104T171500Z
DTEND:20200104T181500Z
LOCATION:Jessup Premier Field #1
CONTACT:
SUMMARY:2008 ESSA  VS. 2008 A3 Liverpool 
DESCRIPTION:League Name: Youth (WINTER 1) SD1 SAT/SUN 2008 Boys GOLD\nGame 
 Type: Regular\nGame Status: Complete\nHome Team: 2008 ESSA \nAway Team: 20
 08 A3 Liverpool \nHome Score: 0\nAway Score: 3
END:VEVENT
BEGIN:VEVENT
UID:12882608@ezleagues.ezfacility.com
DTSTAMP:20260426T035015Z
CREATED:20260426T035015Z
DTSTART:20200111T124000Z
DTEND:20200111T134000Z
LOCATION:Jessup Premier Field #2
CONTACT:
SUMMARY:2008 Baltimore Uni0n Select 08 VS. 2008 A3 Liverpool 
DESCRIPTION:League Name: Youth (WINTER 1) SD1 SAT/SUN 2008 Boys GOLD\nGame 
 Type: Regular\nGame Status: Complete\nHome Team: 2008 Baltimore Uni0n Sele
 ct 08\nAway Team: 2008 A3 Liverpool \nHome Score: 10\nAway Score: 2
END:VEVENT
BEGIN:VEVENT
UID:12882635@ezleagues.ezfacility.com
DTSTAMP:20260426T035015Z
CREATED:20260426T035015Z
DTSTART:20200118T171500Z
DTEND:20200118T181500Z
LOCATION:Jessup Premier Field #1
CONTACT:
SUMMARY:2008 A3 Liverpool  VS. 2008 Severna Park Tsunami
DESCRIPTION:League Name: Youth (WINTER 1) SD1 SAT/SUN 2008 Boys GOLD\nGame 
 Type: Regular\nGame Status: Complete\nHome Team: 2008 A3 Liverpool \nAway 
 Team: 2008 Severna Park Tsunami\nHome Score: 3\nAway Score: 0
END:VEVENT
BEGIN:VEVENT
UID:12882664@ezleagues.ezfacility.com
DTSTAMP:20260426T035015Z
CREATED:20260426T035015Z
DTSTART:20200125T152500Z
DTEND:20200125T162500Z
LOCATION:Jessup Premier Field #1
CONTACT:
SUMMARY:2008 A3 Liverpool  VS. 2008 CSA
DESCRIPTION:League Name: Youth (WINTER 1) SD1 SAT/SUN 2008 Boys GOLD\nGame 
 Type: Regular\nGame Status: Complete\nHome Team: 2008 A3 Liverpool \nAway 
 Team: 2008 CSA\nHome Score: 1\nAway Score: 4
END:VEVENT
BEGIN:VEVENT
UID:12882553@ezleagues.ezfacility.com
DTSTAMP:20260426T035015Z
CREATED:20260426T035015Z
DTSTART:20200201T200000Z
DTEND:20200201T210000Z
LOCATION:Jessup Premier Field #1
CONTACT:
SUMMARY:2008 A3 Liverpool  VS. 2008 FCI Lions
DESCRIPTION:League Name: Youth (WINTER 1) SD1 SAT/SUN 2008 Boys GOLD\nGame 
 Type: Regular\nGame Status: Complete\nHome Team: 2008 A3 Liverpool \nAway 
 Team: 2008 FCI Lions\nHome Score: 3\nAway Score: 0
END:VEVENT
END:VCALENDAR
