BEGIN:VCALENDAR
VERSION:2.0
PRODID:-//EZFacility.com, Inc.//EZL 2.5.5.28621
BEGIN:VEVENT
UID:12887709@ezleagues.ezfacility.com
DTSTAMP:20260420T142521Z
CREATED:20260420T142521Z
DTSTART:20191207T162000Z
DTEND:20191207T170800Z
LOCATION:Harmans Premier Field #5
CONTACT:
SUMMARY:2010 Pipeline Red VS. 2010 Pasadena Premier
DESCRIPTION:League Name: Youth (WINTER 1) SD2 SAT/SUN 2010 Boys GOLD\nGame 
 Type: Regular\nGame Status: Complete\nHome Team: 2010 Pipeline Red\nAway T
 eam: 2010 Pasadena Premier\nHome Score: 4\nAway Score: 4
END:VEVENT
BEGIN:VEVENT
UID:12887744@ezleagues.ezfacility.com
DTSTAMP:20260420T142521Z
CREATED:20260420T142521Z
DTSTART:20191215T170000Z
DTEND:20191215T174800Z
LOCATION:Harmans Premier Field #5
CONTACT:
SUMMARY:2010 ASA Lions VS. 2010 Pasadena Premier
DESCRIPTION:League Name: Youth (WINTER 1) SD2 SAT/SUN 2010 Boys GOLD\nGame 
 Type: Regular\nGame Status: Complete\nHome Team: 2010 ASA Lions\nAway Team
 : 2010 Pasadena Premier\nHome Score: 3\nAway Score: 10
END:VEVENT
BEGIN:VEVENT
UID:12887778@ezleagues.ezfacility.com
DTSTAMP:20260420T142521Z
CREATED:20260420T142521Z
DTSTART:20191221T162000Z
DTEND:20191221T170800Z
LOCATION:Harmans Premier Field #5
CONTACT:
SUMMARY:2010 Pasadena Premier VS. 2010 HES Rugrats
DESCRIPTION:League Name: Youth (WINTER 1) SD2 SAT/SUN 2010 Boys GOLD\nGame 
 Type: Regular\nGame Status: Complete\nHome Team: 2010 Pasadena Premier\nAw
 ay Team: 2010 HES Rugrats\nHome Score: 4\nAway Score: 4
END:VEVENT
BEGIN:VEVENT
UID:12887844@ezleagues.ezfacility.com
DTSTAMP:20260420T142521Z
CREATED:20260420T142521Z
DTSTART:20200105T160000Z
DTEND:20200105T164800Z
LOCATION:Harmans Premier Field #4
CONTACT:
SUMMARY:2010 Pasadena Premier VS. 2010 SDFC Elite
DESCRIPTION:League Name: Youth (WINTER 1) SD2 SAT/SUN 2010 Boys GOLD\nGame 
 Type: Regular\nGame Status: Complete\nHome Team: 2010 Pasadena Premier\nAw
 ay Team: 2010 SDFC Elite\nHome Score: 2\nAway Score: 0
END:VEVENT
BEGIN:VEVENT
UID:12887879@ezleagues.ezfacility.com
DTSTAMP:20260420T142521Z
CREATED:20260420T142521Z
DTSTART:20200111T124000Z
DTEND:20200111T132800Z
LOCATION:Harmans Premier Field #4
CONTACT:
SUMMARY:2010 Pasadena Premier VS. 2010 Pipeline Red
DESCRIPTION:League Name: Youth (WINTER 1) SD2 SAT/SUN 2010 Boys GOLD\nGame 
 Type: Regular\nGame Status: Complete\nHome Team: 2010 Pasadena Premier\nAw
 ay Team: 2010 Pipeline Red\nHome Score: 5\nAway Score: 0
END:VEVENT
BEGIN:VEVENT
UID:12887914@ezleagues.ezfacility.com
DTSTAMP:20260420T142521Z
CREATED:20260420T142521Z
DTSTART:20200118T205500Z
DTEND:20200118T214300Z
LOCATION:Harmans Premier Field #4
CONTACT:
SUMMARY:2010 Pasadena Premier VS. 2010 ASA Lions
DESCRIPTION:League Name: Youth (WINTER 1) SD2 SAT/SUN 2010 Boys GOLD\nGame 
 Type: Regular\nGame Status: Complete\nHome Team: 2010 Pasadena Premier\nAw
 ay Team: 2010 ASA Lions\nHome Score: 2\nAway Score: 5
END:VEVENT
BEGIN:VEVENT
UID:12887811@ezleagues.ezfacility.com
DTSTAMP:20260420T142521Z
CREATED:20260420T142521Z
DTSTART:20200120T210000Z
DTEND:20200120T214800Z
LOCATION:Harmans Premier Field #5
CONTACT:
SUMMARY:2010 FCI Tigers VS. 2010 Pasadena Premier
DESCRIPTION:League Name: Youth (WINTER 1) SD2 SAT/SUN 2010 Boys GOLD\nGame 
 Type: Regular\nGame Status: Complete\nHome Team: 2010 FCI Tigers\nAway Tea
 m: 2010 Pasadena Premier\nHome Score: 0\nAway Score: 3
END:VEVENT
BEGIN:VEVENT
UID:12887948@ezleagues.ezfacility.com
DTSTAMP:20260420T142521Z
CREATED:20260420T142521Z
DTSTART:20200125T215000Z
DTEND:20200125T223800Z
LOCATION:Harmans Premier Field #5
CONTACT:
SUMMARY:2010 HES Rugrats VS. 2010 Pasadena Premier
DESCRIPTION:League Name: Youth (WINTER 1) SD2 SAT/SUN 2010 Boys GOLD\nGame 
 Type: Regular\nGame Status: Complete\nHome Team: 2010 HES Rugrats\nAway Te
 am: 2010 Pasadena Premier\nHome Score: 2\nAway Score: 2
END:VEVENT
END:VCALENDAR
