BEGIN:VCALENDAR
VERSION:2.0
PRODID:-//EZFacility.com, Inc.//EZL 2.5.5.28621
BEGIN:VEVENT
UID:12887723@ezleagues.ezfacility.com
DTSTAMP:20260424T043915Z
CREATED:20260424T043915Z
DTSTART:20191207T215000Z
DTEND:20191207T223800Z
LOCATION:Harmans Premier Field #4
CONTACT:
SUMMARY:2012 HES Girl Power VS. 2012 ASA Snakes
DESCRIPTION:League Name: Youth (WINTER 1) SD2 SAT/SUN 2012 Boys BRONZE\nGam
 e Type: Regular\nGame Status: Complete\nHome Team: 2012 HES Girl Power\nAw
 ay Team: 2012 ASA Snakes\nHome Score: 1\nAway Score: 4
END:VEVENT
BEGIN:VEVENT
UID:12887756@ezleagues.ezfacility.com
DTSTAMP:20260424T043915Z
CREATED:20260424T043915Z
DTSTART:20191214T133500Z
DTEND:20191214T142300Z
LOCATION:Harmans Premier Field #5
CONTACT:
SUMMARY:2012 HES Flames VS. 2012 HES Girl Power
DESCRIPTION:League Name: Youth (WINTER 1) SD2 SAT/SUN 2012 Boys BRONZE\nGam
 e Type: Regular\nGame Status: Complete\nHome Team: 2012 HES Flames\nAway T
 eam: 2012 HES Girl Power\nHome Score: 0\nAway Score: 3
END:VEVENT
BEGIN:VEVENT
UID:12887791@ezleagues.ezfacility.com
DTSTAMP:20260424T043915Z
CREATED:20260424T043915Z
DTSTART:20191222T190000Z
DTEND:20191222T194800Z
LOCATION:Harmans Premier Field #4
CONTACT:
SUMMARY:2012 HES Lobos VS. 2012 HES Girl Power
DESCRIPTION:League Name: Youth (WINTER 1) SD2 SAT/SUN 2012 Boys BRONZE\nGam
 e Type: Regular\nGame Status: Complete\nHome Team: 2012 HES Lobos\nAway Te
 am: 2012 HES Girl Power\nHome Score: 1\nAway Score: 6
END:VEVENT
BEGIN:VEVENT
UID:12887858@ezleagues.ezfacility.com
DTSTAMP:20260424T043915Z
CREATED:20260424T043915Z
DTSTART:20200105T180000Z
DTEND:20200105T184800Z
LOCATION:Harmans Premier Field #5
CONTACT:
SUMMARY:2012 HES Girl Power VS. 2012 HES Flames
DESCRIPTION:League Name: Youth (WINTER 1) SD2 SAT/SUN 2012 Boys BRONZE\nGam
 e Type: Regular\nGame Status: Complete\nHome Team: 2012 HES Girl Power\nAw
 ay Team: 2012 HES Flames\nHome Score: 2\nAway Score: 2
END:VEVENT
BEGIN:VEVENT
UID:12887893@ezleagues.ezfacility.com
DTSTAMP:20260424T043915Z
CREATED:20260424T043915Z
DTSTART:20200111T152500Z
DTEND:20200111T161300Z
LOCATION:Harmans Premier Field #4
CONTACT:
SUMMARY:2012 HES Girl Power VS. 2012 HES Lobos
DESCRIPTION:League Name: Youth (WINTER 1) SD2 SAT/SUN 2012 Boys BRONZE\nGam
 e Type: Regular\nGame Status: Complete\nHome Team: 2012 HES Girl Power\nAw
 ay Team: 2012 HES Lobos\nHome Score: 5\nAway Score: 1
END:VEVENT
BEGIN:VEVENT
UID:12887927@ezleagues.ezfacility.com
DTSTAMP:20260424T043915Z
CREATED:20260424T043915Z
DTSTART:20200118T124000Z
DTEND:20200118T132800Z
LOCATION:Harmans Premier Field #4
CONTACT:
SUMMARY:2012 ASA Snakes VS. 2012 HES Girl Power
DESCRIPTION:League Name: Youth (WINTER 1) SD2 SAT/SUN 2012 Boys BRONZE\nGam
 e Type: Regular\nGame Status: Complete\nHome Team: 2012 ASA Snakes\nAway T
 eam: 2012 HES Girl Power\nHome Score: 2\nAway Score: 1
END:VEVENT
BEGIN:VEVENT
UID:12887960@ezleagues.ezfacility.com
DTSTAMP:20260424T043915Z
CREATED:20260424T043915Z
DTSTART:20200125T143000Z
DTEND:20200125T151800Z
LOCATION:Harmans Premier Field #4
CONTACT:
SUMMARY:2012 HES Girl Power VS. 2012 HES Flames
DESCRIPTION:League Name: Youth (WINTER 1) SD2 SAT/SUN 2012 Boys BRONZE\nGam
 e Type: Regular\nGame Status: Complete\nHome Team: 2012 HES Girl Power\nAw
 ay Team: 2012 HES Flames\nHome Score: 2\nAway Score: 2
END:VEVENT
BEGIN:VEVENT
UID:12887825@ezleagues.ezfacility.com
DTSTAMP:20260424T043915Z
CREATED:20260424T043915Z
DTSTART:20200201T124000Z
DTEND:20200201T132800Z
LOCATION:Harmans Premier Field #4
CONTACT:
SUMMARY:2012 ASA Snakes VS. 2012 HES Girl Power
DESCRIPTION:League Name: Youth (WINTER 1) SD2 SAT/SUN 2012 Boys BRONZE\nGam
 e Type: Regular\nGame Status: Complete\nHome Team: 2012 ASA Snakes\nAway T
 eam: 2012 HES Girl Power\nHome Score: 2\nAway Score: 3
END:VEVENT
END:VCALENDAR
