BEGIN:VCALENDAR
VERSION:2.0
PRODID:-//EZFacility.com, Inc.//EZL 2.5.5.28621
BEGIN:VEVENT
UID:12953203@ezleagues.ezfacility.com
DTSTAMP:20260426T035150Z
CREATED:20260426T035150Z
DTSTART:20200104T163000Z
DTEND:20200104T172000Z
LOCATION:Field 1
CONTACT:
SUMMARY:Ravens - (J. Geno) VS. Steelers - (S. O'Connor)
DESCRIPTION:League Name: Winter Session 2 - Under 12 Coed Youth Flag Footba
 ll League\nGame Type: Regular\nGame Status: Complete\nHome Team: Ravens - 
 (J. Geno)\nAway Team: Steelers - (S. O'Connor)\nHome Score: 14\nAway Score
 : 31
END:VEVENT
BEGIN:VEVENT
UID:12964890@ezleagues.ezfacility.com
DTSTAMP:20260426T035150Z
CREATED:20260426T035150Z
DTSTART:20200111T150000Z
DTEND:20200111T155000Z
LOCATION:Field 1
CONTACT:
SUMMARY:Redskins - (R. Griffith) VS. Steelers - (S. O'Connor)
DESCRIPTION:League Name: Winter Session 2 - Under 12 Coed Youth Flag Footba
 ll League\nGame Type: Regular\nGame Status: Complete\nHome Team: Redskins 
 - (R. Griffith)\nAway Team: Steelers - (S. O'Connor)\nHome Score: 32\nAway
  Score: 14
END:VEVENT
BEGIN:VEVENT
UID:12985919@ezleagues.ezfacility.com
DTSTAMP:20260426T035150Z
CREATED:20260426T035150Z
DTSTART:20200118T130000Z
DTEND:20200118T135000Z
LOCATION:Field 3
CONTACT:
SUMMARY:Lions - (S. Egan) VS. Steelers - (S. O'Connor)
DESCRIPTION:League Name: Winter Session 2 - Under 12 Coed Youth Flag Footba
 ll League\nGame Type: Regular\nGame Status: Complete\nHome Team: Lions - (
 S. Egan)\nAway Team: Steelers - (S. O'Connor)\nHome Score: 34\nAway Score:
  6
END:VEVENT
BEGIN:VEVENT
UID:12985926@ezleagues.ezfacility.com
DTSTAMP:20260426T035150Z
CREATED:20260426T035150Z
DTSTART:20200125T150000Z
DTEND:20200125T155000Z
LOCATION:Field 2
CONTACT:
SUMMARY:Steelers - (S. O'Connor) VS. Panthers - (R. Legrow)
DESCRIPTION:League Name: Winter Session 2 - Under 12 Coed Youth Flag Footba
 ll League\nGame Type: Regular\nGame Status: Complete\nHome Team: Steelers 
 - (S. O'Connor)\nAway Team: Panthers - (R. Legrow)\nHome Score: 6\nAway Sc
 ore: 41
END:VEVENT
BEGIN:VEVENT
UID:12985941@ezleagues.ezfacility.com
DTSTAMP:20260426T035150Z
CREATED:20260426T035150Z
DTSTART:20200201T120000Z
DTEND:20200201T125000Z
LOCATION:Field 1
CONTACT:
SUMMARY:Texans - (J. Schooley) VS. Steelers - (S. O'Connor)
DESCRIPTION:League Name: Winter Session 2 - Under 12 Coed Youth Flag Footba
 ll League\nGame Type: Regular\nGame Status: Complete\nHome Team: Texans - 
 (J. Schooley)\nAway Team: Steelers - (S. O'Connor)\nHome Score: 47\nAway S
 core: 12
END:VEVENT
BEGIN:VEVENT
UID:12986040@ezleagues.ezfacility.com
DTSTAMP:20260426T035150Z
CREATED:20260426T035150Z
DTSTART:20200208T150000Z
DTEND:20200208T155000Z
LOCATION:Field 2
CONTACT:
SUMMARY:Steelers - (S. O'Connor) VS. Redskins - (R. Griffith)
DESCRIPTION:League Name: Winter Session 2 - Under 12 Coed Youth Flag Footba
 ll League\nGame Type: Regular\nGame Status: Complete\nHome Team: Steelers 
 - (S. O'Connor)\nAway Team: Redskins - (R. Griffith)\nHome Score: 33\nAway
  Score: 20
END:VEVENT
BEGIN:VEVENT
UID:12986050@ezleagues.ezfacility.com
DTSTAMP:20260426T035150Z
CREATED:20260426T035150Z
DTSTART:20200215T150000Z
DTEND:20200215T155000Z
LOCATION:Field 3
CONTACT:
SUMMARY:Titans - (E. Smith) VS. Steelers - (S. O'Connor)
DESCRIPTION:League Name: Winter Session 2 - Under 12 Coed Youth Flag Footba
 ll League\nGame Type: Regular\nGame Status: Complete\nHome Team: Titans - 
 (E. Smith)\nAway Team: Steelers - (S. O'Connor)\nHome Score: 15\nAway Scor
 e: 12
END:VEVENT
END:VCALENDAR
