BEGIN:VCALENDAR
VERSION:2.0
PRODID:-//EZFacility.com, Inc.//EZL 2.5.5.28621
BEGIN:VEVENT
UID:12953206@ezleagues.ezfacility.com
DTSTAMP:20260426T035130Z
CREATED:20260426T035130Z
DTSTART:20200104T153000Z
DTEND:20200104T162000Z
LOCATION:Field 1
CONTACT:
SUMMARY:Titans - (E. Smith) VS. Chiefs - (B. Collamore)
DESCRIPTION:League Name: Winter Session 2 - Under 12 Coed Youth Flag Footba
 ll League\nGame Type: Regular\nGame Status: Complete\nHome Team: Titans - 
 (E. Smith)\nAway Team: Chiefs - (B. Collamore)\nHome Score: 26\nAway Score
 : 39
END:VEVENT
BEGIN:VEVENT
UID:12964894@ezleagues.ezfacility.com
DTSTAMP:20260426T035130Z
CREATED:20260426T035130Z
DTSTART:20200111T160000Z
DTEND:20200111T165000Z
LOCATION:Field 2
CONTACT:
SUMMARY:Falcons - (M. Bracani) VS. Chiefs - (B. Collamore)
DESCRIPTION:League Name: Winter Session 2 - Under 12 Coed Youth Flag Footba
 ll League\nGame Type: Regular\nGame Status: Complete\nHome Team: Falcons -
  (M. Bracani)\nAway Team: Chiefs - (B. Collamore)\nHome Score: 26\nAway Sc
 ore: 13
END:VEVENT
BEGIN:VEVENT
UID:12985916@ezleagues.ezfacility.com
DTSTAMP:20260426T035130Z
CREATED:20260426T035130Z
DTSTART:20200118T130000Z
DTEND:20200118T135000Z
LOCATION:Field 2
CONTACT:
SUMMARY:Giants - (R. Hill) VS. Chiefs - (B. Collamore)
DESCRIPTION:League Name: Winter Session 2 - Under 12 Coed Youth Flag Footba
 ll League\nGame Type: Regular\nGame Status: Complete\nHome Team: Giants - 
 (R. Hill)\nAway Team: Chiefs - (B. Collamore)\nHome Score: 8\nAway Score: 
 38
END:VEVENT
BEGIN:VEVENT
UID:12985935@ezleagues.ezfacility.com
DTSTAMP:20260426T035130Z
CREATED:20260426T035130Z
DTSTART:20200125T160000Z
DTEND:20200125T165000Z
LOCATION:Field 2
CONTACT:
SUMMARY:Redskins - (R. Griffith) VS. Chiefs - (B. Collamore)
DESCRIPTION:League Name: Winter Session 2 - Under 12 Coed Youth Flag Footba
 ll League\nGame Type: Regular\nGame Status: Complete\nHome Team: Redskins 
 - (R. Griffith)\nAway Team: Chiefs - (B. Collamore)\nHome Score: 18\nAway 
 Score: 52
END:VEVENT
BEGIN:VEVENT
UID:12985942@ezleagues.ezfacility.com
DTSTAMP:20260426T035130Z
CREATED:20260426T035130Z
DTSTART:20200201T120000Z
DTEND:20200201T125000Z
LOCATION:Field 2
CONTACT:
SUMMARY:Chiefs - (B. Collamore) VS. Lions - (S. Egan)
DESCRIPTION:League Name: Winter Session 2 - Under 12 Coed Youth Flag Footba
 ll League\nGame Type: Regular\nGame Status: Complete\nHome Team: Chiefs - 
 (B. Collamore)\nAway Team: Lions - (S. Egan)\nHome Score: 44\nAway Score: 
 12
END:VEVENT
BEGIN:VEVENT
UID:12986041@ezleagues.ezfacility.com
DTSTAMP:20260426T035130Z
CREATED:20260426T035130Z
DTSTART:20200208T150000Z
DTEND:20200208T155000Z
LOCATION:Field 3
CONTACT:
SUMMARY:Dolphins - (B. Bright) VS. Chiefs - (B. Collamore)
DESCRIPTION:League Name: Winter Session 2 - Under 12 Coed Youth Flag Footba
 ll League\nGame Type: Regular\nGame Status: Complete\nHome Team: Dolphins 
 - (B. Bright)\nAway Team: Chiefs - (B. Collamore)\nHome Score: 24\nAway Sc
 ore: 32
END:VEVENT
BEGIN:VEVENT
UID:12986046@ezleagues.ezfacility.com
DTSTAMP:20260426T035130Z
CREATED:20260426T035130Z
DTSTART:20200215T120000Z
DTEND:20200215T125000Z
LOCATION:Field 3
CONTACT:
SUMMARY:Panthers - (R. Legrow) VS. Chiefs - (B. Collamore)
DESCRIPTION:League Name: Winter Session 2 - Under 12 Coed Youth Flag Footba
 ll League\nGame Type: Regular\nGame Status: Complete\nHome Team: Panthers 
 - (R. Legrow)\nAway Team: Chiefs - (B. Collamore)\nHome Score: 18\nAway Sc
 ore: 30
END:VEVENT
END:VCALENDAR
