BEGIN:VCALENDAR
VERSION:2.0
PRODID:-//EZFacility.com, Inc.//EZL 2.5.5.28621
BEGIN:VEVENT
UID:12895985@ezleagues.ezfacility.com
DTSTAMP:20260424T043932Z
CREATED:20260424T043932Z
DTSTART:20191206T004000Z
DTEND:20191206T012000Z
LOCATION:Truist Out 3A
CONTACT:Henson
SUMMARY:07 Twins Gold VS. Cool Cats
DESCRIPTION:League Name: 19-20 COMP 13/14U GIRLS WS\nGame Type: Regular\nGa
 me Status: Complete\nHome Team: 07 Twins Gold\nAway Team: Cool Cats\nHome 
 Score: 8\nAway Score: 18
END:VEVENT
BEGIN:VEVENT
UID:12895988@ezleagues.ezfacility.com
DTSTAMP:20260424T043932Z
CREATED:20260424T043932Z
DTSTART:20191213T004000Z
DTEND:20191213T012000Z
LOCATION:Truist Out 3A
CONTACT:
SUMMARY:Blackout FC VS. Cool Cats
DESCRIPTION:League Name: 19-20 COMP 13/14U GIRLS WS\nGame Type: Regular\nGa
 me Status: Complete\nHome Team: Blackout FC\nAway Team: Cool Cats\nHome Sc
 ore: 1\nAway Score: 11
END:VEVENT
BEGIN:VEVENT
UID:12895991@ezleagues.ezfacility.com
DTSTAMP:20260424T043932Z
CREATED:20260424T043932Z
DTSTART:20191214T162000Z
DTEND:20191214T170000Z
LOCATION:Truist Out 3A
CONTACT:Fishel
SUMMARY:Cool Cats VS. 07 Twins Gold
DESCRIPTION:League Name: 19-20 COMP 13/14U GIRLS WS\nGame Type: Regular\nGa
 me Status: Complete\nHome Team: Cool Cats\nAway Team: 07 Twins Gold\nHome 
 Score: 14\nAway Score: 4
END:VEVENT
BEGIN:VEVENT
UID:12895990@ezleagues.ezfacility.com
DTSTAMP:20260424T043932Z
CREATED:20260424T043932Z
DTSTART:20191220T004000Z
DTEND:20191220T012000Z
LOCATION:Rise Indoor 1
CONTACT:Bayne
SUMMARY:Cool Cats VS. Royals
DESCRIPTION:League Name: 19-20 COMP 13/14U GIRLS WS\nGame Type: Regular\nGa
 me Status: Complete\nHome Team: Cool Cats\nAway Team: Royals\nHome Score: 
 14\nAway Score: 4
END:VEVENT
BEGIN:VEVENT
UID:12895994@ezleagues.ezfacility.com
DTSTAMP:20260424T043932Z
CREATED:20260424T043932Z
DTSTART:20200102T235000Z
DTEND:20200103T003000Z
LOCATION:Truist Out 3A
CONTACT:Gray
SUMMARY:Cool Cats VS. Blackout FC
DESCRIPTION:League Name: 19-20 COMP 13/14U GIRLS WS\nGame Type: Regular\nGa
 me Status: Complete\nHome Team: Cool Cats\nAway Team: Blackout FC\nHome Sc
 ore: 12\nAway Score: 2
END:VEVENT
BEGIN:VEVENT
UID:12895996@ezleagues.ezfacility.com
DTSTAMP:20260424T043932Z
CREATED:20260424T043932Z
DTSTART:20200110T000000Z
DTEND:20200110T004000Z
LOCATION:Truist Out 3A
CONTACT:Bayne
SUMMARY:Royals VS. Cool Cats
DESCRIPTION:League Name: 19-20 COMP 13/14U GIRLS WS\nGame Type: Regular\nGa
 me Status: Complete\nHome Team: Royals\nAway Team: Cool Cats\nHome Score: 
 3\nAway Score: 13
END:VEVENT
BEGIN:VEVENT
UID:12895997@ezleagues.ezfacility.com
DTSTAMP:20260424T043932Z
CREATED:20260424T043932Z
DTSTART:20200118T154000Z
DTEND:20200118T162000Z
LOCATION:Rise Indoor 1
CONTACT:Henson
SUMMARY:Cool Cats VS. Royals
DESCRIPTION:League Name: 19-20 COMP 13/14U GIRLS WS\nGame Type: Postseason\
 nGame Status: Complete\nHome Team: Cool Cats\nAway Team: Royals\nHome Scor
 e: 14\nAway Score: 4
END:VEVENT
BEGIN:VEVENT
UID:12895999@ezleagues.ezfacility.com
DTSTAMP:20260424T043932Z
CREATED:20260424T043932Z
DTSTART:20200125T180000Z
DTEND:20200125T184000Z
LOCATION:Rise Indoor 1
CONTACT:Fishel
SUMMARY:Cool Cats VS. Blackout FC
DESCRIPTION:League Name: 19-20 COMP 13/14U GIRLS WS\nGame Type: Postseason\
 nGame Status: Complete\nHome Team: Cool Cats\nAway Team: Blackout FC\nHome
  Score: 13\nAway Score: 3
END:VEVENT
END:VCALENDAR
