BEGIN:VCALENDAR
VERSION:2.0
PRODID:-//EZFacility.com, Inc.//EZL 2.5.5.28621
BEGIN:VEVENT
UID:12895986@ezleagues.ezfacility.com
DTSTAMP:20260426T033713Z
CREATED:20260426T033713Z
DTSTART:20191206T004000Z
DTEND:20191206T012000Z
LOCATION:Rise Indoor 1
CONTACT:Gray
SUMMARY:Royals VS. Blackout FC
DESCRIPTION:League Name: 19-20 COMP 13/14U GIRLS WS\nGame Type: Regular\nGa
 me Status: Complete\nHome Team: Royals\nAway Team: Blackout FC\nHome Score
 : 6\nAway Score: 13
END:VEVENT
BEGIN:VEVENT
UID:12895987@ezleagues.ezfacility.com
DTSTAMP:20260426T033713Z
CREATED:20260426T033713Z
DTSTART:20191213T004000Z
DTEND:20191213T012000Z
LOCATION:Rise Indoor 1
CONTACT:Fishel
SUMMARY:07 Twins Gold VS. Royals
DESCRIPTION:League Name: 19-20 COMP 13/14U GIRLS WS\nGame Type: Regular\nGa
 me Status: Complete\nHome Team: 07 Twins Gold\nAway Team: Royals\nHome Sco
 re: 12\nAway Score: 10
END:VEVENT
BEGIN:VEVENT
UID:12895992@ezleagues.ezfacility.com
DTSTAMP:20260426T033713Z
CREATED:20260426T033713Z
DTSTART:20191214T154000Z
DTEND:20191214T162000Z
LOCATION:Truist Out 3A
CONTACT:Gray
SUMMARY:Blackout FC VS. Royals
DESCRIPTION:League Name: 19-20 COMP 13/14U GIRLS WS\nGame Type: Regular\nGa
 me Status: Complete\nHome Team: Blackout FC\nAway Team: Royals\nHome Score
 : 18\nAway Score: 8
END:VEVENT
BEGIN:VEVENT
UID:12895990@ezleagues.ezfacility.com
DTSTAMP:20260426T033713Z
CREATED:20260426T033713Z
DTSTART:20191220T004000Z
DTEND:20191220T012000Z
LOCATION:Rise Indoor 1
CONTACT:Bayne
SUMMARY:Cool Cats VS. Royals
DESCRIPTION:League Name: 19-20 COMP 13/14U GIRLS WS\nGame Type: Regular\nGa
 me Status: Complete\nHome Team: Cool Cats\nAway Team: Royals\nHome Score: 
 14\nAway Score: 4
END:VEVENT
BEGIN:VEVENT
UID:12895993@ezleagues.ezfacility.com
DTSTAMP:20260426T033713Z
CREATED:20260426T033713Z
DTSTART:20200102T235000Z
DTEND:20200103T003000Z
LOCATION:Rise Indoor 1
CONTACT:Bayne
SUMMARY:Royals VS. 07 Twins Gold
DESCRIPTION:League Name: 19-20 COMP 13/14U GIRLS WS\nGame Type: Regular\nGa
 me Status: Complete\nHome Team: Royals\nAway Team: 07 Twins Gold\nHome Sco
 re: 10\nAway Score: 13
END:VEVENT
BEGIN:VEVENT
UID:12895996@ezleagues.ezfacility.com
DTSTAMP:20260426T033713Z
CREATED:20260426T033713Z
DTSTART:20200110T000000Z
DTEND:20200110T004000Z
LOCATION:Truist Out 3A
CONTACT:Bayne
SUMMARY:Royals VS. Cool Cats
DESCRIPTION:League Name: 19-20 COMP 13/14U GIRLS WS\nGame Type: Regular\nGa
 me Status: Complete\nHome Team: Royals\nAway Team: Cool Cats\nHome Score: 
 3\nAway Score: 13
END:VEVENT
BEGIN:VEVENT
UID:12895997@ezleagues.ezfacility.com
DTSTAMP:20260426T033713Z
CREATED:20260426T033713Z
DTSTART:20200118T154000Z
DTEND:20200118T162000Z
LOCATION:Rise Indoor 1
CONTACT:Henson
SUMMARY:Cool Cats VS. Royals
DESCRIPTION:League Name: 19-20 COMP 13/14U GIRLS WS\nGame Type: Postseason\
 nGame Status: Complete\nHome Team: Cool Cats\nAway Team: Royals\nHome Scor
 e: 14\nAway Score: 4
END:VEVENT
BEGIN:VEVENT
UID:12896000@ezleagues.ezfacility.com
DTSTAMP:20260426T033713Z
CREATED:20260426T033713Z
DTSTART:20200125T120000Z
DTEND:20200125T124000Z
LOCATION:Truist Out 3A
CONTACT:
SUMMARY:Royals VS. 07 Twins Gold
DESCRIPTION:League Name: 19-20 COMP 13/14U GIRLS WS\nGame Type: Postseason\
 nGame Status: Complete\nHome Team: Royals\nAway Team: 07 Twins Gold\nHome 
 Score: 0\nAway Score: 0
END:VEVENT
END:VCALENDAR
