BEGIN:VCALENDAR
VERSION:2.0
PRODID:-//EZFacility.com, Inc.//EZL 2.5.5.28621
BEGIN:VEVENT
UID:12907779@ezleagues.ezfacility.com
DTSTAMP:20260422T192622Z
CREATED:20260422T192622Z
DTSTART:20191214T120000Z
DTEND:20191214T124500Z
LOCATION:VA Army National Guard Field 2
CONTACT:Portillo
SUMMARY:Sampson Soccer VS. Soja FC A
DESCRIPTION:League Name: Winter 1, 2019, U15 Boys\nGame Type: Regular\nGame
  Status: Complete\nHome Team: Sampson Soccer\nAway Team: Soja FC A\nHome S
 core: 0\nAway Score: 3
END:VEVENT
BEGIN:VEVENT
UID:12907782@ezleagues.ezfacility.com
DTSTAMP:20260422T192622Z
CREATED:20260422T192622Z
DTSTART:20191222T010000Z
DTEND:20191222T014500Z
LOCATION:VA Army National Guard Field 2
CONTACT:Fated
SUMMARY:Sampson Soccer VS. Soja FC B
DESCRIPTION:League Name: Winter 1, 2019, U15 Boys\nGame Type: Regular\nGame
  Status: Complete\nHome Team: Sampson Soccer\nAway Team: Soja FC B\nHome S
 core: 14\nAway Score: 2
END:VEVENT
BEGIN:VEVENT
UID:12898585@ezleagues.ezfacility.com
DTSTAMP:20260422T192622Z
CREATED:20260422T192622Z
DTSTART:20191228T184500Z
DTEND:20191228T193000Z
LOCATION: Field 3
CONTACT:Fated
SUMMARY:Sampson Soccer VS. Prince William Courage
DESCRIPTION:League Name: Winter 1, 2019, U15 Boys\nGame Type: Regular\nGame
  Status: Complete\nHome Team: Sampson Soccer\nAway Team: Prince William Co
 urage\nHome Score: 13\nAway Score: 0
END:VEVENT
BEGIN:VEVENT
UID:12907785@ezleagues.ezfacility.com
DTSTAMP:20260422T192622Z
CREATED:20260422T192622Z
DTSTART:20191228T230000Z
DTEND:20191228T234500Z
LOCATION:Field 1
CONTACT:Portillo
SUMMARY:Sampson Soccer VS. LOCO FC
DESCRIPTION:League Name: Winter 1, 2019, U15 Boys\nGame Type: Regular\nGame
  Status: Complete\nHome Team: Sampson Soccer\nAway Team: LOCO FC\nHome Sco
 re: 6\nAway Score: 3
END:VEVENT
BEGIN:VEVENT
UID:12907788@ezleagues.ezfacility.com
DTSTAMP:20260422T192622Z
CREATED:20260422T192622Z
DTSTART:20200104T223000Z
DTEND:20200104T231500Z
LOCATION:Field 1
CONTACT:Fated
SUMMARY:Sampson Soccer VS. FC Dulles '05
DESCRIPTION:League Name: Winter 1, 2019, U15 Boys\nGame Type: Regular\nGame
  Status: Complete\nHome Team: Sampson Soccer\nAway Team: FC Dulles '05\nHo
 me Score: 6\nAway Score: 4
END:VEVENT
BEGIN:VEVENT
UID:12907791@ezleagues.ezfacility.com
DTSTAMP:20260422T192622Z
CREATED:20260422T192622Z
DTSTART:20200112T141500Z
DTEND:20200112T150000Z
LOCATION:Field 1
CONTACT:Martinez
SUMMARY:Sampson Soccer VS. Prince William Courage
DESCRIPTION:League Name: Winter 1, 2019, U15 Boys\nGame Type: Postseason\nG
 ame Status: Complete\nHome Team: Sampson Soccer\nAway Team: Prince William
  Courage\nHome Score: 18\nAway Score: 3
END:VEVENT
BEGIN:VEVENT
UID:12907797@ezleagues.ezfacility.com
DTSTAMP:20260422T192622Z
CREATED:20260422T192622Z
DTSTART:20200126T160000Z
DTEND:20200126T164500Z
LOCATION:VA Army National Guard Field 2
CONTACT:Hash
SUMMARY:LOCO FC VS. Sampson Soccer
DESCRIPTION:League Name: Winter 1, 2019, U15 Boys\nGame Type: Postseason\nG
 ame Status: Complete\nHome Team: LOCO FC\nAway Team: Sampson Soccer\nHome 
 Score: 4\nAway Score: 3
END:VEVENT
END:VCALENDAR
