BEGIN:VCALENDAR
VERSION:2.0
PRODID:-//EZFacility.com, Inc.//EZL 2.5.5.28621
BEGIN:VEVENT
UID:12898587@ezleagues.ezfacility.com
DTSTAMP:20260422T104051Z
CREATED:20260422T104051Z
DTSTART:20191207T120000Z
DTEND:20191207T124500Z
LOCATION:VA Army National Guard Field 2
CONTACT:
SUMMARY:Soja FC B VS. LOCO FC
DESCRIPTION:League Name: Winter 1, 2019, U15 Boys\nGame Type: Regular\nGame
  Status: Complete\nHome Team: Soja FC B\nAway Team: LOCO FC\nHome Score: 0
 \nAway Score: 16
END:VEVENT
BEGIN:VEVENT
UID:12907781@ezleagues.ezfacility.com
DTSTAMP:20260422T104051Z
CREATED:20260422T104051Z
DTSTART:20191214T120000Z
DTEND:20191214T124500Z
LOCATION: Field 3
CONTACT:Fated
SUMMARY:LOCO FC VS. FC Dulles '05
DESCRIPTION:League Name: Winter 1, 2019, U15 Boys\nGame Type: Regular\nGame
  Status: Complete\nHome Team: LOCO FC\nAway Team: FC Dulles '05\nHome Scor
 e: 6\nAway Score: 5
END:VEVENT
BEGIN:VEVENT
UID:12907783@ezleagues.ezfacility.com
DTSTAMP:20260422T104051Z
CREATED:20260422T104051Z
DTSTART:20191222T221000Z
DTEND:20191222T225500Z
LOCATION:VA Army National Guard Field 2
CONTACT:Portillo
SUMMARY:LOCO FC VS. Soja FC A
DESCRIPTION:League Name: Winter 1, 2019, U15 Boys\nGame Type: Regular\nGame
  Status: Complete\nHome Team: LOCO FC\nAway Team: Soja FC A\nHome Score: 2
 0\nAway Score: 7
END:VEVENT
BEGIN:VEVENT
UID:12907785@ezleagues.ezfacility.com
DTSTAMP:20260422T104051Z
CREATED:20260422T104051Z
DTSTART:20191228T230000Z
DTEND:20191228T234500Z
LOCATION:Field 1
CONTACT:Portillo
SUMMARY:Sampson Soccer VS. LOCO FC
DESCRIPTION:League Name: Winter 1, 2019, U15 Boys\nGame Type: Regular\nGame
  Status: Complete\nHome Team: Sampson Soccer\nAway Team: LOCO FC\nHome Sco
 re: 6\nAway Score: 3
END:VEVENT
BEGIN:VEVENT
UID:12907789@ezleagues.ezfacility.com
DTSTAMP:20260422T104051Z
CREATED:20260422T104051Z
DTSTART:20200105T170000Z
DTEND:20200105T174500Z
LOCATION: Field 3
CONTACT:Martinez
SUMMARY:LOCO FC VS. Prince William Courage
DESCRIPTION:League Name: Winter 1, 2019, U15 Boys\nGame Type: Regular\nGame
  Status: Complete\nHome Team: LOCO FC\nAway Team: Prince William Courage\n
 Home Score: 18\nAway Score: 1
END:VEVENT
BEGIN:VEVENT
UID:12907793@ezleagues.ezfacility.com
DTSTAMP:20260422T104051Z
CREATED:20260422T104051Z
DTSTART:20200112T160000Z
DTEND:20200112T164500Z
LOCATION:VA Army National Guard Field 2
CONTACT:Hash
SUMMARY:LOCO FC VS. FC Dulles '05
DESCRIPTION:League Name: Winter 1, 2019, U15 Boys\nGame Type: Postseason\nG
 ame Status: Complete\nHome Team: LOCO FC\nAway Team: FC Dulles '05\nHome S
 core: 9\nAway Score: 6
END:VEVENT
BEGIN:VEVENT
UID:12907797@ezleagues.ezfacility.com
DTSTAMP:20260422T104051Z
CREATED:20260422T104051Z
DTSTART:20200126T160000Z
DTEND:20200126T164500Z
LOCATION:VA Army National Guard Field 2
CONTACT:Hash
SUMMARY:LOCO FC VS. Sampson Soccer
DESCRIPTION:League Name: Winter 1, 2019, U15 Boys\nGame Type: Postseason\nG
 ame Status: Complete\nHome Team: LOCO FC\nAway Team: Sampson Soccer\nHome 
 Score: 4\nAway Score: 3
END:VEVENT
END:VCALENDAR
