BEGIN:VCALENDAR
VERSION:2.0
PRODID:-//EZFacility.com, Inc.//EZL 2.5.5.28621
BEGIN:VEVENT
UID:12907779@ezleagues.ezfacility.com
DTSTAMP:20260426T035000Z
CREATED:20260426T035000Z
DTSTART:20191214T120000Z
DTEND:20191214T124500Z
LOCATION:VA Army National Guard Field 2
CONTACT:Portillo
SUMMARY:Sampson Soccer VS. Soja FC A
DESCRIPTION:League Name: Winter 1, 2019, U15 Boys\nGame Type: Regular\nGame
  Status: Complete\nHome Team: Sampson Soccer\nAway Team: Soja FC A\nHome S
 core: 0\nAway Score: 3
END:VEVENT
BEGIN:VEVENT
UID:12907783@ezleagues.ezfacility.com
DTSTAMP:20260426T035000Z
CREATED:20260426T035000Z
DTSTART:20191222T221000Z
DTEND:20191222T225500Z
LOCATION:VA Army National Guard Field 2
CONTACT:Portillo
SUMMARY:LOCO FC VS. Soja FC A
DESCRIPTION:League Name: Winter 1, 2019, U15 Boys\nGame Type: Regular\nGame
  Status: Complete\nHome Team: LOCO FC\nAway Team: Soja FC A\nHome Score: 2
 0\nAway Score: 7
END:VEVENT
BEGIN:VEVENT
UID:12898586@ezleagues.ezfacility.com
DTSTAMP:20260426T035000Z
CREATED:20260426T035000Z
DTSTART:20191228T193000Z
DTEND:20191228T201500Z
LOCATION: Field 3
CONTACT:Fated
SUMMARY:Soja FC A VS. FC Dulles '05
DESCRIPTION:League Name: Winter 1, 2019, U15 Boys\nGame Type: Regular\nGame
  Status: Complete\nHome Team: Soja FC A\nAway Team: FC Dulles '05\nHome Sc
 ore: 2\nAway Score: 16
END:VEVENT
BEGIN:VEVENT
UID:12907787@ezleagues.ezfacility.com
DTSTAMP:20260426T035000Z
CREATED:20260426T035000Z
DTSTART:20191228T221500Z
DTEND:20191228T230000Z
LOCATION:Field 1
CONTACT:Portillo
SUMMARY:Soja FC A VS. Prince William Courage
DESCRIPTION:League Name: Winter 1, 2019, U15 Boys\nGame Type: Regular\nGame
  Status: Complete\nHome Team: Soja FC A\nAway Team: Prince William Courage
 \nHome Score: 3\nAway Score: 7
END:VEVENT
BEGIN:VEVENT
UID:12907790@ezleagues.ezfacility.com
DTSTAMP:20260426T035000Z
CREATED:20260426T035000Z
DTSTART:20200105T221000Z
DTEND:20200105T225500Z
LOCATION:Field 1
CONTACT:
SUMMARY:Soja FC B VS. Soja FC A
DESCRIPTION:League Name: Winter 1, 2019, U15 Boys\nGame Type: Regular\nGame
  Status: Complete\nHome Team: Soja FC B\nAway Team: Soja FC A\nHome Score:
  9\nAway Score: 8
END:VEVENT
BEGIN:VEVENT
UID:12907792@ezleagues.ezfacility.com
DTSTAMP:20260426T035000Z
CREATED:20260426T035000Z
DTSTART:20200112T171000Z
DTEND:20200112T175500Z
LOCATION: Field 3
CONTACT:Hash
SUMMARY:Soja FC A VS. Soja FC B
DESCRIPTION:League Name: Winter 1, 2019, U15 Boys\nGame Type: Postseason\nG
 ame Status: Complete\nHome Team: Soja FC A\nAway Team: Soja FC B\nHome Sco
 re: 3\nAway Score: 3
END:VEVENT
BEGIN:VEVENT
UID:12907798@ezleagues.ezfacility.com
DTSTAMP:20260426T035000Z
CREATED:20260426T035000Z
DTSTART:20200126T132000Z
DTEND:20200126T140500Z
LOCATION:Field 1
CONTACT:
SUMMARY:FC Dulles '05 VS. Soja FC A
DESCRIPTION:League Name: Winter 1, 2019, U15 Boys\nGame Type: Postseason\nG
 ame Status: Complete\nHome Team: FC Dulles '05\nAway Team: Soja FC A\nHome
  Score: 3\nAway Score: 0
END:VEVENT
END:VCALENDAR
