BEGIN:VCALENDAR
VERSION:2.0
PRODID:-//EZFacility.com, Inc.//EZL 2.5.5.28621
BEGIN:VEVENT
UID:12902726@ezleagues.ezfacility.com
DTSTAMP:20260424T101252Z
CREATED:20260424T101252Z
DTSTART:20191206T005500Z
DTEND:20191206T014500Z
LOCATION:Sand Court 1
CONTACT:
SUMMARY:Bumpin Uglies VS. DomiNETrixes
DESCRIPTION:League Name: Thursday Sand Co-ed 6's UB/B Winter 20\nGame Type:
  Regular\nGame Status: Complete\nHome Team: Bumpin Uglies\nAway Team: Domi
 NETrixes\nHome Score: 3\nAway Score: 0
END:VEVENT
BEGIN:VEVENT
UID:12902729@ezleagues.ezfacility.com
DTSTAMP:20260424T101252Z
CREATED:20260424T101252Z
DTSTART:20191213T005500Z
DTEND:20191213T014500Z
LOCATION:Sand Court 1
CONTACT:
SUMMARY:DomiNETrixes VS. Sandy Zips
DESCRIPTION:League Name: Thursday Sand Co-ed 6's UB/B Winter 20\nGame Type:
  Regular\nGame Status: Complete\nHome Team: DomiNETrixes\nAway Team: Sandy
  Zips\nHome Score: 2\nAway Score: 1
END:VEVENT
BEGIN:VEVENT
UID:12902737@ezleagues.ezfacility.com
DTSTAMP:20260424T101252Z
CREATED:20260424T101252Z
DTSTART:20191219T231500Z
DTEND:20191220T000500Z
LOCATION:Sand Court 1
CONTACT:
SUMMARY:DomiNETrixes VS. Washed up Rebels
DESCRIPTION:League Name: Thursday Sand Co-ed 6's UB/B Winter 20\nGame Type:
  Regular\nGame Status: Complete\nHome Team: DomiNETrixes\nAway Team: Washe
 d up Rebels\nHome Score: 2\nAway Score: 1
END:VEVENT
BEGIN:VEVENT
UID:12902748@ezleagues.ezfacility.com
DTSTAMP:20260424T101252Z
CREATED:20260424T101252Z
DTSTART:20200102T231500Z
DTEND:20200103T000500Z
LOCATION:Sand Court 1
CONTACT:
SUMMARY:DomiNETrixes VS. Das Boot
DESCRIPTION:League Name: Thursday Sand Co-ed 6's UB/B Winter 20\nGame Type:
  Regular\nGame Status: Complete\nHome Team: DomiNETrixes\nAway Team: Das B
 oot\nHome Score: 0\nAway Score: 3
END:VEVENT
BEGIN:VEVENT
UID:12902753@ezleagues.ezfacility.com
DTSTAMP:20260424T101252Z
CREATED:20260424T101252Z
DTSTART:20200109T231500Z
DTEND:20200110T000500Z
LOCATION:Sand Court 1
CONTACT:
SUMMARY:JR Outlaws VS. DomiNETrixes
DESCRIPTION:League Name: Thursday Sand Co-ed 6's UB/B Winter 20\nGame Type:
  Regular\nGame Status: Complete\nHome Team: JR Outlaws\nAway Team: DomiNET
 rixes\nHome Score: 2\nAway Score: 1
END:VEVENT
BEGIN:VEVENT
UID:12902758@ezleagues.ezfacility.com
DTSTAMP:20260424T101252Z
CREATED:20260424T101252Z
DTSTART:20200117T014500Z
DTEND:20200117T023500Z
LOCATION:Sand Court 1
CONTACT:
SUMMARY:Volley My Balls VS. DomiNETrixes
DESCRIPTION:League Name: Thursday Sand Co-ed 6's UB/B Winter 20\nGame Type:
  Regular\nGame Status: Complete\nHome Team: Volley My Balls\nAway Team: Do
 miNETrixes\nHome Score: 1\nAway Score: 2
END:VEVENT
BEGIN:VEVENT
UID:12902759@ezleagues.ezfacility.com
DTSTAMP:20260424T101252Z
CREATED:20260424T101252Z
DTSTART:20200124T005500Z
DTEND:20200124T014500Z
LOCATION:Sand Court 1
CONTACT:
SUMMARY:The Ol' Two Finger VS. DomiNETrixes
DESCRIPTION:League Name: Thursday Sand Co-ed 6's UB/B Winter 20\nGame Type:
  Regular\nGame Status: Complete\nHome Team: The Ol' Two Finger\nAway Team:
  DomiNETrixes\nHome Score: 2\nAway Score: 1
END:VEVENT
BEGIN:VEVENT
UID:12902766@ezleagues.ezfacility.com
DTSTAMP:20260424T101252Z
CREATED:20260424T101252Z
DTSTART:20200131T000500Z
DTEND:20200131T005500Z
LOCATION:Sand Court 1
CONTACT:
SUMMARY:Fight Like Mike VS. DomiNETrixes
DESCRIPTION:League Name: Thursday Sand Co-ed 6's UB/B Winter 20\nGame Type:
  Regular\nGame Status: Complete\nHome Team: Fight Like Mike\nAway Team: Do
 miNETrixes\nHome Score: 2\nAway Score: 1
END:VEVENT
BEGIN:VEVENT
UID:12902742@ezleagues.ezfacility.com
DTSTAMP:20260424T101252Z
CREATED:20260424T101252Z
DTSTART:20200207T014500Z
DTEND:20200207T023500Z
LOCATION:Sand Court 1
CONTACT:
SUMMARY:DomiNETrixes VS. Notorious DIG
DESCRIPTION:League Name: Thursday Sand Co-ed 6's UB/B Winter 20\nGame Type:
  Regular\nGame Status: Complete\nHome Team: DomiNETrixes\nAway Team: Notor
 ious DIG\nHome Score: 2\nAway Score: 1
END:VEVENT
BEGIN:VEVENT
UID:13049342@ezleagues.ezfacility.com
DTSTAMP:20260424T101252Z
CREATED:20260424T101252Z
DTSTART:20200213T233000Z
DTEND:20200214T002000Z
LOCATION:Sand Court 1
CONTACT:
SUMMARY:DomiNETrixes VS. Washed up Rebels
DESCRIPTION:League Name: Thursday Sand Co-ed 6's UB/B Winter 20\nGame Type:
  Postseason\nGame Status: Complete\nHome Team: DomiNETrixes\nAway Team: Wa
 shed up Rebels\nHome Score: 2\nAway Score: 0
END:VEVENT
BEGIN:VEVENT
UID:13107815@ezleagues.ezfacility.com
DTSTAMP:20260424T101252Z
CREATED:20260424T101252Z
DTSTART:20200220T231500Z
DTEND:20200221T000500Z
LOCATION:Sand Court 1
CONTACT:
SUMMARY:Das Boot VS. DomiNETrixes
DESCRIPTION:League Name: Thursday Sand Co-ed 6's UB/B Winter 20\nGame Type:
  Postseason\nGame Status: Complete\nHome Team: Das Boot\nAway Team: DomiNE
 Trixes\nHome Score: 2\nAway Score: 1
END:VEVENT
END:VCALENDAR
