BEGIN:VCALENDAR
VERSION:2.0
PRODID:-//EZFacility.com, Inc.//EZL 2.5.5.28621
BEGIN:VEVENT
UID:12865198@ezleagues.ezfacility.com
DTSTAMP:20260426T034104Z
CREATED:20260426T034104Z
DTSTART:20191121T020000Z
DTEND:20191121T030000Z
LOCATION:Field 1
CONTACT:
SUMMARY:Leak City FC VS. DEPORTIVO ROMA
DESCRIPTION:League Name: Mon/Tues/Wed/Thurs - Men's League (Winter 1)-Divis
 ion 3-CENTRAL DIVISION\nGame Type: Regular\nGame Status: Complete\nHome Te
 am: Leak City FC\nAway Team: DEPORTIVO ROMA\nHome Score: 3\nAway Score: 5
END:VEVENT
BEGIN:VEVENT
UID:12865201@ezleagues.ezfacility.com
DTSTAMP:20260426T034104Z
CREATED:20260426T034104Z
DTSTART:20191210T040000Z
DTEND:20191210T050000Z
LOCATION:Field 2
CONTACT:
SUMMARY:Leak City FC VS. Olympico
DESCRIPTION:League Name: Mon/Tues/Wed/Thurs - Men's League (Winter 1)-Divis
 ion 3-CENTRAL DIVISION\nGame Type: Regular\nGame Status: Complete\nHome Te
 am: Leak City FC\nAway Team: Olympico\nHome Score: 7\nAway Score: 7
END:VEVENT
BEGIN:VEVENT
UID:12865210@ezleagues.ezfacility.com
DTSTAMP:20260426T034104Z
CREATED:20260426T034104Z
DTSTART:20191219T030000Z
DTEND:20191219T040000Z
LOCATION:Field 1
CONTACT:
SUMMARY:Sanky Panky VS. Leak City FC
DESCRIPTION:League Name: Mon/Tues/Wed/Thurs - Men's League (Winter 1)-Divis
 ion 3-CENTRAL DIVISION\nGame Type: Regular\nGame Status: Complete\nHome Te
 am: Sanky Panky\nAway Team: Leak City FC\nHome Score: 7\nAway Score: 6
END:VEVENT
BEGIN:VEVENT
UID:12865204@ezleagues.ezfacility.com
DTSTAMP:20260426T034104Z
CREATED:20260426T034104Z
DTSTART:20191227T000000Z
DTEND:20191227T010000Z
LOCATION:Field 2
CONTACT:
SUMMARY:Deportivo Pacheco VS. Leak City FC
DESCRIPTION:League Name: Mon/Tues/Wed/Thurs - Men's League (Winter 1)-Divis
 ion 3-CENTRAL DIVISION\nGame Type: Regular\nGame Status: Complete\nHome Te
 am: Deportivo Pacheco\nAway Team: Leak City FC\nHome Score: 10\nAway Score
 : 2
END:VEVENT
BEGIN:VEVENT
UID:12889521@ezleagues.ezfacility.com
DTSTAMP:20260426T034104Z
CREATED:20260426T034104Z
DTSTART:20200102T030000Z
DTEND:20200102T040000Z
LOCATION:Field 2
CONTACT:
SUMMARY:Penarol VS. Leak City FC
DESCRIPTION:League Name: Mon/Tues/Wed/Thurs - Men's League (Winter 1)-Divis
 ion 3-CENTRAL DIVISION\nGame Type: Regular\nGame Status: Complete\nHome Te
 am: Penarol\nAway Team: Leak City FC\nHome Score: 9\nAway Score: 5
END:VEVENT
BEGIN:VEVENT
UID:12889523@ezleagues.ezfacility.com
DTSTAMP:20260426T034104Z
CREATED:20260426T034104Z
DTSTART:20200107T020000Z
DTEND:20200107T030000Z
LOCATION:Field 2
CONTACT:
SUMMARY:TBD PATRIC VS. Leak City FC
DESCRIPTION:League Name: Mon/Tues/Wed/Thurs - Men's League (Winter 1)-Divis
 ion 3-CENTRAL DIVISION\nGame Type: Regular\nGame Status: Complete\nHome Te
 am: TBD PATRIC\nAway Team: Leak City FC\nHome Score: 7\nAway Score: 6
END:VEVENT
BEGIN:VEVENT
UID:13004447@ezleagues.ezfacility.com
DTSTAMP:20260426T034104Z
CREATED:20260426T034104Z
DTSTART:20200115T040000Z
DTEND:20200115T050000Z
LOCATION:Field 2
CONTACT:
SUMMARY:Olympico VS. Leak City FC
DESCRIPTION:League Name: Mon/Tues/Wed/Thurs - Men's League (Winter 1)-Divis
 ion 3-CENTRAL DIVISION\nGame Type: Postseason\nGame Status: Complete\nHome
  Team: Olympico\nAway Team: Leak City FC\nHome Score: 0\nAway Score: 0
END:VEVENT
END:VCALENDAR
