BEGIN:VCALENDAR
VERSION:2.0
PRODID:-//EZFacility.com, Inc.//EZL 2.5.5.28621
BEGIN:VEVENT
UID:12978580@ezleagues.ezfacility.com
DTSTAMP:20260424T044002Z
CREATED:20260424T044002Z
DTSTART:20200108T010000Z
DTEND:20200108T020000Z
LOCATION:Rink 1
CONTACT:
SUMMARY:Bastards VS. Nature Boys
DESCRIPTION:League Name: Tuesday Roller Hockey (B/C Mixed) EAST\nGame Type:
  Regular\nGame Status: Complete\nHome Team: Bastards\nAway Team: Nature Bo
 ys\nHome Score: 7\nAway Score: 3
END:VEVENT
BEGIN:VEVENT
UID:13023137@ezleagues.ezfacility.com
DTSTAMP:20260424T044002Z
CREATED:20260424T044002Z
DTSTART:20200115T020000Z
DTEND:20200115T030000Z
LOCATION:Rink 1
CONTACT:
SUMMARY:Hollywood VS. Bastards
DESCRIPTION:League Name: Tuesday Roller Hockey (B/C Mixed) EAST\nGame Type:
  Regular\nGame Status: Complete\nHome Team: Hollywood\nAway Team: Bastards
 \nHome Score: 1\nAway Score: 2
END:VEVENT
BEGIN:VEVENT
UID:13042488@ezleagues.ezfacility.com
DTSTAMP:20260424T044002Z
CREATED:20260424T044002Z
DTSTART:20200122T030000Z
DTEND:20200122T040000Z
LOCATION:Rink 1
CONTACT:
SUMMARY:Silverbacks VS. Bastards
DESCRIPTION:League Name: Tuesday Roller Hockey (B/C Mixed) EAST\nGame Type:
  Regular\nGame Status: Complete\nHome Team: Silverbacks\nAway Team: Bastar
 ds\nHome Score: 0\nAway Score: 5
END:VEVENT
BEGIN:VEVENT
UID:13042491@ezleagues.ezfacility.com
DTSTAMP:20260424T044002Z
CREATED:20260424T044002Z
DTSTART:20200129T000000Z
DTEND:20200129T010000Z
LOCATION:Rink 1
CONTACT:
SUMMARY:Bastards VS. Puck Nasty
DESCRIPTION:League Name: Tuesday Roller Hockey (B/C Mixed) EAST\nGame Type:
  Regular\nGame Status: Complete\nHome Team: Bastards\nAway Team: Puck Nast
 y\nHome Score: 12\nAway Score: 0
END:VEVENT
BEGIN:VEVENT
UID:13042860@ezleagues.ezfacility.com
DTSTAMP:20260424T044002Z
CREATED:20260424T044002Z
DTSTART:20200205T000000Z
DTEND:20200205T010000Z
LOCATION:Rink 1
CONTACT:
SUMMARY:Bastards VS. Silverbacks
DESCRIPTION:League Name: Tuesday Roller Hockey (B/C Mixed) EAST\nGame Type:
  Regular\nGame Status: Complete\nHome Team: Bastards\nAway Team: Silverbac
 ks\nHome Score: 7\nAway Score: 2
END:VEVENT
BEGIN:VEVENT
UID:13042862@ezleagues.ezfacility.com
DTSTAMP:20260424T044002Z
CREATED:20260424T044002Z
DTSTART:20200205T010000Z
DTEND:20200205T020000Z
LOCATION:Rink 1
CONTACT:
SUMMARY:Bastards VS. Top Shelf Boys
DESCRIPTION:League Name: Tuesday Roller Hockey (B/C Mixed) EAST\nGame Type:
  Regular\nGame Status: Complete\nHome Team: Bastards\nAway Team: Top Shelf
  Boys\nHome Score: 9\nAway Score: 4
END:VEVENT
BEGIN:VEVENT
UID:13042873@ezleagues.ezfacility.com
DTSTAMP:20260424T044002Z
CREATED:20260424T044002Z
DTSTART:20200212T030000Z
DTEND:20200212T040000Z
LOCATION:Rink 1
CONTACT:
SUMMARY:Nature Boys VS. Bastards
DESCRIPTION:League Name: Tuesday Roller Hockey (B/C Mixed) EAST\nGame Type:
  Regular\nGame Status: Complete\nHome Team: Nature Boys\nAway Team: Bastar
 ds\nHome Score: 5\nAway Score: 0
END:VEVENT
BEGIN:VEVENT
UID:13042875@ezleagues.ezfacility.com
DTSTAMP:20260424T044002Z
CREATED:20260424T044002Z
DTSTART:20200219T010000Z
DTEND:20200219T020000Z
LOCATION:Rink 1
CONTACT:
SUMMARY:Bastards VS. Hollywood
DESCRIPTION:League Name: Tuesday Roller Hockey (B/C Mixed) EAST\nGame Type:
  Regular\nGame Status: Complete\nHome Team: Bastards\nAway Team: Hollywood
 \nHome Score: 3\nAway Score: 10
END:VEVENT
BEGIN:VEVENT
UID:13042880@ezleagues.ezfacility.com
DTSTAMP:20260424T044002Z
CREATED:20260424T044002Z
DTSTART:20200226T020000Z
DTEND:20200226T030000Z
LOCATION:Rink 1
CONTACT:
SUMMARY:Top Shelf Boys VS. Bastards
DESCRIPTION:League Name: Tuesday Roller Hockey (B/C Mixed) EAST\nGame Type:
  Regular\nGame Status: Complete\nHome Team: Top Shelf Boys\nAway Team: Bas
 tards\nHome Score: 3\nAway Score: 6
END:VEVENT
BEGIN:VEVENT
UID:13042883@ezleagues.ezfacility.com
DTSTAMP:20260424T044002Z
CREATED:20260424T044002Z
DTSTART:20200304T000000Z
DTEND:20200304T010000Z
LOCATION:Rink 1
CONTACT:
SUMMARY:THE A-TEAM VS. Bastards
DESCRIPTION:League Name: Tuesday Roller Hockey (B/C Mixed) EAST\nGame Type:
  Regular\nGame Status: Complete\nHome Team: THE A-TEAM\nAway Team: Bastard
 s\nHome Score: 3\nAway Score: 2
END:VEVENT
BEGIN:VEVENT
UID:13157560@ezleagues.ezfacility.com
DTSTAMP:20260424T044002Z
CREATED:20260424T044002Z
DTSTART:20200311T000000Z
DTEND:20200311T010000Z
LOCATION:Rink 1
CONTACT:
SUMMARY:Bastards VS. Top Shelf Boys
DESCRIPTION:League Name: Tuesday Roller Hockey (B/C Mixed) EAST\nGame Type:
  Postseason\nGame Status: Complete\nHome Team: Bastards\nAway Team: Top Sh
 elf Boys\nHome Score: 9\nAway Score: 2
END:VEVENT
BEGIN:VEVENT
UID:13330530@ezleagues.ezfacility.com
DTSTAMP:20260424T044002Z
CREATED:20260424T044002Z
DTSTART:20200930T000000Z
DTEND:20200930T010000Z
LOCATION:Rink 1
CONTACT:
SUMMARY:Bastards VS. Nature Boys
DESCRIPTION:League Name: Tuesday Roller Hockey (B/C Mixed) EAST\nGame Type:
  Postseason\nGame Status: Complete\nHome Team: Bastards\nAway Team: Nature
  Boys\nHome Score: 7\nAway Score: 0
END:VEVENT
BEGIN:VEVENT
UID:13344024@ezleagues.ezfacility.com
DTSTAMP:20260424T044002Z
CREATED:20260424T044002Z
DTSTART:20201007T000000Z
DTEND:20201007T010000Z
LOCATION:Rink 1
CONTACT:
SUMMARY:THE A-TEAM VS. Bastards
DESCRIPTION:League Name: Tuesday Roller Hockey (B/C Mixed) EAST\nGame Type:
  Postseason\nGame Status: Complete\nHome Team: THE A-TEAM\nAway Team: Bast
 ards\nHome Score: 2\nAway Score: 3
END:VEVENT
END:VCALENDAR
