BEGIN:VCALENDAR
VERSION:2.0
PRODID:-//EZFacility.com, Inc.//EZL 2.5.5.28621
BEGIN:VEVENT
UID:12916798@ezleagues.ezfacility.com
DTSTAMP:20260424T044244Z
CREATED:20260424T044244Z
DTSTART:20191219T010000Z
DTEND:20191219T020000Z
LOCATION:Rink 1
CONTACT:
SUMMARY:Team Antunes VS. Team Pinheiro
DESCRIPTION:League Name: Wednesday Roller Hockey (A/B Mixed)\nGame Type: Re
 gular\nGame Status: Complete\nHome Team: Team Antunes\nAway Team: Team Pin
 heiro\nHome Score: 5\nAway Score: 6
END:VEVENT
BEGIN:VEVENT
UID:12916800@ezleagues.ezfacility.com
DTSTAMP:20260424T044244Z
CREATED:20260424T044244Z
DTSTART:20191219T020000Z
DTEND:20191219T030000Z
LOCATION:Rink 1
CONTACT:
SUMMARY:Team Lavoie VS. Team Pinheiro
DESCRIPTION:League Name: Wednesday Roller Hockey (A/B Mixed)\nGame Type: Re
 gular\nGame Status: Complete\nHome Team: Team Lavoie\nAway Team: Team Pinh
 eiro\nHome Score: 3\nAway Score: 13
END:VEVENT
BEGIN:VEVENT
UID:12991885@ezleagues.ezfacility.com
DTSTAMP:20260424T044244Z
CREATED:20260424T044244Z
DTSTART:20200109T010000Z
DTEND:20200109T020000Z
LOCATION:Rink 1
CONTACT:
SUMMARY:Team Pinheiro VS. Team Lavoie
DESCRIPTION:League Name: Wednesday Roller Hockey (A/B Mixed)\nGame Type: Re
 gular\nGame Status: Complete\nHome Team: Team Pinheiro\nAway Team: Team La
 voie\nHome Score: 6\nAway Score: 0
END:VEVENT
BEGIN:VEVENT
UID:12991984@ezleagues.ezfacility.com
DTSTAMP:20260424T044244Z
CREATED:20260424T044244Z
DTSTART:20200116T010000Z
DTEND:20200116T020000Z
LOCATION:Rink 1
CONTACT:
SUMMARY:Team Antunes VS. Team Pinheiro
DESCRIPTION:League Name: Wednesday Roller Hockey (A/B Mixed)\nGame Type: Re
 gular\nGame Status: Complete\nHome Team: Team Antunes\nAway Team: Team Pin
 heiro\nHome Score: 4\nAway Score: 8
END:VEVENT
BEGIN:VEVENT
UID:12992114@ezleagues.ezfacility.com
DTSTAMP:20260424T044244Z
CREATED:20260424T044244Z
DTSTART:20200123T010000Z
DTEND:20200123T020000Z
LOCATION:Rink 1
CONTACT:
SUMMARY:Team Pinheiro VS. Team Antunes
DESCRIPTION:League Name: Wednesday Roller Hockey (A/B Mixed)\nGame Type: Re
 gular\nGame Status: Complete\nHome Team: Team Pinheiro\nAway Team: Team An
 tunes\nHome Score: 11\nAway Score: 4
END:VEVENT
BEGIN:VEVENT
UID:12992113@ezleagues.ezfacility.com
DTSTAMP:20260424T044244Z
CREATED:20260424T044244Z
DTSTART:20200123T020000Z
DTEND:20200123T030000Z
LOCATION:Rink 1
CONTACT:
SUMMARY:Team Pinheiro VS. Team Lavoie
DESCRIPTION:League Name: Wednesday Roller Hockey (A/B Mixed)\nGame Type: Re
 gular\nGame Status: Complete\nHome Team: Team Pinheiro\nAway Team: Team La
 voie\nHome Score: 9\nAway Score: 8
END:VEVENT
BEGIN:VEVENT
UID:12992934@ezleagues.ezfacility.com
DTSTAMP:20260424T044244Z
CREATED:20260424T044244Z
DTSTART:20200130T020000Z
DTEND:20200130T030000Z
LOCATION:Rink 1
CONTACT:
SUMMARY:Team Pinheiro VS. (#2 vs #3)
DESCRIPTION:League Name: Wednesday Roller Hockey (A/B Mixed)\nGame Type: Po
 stseason\nGame Status: Complete\nHome Team: Team Pinheiro\nAway Team: (#2 
 vs #3)\nHome Score: 8\nAway Score: 5
END:VEVENT
END:VCALENDAR
