BEGIN:VCALENDAR
VERSION:2.0
PRODID:-//EZFacility.com, Inc.//EZL 2.5.5.28621
BEGIN:VEVENT
UID:12964121@ezleagues.ezfacility.com
DTSTAMP:20260421T074008Z
CREATED:20260421T074008Z
DTSTART:20200107T010000Z
DTEND:20200107T020000Z
LOCATION:Bridgeville RollerPlex
CONTACT:
SUMMARY:Pigeon Patrol VS. Eruption Army
DESCRIPTION:League Name: z Archive 2020 Winter Puck (DEEP SOUTH 2)\nGame Ty
 pe: Regular\nGame Status: Complete\nHome Team: Pigeon Patrol\nAway Team: E
 ruption Army\nHome Score: 4\nAway Score: 8
END:VEVENT
BEGIN:VEVENT
UID:12964125@ezleagues.ezfacility.com
DTSTAMP:20260421T074008Z
CREATED:20260421T074008Z
DTSTART:20200114T010000Z
DTEND:20200114T020000Z
LOCATION:Bridgeville RollerPlex
CONTACT:
SUMMARY:Anvil of Crom VS. Pigeon Patrol
DESCRIPTION:League Name: z Archive 2020 Winter Puck (DEEP SOUTH 2)\nGame Ty
 pe: Regular\nGame Status: Complete\nHome Team: Anvil of Crom\nAway Team: P
 igeon Patrol\nHome Score: 5\nAway Score: 8
END:VEVENT
BEGIN:VEVENT
UID:12964128@ezleagues.ezfacility.com
DTSTAMP:20260421T074008Z
CREATED:20260421T074008Z
DTSTART:20200123T040000Z
DTEND:20200123T050000Z
LOCATION:Bridgeville RollerPlex
CONTACT:
SUMMARY:Pigeon Patrol VS. The Machine
DESCRIPTION:League Name: z Archive 2020 Winter Puck (DEEP SOUTH 2)\nGame Ty
 pe: Regular\nGame Status: Complete\nHome Team: Pigeon Patrol\nAway Team: T
 he Machine\nHome Score: 2\nAway Score: 7
END:VEVENT
BEGIN:VEVENT
UID:12964134@ezleagues.ezfacility.com
DTSTAMP:20260421T074008Z
CREATED:20260421T074008Z
DTSTART:20200130T020000Z
DTEND:20200130T030000Z
LOCATION:Bridgeville RollerPlex
CONTACT:
SUMMARY:Pigeon Patrol VS. The Gary Roberts Project 2
DESCRIPTION:League Name: z Archive 2020 Winter Puck (DEEP SOUTH 2)\nGame Ty
 pe: Regular\nGame Status: Complete\nHome Team: Pigeon Patrol\nAway Team: T
 he Gary Roberts Project 2\nHome Score: 2\nAway Score: 8
END:VEVENT
BEGIN:VEVENT
UID:12964141@ezleagues.ezfacility.com
DTSTAMP:20260421T074008Z
CREATED:20260421T074008Z
DTSTART:20200204T010000Z
DTEND:20200204T020000Z
LOCATION:Bridgeville RollerPlex
CONTACT:
SUMMARY:Pigeon Patrol VS. MooseHead Lager
DESCRIPTION:League Name: z Archive 2020 Winter Puck (DEEP SOUTH 2)\nGame Ty
 pe: Regular\nGame Status: Complete\nHome Team: Pigeon Patrol\nAway Team: M
 ooseHead Lager\nHome Score: 9\nAway Score: 10
END:VEVENT
BEGIN:VEVENT
UID:12964147@ezleagues.ezfacility.com
DTSTAMP:20260421T074008Z
CREATED:20260421T074008Z
DTSTART:20200211T010000Z
DTEND:20200211T020000Z
LOCATION:Bridgeville RollerPlex
CONTACT:
SUMMARY:Pigeon Patrol VS. Llama Breeders
DESCRIPTION:League Name: z Archive 2020 Winter Puck (DEEP SOUTH 2)\nGame Ty
 pe: Regular\nGame Status: Complete\nHome Team: Pigeon Patrol\nAway Team: L
 lama Breeders\nHome Score: 11\nAway Score: 7
END:VEVENT
BEGIN:VEVENT
UID:12964152@ezleagues.ezfacility.com
DTSTAMP:20260421T074008Z
CREATED:20260421T074008Z
DTSTART:20200218T030000Z
DTEND:20200218T040000Z
LOCATION:Bridgeville RollerPlex
CONTACT:
SUMMARY:"Shootin" Blanks VS. Pigeon Patrol
DESCRIPTION:League Name: z Archive 2020 Winter Puck (DEEP SOUTH 2)\nGame Ty
 pe: Regular\nGame Status: Complete\nHome Team: "Shootin" Blanks\nAway Team
 : Pigeon Patrol\nHome Score: 4\nAway Score: 6
END:VEVENT
BEGIN:VEVENT
UID:12964157@ezleagues.ezfacility.com
DTSTAMP:20260421T074008Z
CREATED:20260421T074008Z
DTSTART:20200227T030000Z
DTEND:20200227T040000Z
LOCATION:Bridgeville RollerPlex
CONTACT:
SUMMARY:Vipers VS. Pigeon Patrol
DESCRIPTION:League Name: z Archive 2020 Winter Puck (DEEP SOUTH 2)\nGame Ty
 pe: Regular\nGame Status: Complete\nHome Team: Vipers\nAway Team: Pigeon P
 atrol\nHome Score: 3\nAway Score: 9
END:VEVENT
BEGIN:VEVENT
UID:12964162@ezleagues.ezfacility.com
DTSTAMP:20260421T074008Z
CREATED:20260421T074008Z
DTSTART:20200303T030000Z
DTEND:20200303T040000Z
LOCATION:Bridgeville RollerPlex
CONTACT:
SUMMARY:PittBulls VS. Pigeon Patrol
DESCRIPTION:League Name: z Archive 2020 Winter Puck (DEEP SOUTH 2)\nGame Ty
 pe: Regular\nGame Status: Complete\nHome Team: PittBulls\nAway Team: Pigeo
 n Patrol\nHome Score: 7\nAway Score: 11
END:VEVENT
BEGIN:VEVENT
UID:12964166@ezleagues.ezfacility.com
DTSTAMP:20260421T074008Z
CREATED:20260421T074008Z
DTSTART:20200312T020000Z
DTEND:20200312T030000Z
LOCATION:Bridgeville RollerPlex
CONTACT:
SUMMARY:Eruption Army VS. Pigeon Patrol
DESCRIPTION:League Name: z Archive 2020 Winter Puck (DEEP SOUTH 2)\nGame Ty
 pe: Regular\nGame Status: Complete\nHome Team: Eruption Army\nAway Team: P
 igeon Patrol\nHome Score: 5\nAway Score: 6
END:VEVENT
BEGIN:VEVENT
UID:13171821@ezleagues.ezfacility.com
DTSTAMP:20260421T074008Z
CREATED:20260421T074008Z
DTSTART:20200616T000000Z
DTEND:20200616T010000Z
LOCATION:Bridgeville RollerPlex
CONTACT:
SUMMARY:Pigeon Patrol VS. "Shootin" Blanks
DESCRIPTION:League Name: z Archive 2020 Winter Puck (DEEP SOUTH 2)\nGame Ty
 pe: Postseason\nGame Status: Complete\nHome Team: Pigeon Patrol\nAway Team
 : "Shootin" Blanks\nHome Score: 8\nAway Score: 0
END:VEVENT
BEGIN:VEVENT
UID:13206081@ezleagues.ezfacility.com
DTSTAMP:20260421T074008Z
CREATED:20260421T074008Z
DTSTART:20200630T010000Z
DTEND:20200630T020000Z
LOCATION:Bridgeville RollerPlex
CONTACT:
SUMMARY:Eruption Army VS. Pigeon Patrol
DESCRIPTION:League Name: z Archive 2020 Winter Puck (DEEP SOUTH 2)\nGame Ty
 pe: Postseason\nGame Status: Complete\nHome Team: Eruption Army\nAway Team
 : Pigeon Patrol\nHome Score: 4\nAway Score: 7
END:VEVENT
BEGIN:VEVENT
UID:13210644@ezleagues.ezfacility.com
DTSTAMP:20260421T074008Z
CREATED:20260421T074008Z
DTSTART:20200702T010000Z
DTEND:20200702T020000Z
LOCATION:Bridgeville RollerPlex
CONTACT:
SUMMARY:Pigeon Patrol VS. MooseHead Lager
DESCRIPTION:League Name: z Archive 2020 Winter Puck (DEEP SOUTH 2)\nGame Ty
 pe: Postseason\nGame Status: Complete\nHome Team: Pigeon Patrol\nAway Team
 : MooseHead Lager\nHome Score: 3\nAway Score: 6
END:VEVENT
END:VCALENDAR
