BEGIN:VCALENDAR
VERSION:2.0
PRODID:-//EZFacility.com, Inc.//EZL 2.5.5.28621
BEGIN:VEVENT
UID:12955898@ezleagues.ezfacility.com
DTSTAMP:20260421T092842Z
CREATED:20260421T092842Z
DTSTART:20191228T200000Z
DTEND:20191228T210000Z
LOCATION:Navy
CONTACT:
SUMMARY:East Hampton White VS. NECONN Huskies
DESCRIPTION:League Name: Boys U13 Soccer EAST (2007) Session 2\nGame Type: 
 Regular\nGame Status: Complete\nHome Team: East Hampton White\nAway Team: 
 NECONN Huskies\nHome Score: 5\nAway Score: 3
END:VEVENT
BEGIN:VEVENT
UID:12972283@ezleagues.ezfacility.com
DTSTAMP:20260421T092842Z
CREATED:20260421T092842Z
DTSTART:20200104T210000Z
DTEND:20200104T220000Z
LOCATION:Navy
CONTACT:
SUMMARY:Coventry Chaos VS. NECONN Huskies
DESCRIPTION:League Name: Boys U13 Soccer EAST (2007) Session 2\nGame Type: 
 Regular\nGame Status: Complete\nHome Team: Coventry Chaos\nAway Team: NECO
 NN Huskies\nHome Score: 0\nAway Score: 8
END:VEVENT
BEGIN:VEVENT
UID:12972286@ezleagues.ezfacility.com
DTSTAMP:20260421T092842Z
CREATED:20260421T092842Z
DTSTART:20200111T000000Z
DTEND:20200111T010000Z
LOCATION:Maroon
CONTACT:
SUMMARY:Manchester United VS. NECONN Huskies
DESCRIPTION:League Name: Boys U13 Soccer EAST (2007) Session 2\nGame Type: 
 Regular\nGame Status: Complete\nHome Team: Manchester United\nAway Team: N
 ECONN Huskies\nHome Score: 3\nAway Score: 5
END:VEVENT
BEGIN:VEVENT
UID:12972289@ezleagues.ezfacility.com
DTSTAMP:20260421T092842Z
CREATED:20260421T092842Z
DTSTART:20200118T210000Z
DTEND:20200118T220000Z
LOCATION:Navy
CONTACT:
SUMMARY:Tolland Revolution VS. NECONN Huskies
DESCRIPTION:League Name: Boys U13 Soccer EAST (2007) Session 2\nGame Type: 
 Regular\nGame Status: Complete\nHome Team: Tolland Revolution\nAway Team: 
 NECONN Huskies\nHome Score: 5\nAway Score: 2
END:VEVENT
BEGIN:VEVENT
UID:12972292@ezleagues.ezfacility.com
DTSTAMP:20260421T092842Z
CREATED:20260421T092842Z
DTSTART:20200125T000000Z
DTEND:20200125T010000Z
LOCATION:Maroon
CONTACT:
SUMMARY:Enfield U13 Boys Falcons VS. NECONN Huskies
DESCRIPTION:League Name: Boys U13 Soccer EAST (2007) Session 2\nGame Type: 
 Regular\nGame Status: Complete\nHome Team: Enfield U13 Boys Falcons\nAway 
 Team: NECONN Huskies\nHome Score: 3\nAway Score: 5
END:VEVENT
BEGIN:VEVENT
UID:12972294@ezleagues.ezfacility.com
DTSTAMP:20260421T092842Z
CREATED:20260421T092842Z
DTSTART:20200201T010000Z
DTEND:20200201T020000Z
LOCATION:Maroon
CONTACT:
SUMMARY:East Hampton White VS. NECONN Huskies
DESCRIPTION:League Name: Boys U13 Soccer EAST (2007) Session 2\nGame Type: 
 Regular\nGame Status: Complete\nHome Team: East Hampton White\nAway Team: 
 NECONN Huskies\nHome Score: 7\nAway Score: 5
END:VEVENT
BEGIN:VEVENT
UID:12972298@ezleagues.ezfacility.com
DTSTAMP:20260421T092842Z
CREATED:20260421T092842Z
DTSTART:20200208T200000Z
DTEND:20200208T210000Z
LOCATION:Black
CONTACT:
SUMMARY:NECONN Huskies VS. Coventry Chaos
DESCRIPTION:League Name: Boys U13 Soccer EAST (2007) Session 2\nGame Type: 
 Regular\nGame Status: Complete\nHome Team: NECONN Huskies\nAway Team: Cove
 ntry Chaos\nHome Score: 8\nAway Score: 0
END:VEVENT
BEGIN:VEVENT
UID:12972301@ezleagues.ezfacility.com
DTSTAMP:20260421T092842Z
CREATED:20260421T092842Z
DTSTART:20200215T210000Z
DTEND:20200215T220000Z
LOCATION:Navy
CONTACT:
SUMMARY:Manchester United VS. NECONN Huskies
DESCRIPTION:League Name: Boys U13 Soccer EAST (2007) Session 2\nGame Type: 
 Regular\nGame Status: Complete\nHome Team: Manchester United\nAway Team: N
 ECONN Huskies\nHome Score: 3\nAway Score: 6
END:VEVENT
END:VCALENDAR
