BEGIN:VCALENDAR
VERSION:2.0
PRODID:-//EZFacility.com, Inc.//EZL 2.5.5.28621
BEGIN:VEVENT
UID:12955914@ezleagues.ezfacility.com
DTSTAMP:20260421T150345Z
CREATED:20260421T150345Z
DTSTART:20191229T010000Z
DTEND:20191229T020000Z
LOCATION:Black
CONTACT:
SUMMARY:Avets  VS. NEU 04 Blue
DESCRIPTION:League Name: Boys HS Soccer NORTH Session 2\nGame Type: Regular
 \nGame Status: Complete\nHome Team: Avets \nAway Team: NEU 04 Blue\nHome S
 core: 7\nAway Score: 2
END:VEVENT
BEGIN:VEVENT
UID:12973113@ezleagues.ezfacility.com
DTSTAMP:20260421T150345Z
CREATED:20260421T150345Z
DTSTART:20200111T020000Z
DTEND:20200111T030000Z
LOCATION:Black
CONTACT:
SUMMARY:Avets  VS. Bofa FC
DESCRIPTION:League Name: Boys HS Soccer NORTH Session 2\nGame Type: Regular
 \nGame Status: Complete\nHome Team: Avets \nAway Team: Bofa FC\nHome Score
 : 6\nAway Score: 6
END:VEVENT
BEGIN:VEVENT
UID:12973117@ezleagues.ezfacility.com
DTSTAMP:20260421T150345Z
CREATED:20260421T150345Z
DTSTART:20200112T030000Z
DTEND:20200112T040000Z
LOCATION:Maroon
CONTACT:
SUMMARY:Avets  VS. Celtic
DESCRIPTION:League Name: Boys HS Soccer NORTH Session 2\nGame Type: Regular
 \nGame Status: Complete\nHome Team: Avets \nAway Team: Celtic\nHome Score:
  6\nAway Score: 1
END:VEVENT
BEGIN:VEVENT
UID:12973119@ezleagues.ezfacility.com
DTSTAMP:20260421T150345Z
CREATED:20260421T150345Z
DTSTART:20200118T020000Z
DTEND:20200118T030000Z
LOCATION:Maroon
CONTACT:
SUMMARY:Avets  VS. EFC
DESCRIPTION:League Name: Boys HS Soccer NORTH Session 2\nGame Type: Regular
 \nGame Status: Complete\nHome Team: Avets \nAway Team: EFC\nHome Score: 11
 \nAway Score: 8
END:VEVENT
BEGIN:VEVENT
UID:12973122@ezleagues.ezfacility.com
DTSTAMP:20260421T150345Z
CREATED:20260421T150345Z
DTSTART:20200125T020000Z
DTEND:20200125T030000Z
LOCATION:Black
CONTACT:
SUMMARY:Avets  VS. Kicking Mules Soccer Club
DESCRIPTION:League Name: Boys HS Soccer NORTH Session 2\nGame Type: Regular
 \nGame Status: Complete\nHome Team: Avets \nAway Team: Kicking Mules Socce
 r Club\nHome Score: 9\nAway Score: 2
END:VEVENT
BEGIN:VEVENT
UID:12973127@ezleagues.ezfacility.com
DTSTAMP:20260421T150345Z
CREATED:20260421T150345Z
DTSTART:20200201T030000Z
DTEND:20200201T040000Z
LOCATION:Black
CONTACT:
SUMMARY:Avets  VS. Tolland Eagles
DESCRIPTION:League Name: Boys HS Soccer NORTH Session 2\nGame Type: Regular
 \nGame Status: Complete\nHome Team: Avets \nAway Team: Tolland Eagles\nHom
 e Score: 10\nAway Score: 4
END:VEVENT
BEGIN:VEVENT
UID:12973130@ezleagues.ezfacility.com
DTSTAMP:20260421T150345Z
CREATED:20260421T150345Z
DTSTART:20200208T020000Z
DTEND:20200208T030000Z
LOCATION:Maroon
CONTACT:
SUMMARY:Avets  VS. Migos
DESCRIPTION:League Name: Boys HS Soccer NORTH Session 2\nGame Type: Regular
 \nGame Status: Complete\nHome Team: Avets \nAway Team: Migos\nHome Score: 
 8\nAway Score: 7
END:VEVENT
BEGIN:VEVENT
UID:12973136@ezleagues.ezfacility.com
DTSTAMP:20260421T150345Z
CREATED:20260421T150345Z
DTSTART:20200216T030000Z
DTEND:20200216T040000Z
LOCATION:Black
CONTACT:
SUMMARY:Avets  VS. NEU 04 Blue
DESCRIPTION:League Name: Boys HS Soccer NORTH Session 2\nGame Type: Regular
 \nGame Status: Complete\nHome Team: Avets \nAway Team: NEU 04 Blue\nHome S
 core: 10\nAway Score: 3
END:VEVENT
END:VCALENDAR
