BEGIN:VCALENDAR
VERSION:2.0
PRODID:-//EZFacility.com, Inc.//EZL 2.5.5.28621
BEGIN:VEVENT
UID:12957883@ezleagues.ezfacility.com
DTSTAMP:20260426T034805Z
CREATED:20260426T034805Z
DTSTART:20191228T190000Z
DTEND:20191228T192000Z
LOCATION:Field 3
CONTACT:
SUMMARY:Dream Team VS. Candy Cane Crushers
DESCRIPTION:League Name: 4 V 4 GIRLS U10/U11 FROSTY CAPS TOURNAMENT\nGame T
 ype: Regular\nGame Status: Pending\nHome Team: Dream Team\nAway Team: Cand
 y Cane Crushers\n
END:VEVENT
BEGIN:VEVENT
UID:12957888@ezleagues.ezfacility.com
DTSTAMP:20260426T034805Z
CREATED:20260426T034805Z
DTSTART:20191228T200000Z
DTEND:20191228T202000Z
LOCATION:Field 2
CONTACT:
SUMMARY:Candy Cane Crushers VS. The Grinch Gang
DESCRIPTION:League Name: 4 V 4 GIRLS U10/U11 FROSTY CAPS TOURNAMENT\nGame T
 ype: Regular\nGame Status: Pending\nHome Team: Candy Cane Crushers\nAway T
 eam: The Grinch Gang\n
END:VEVENT
BEGIN:VEVENT
UID:12957936@ezleagues.ezfacility.com
DTSTAMP:20260426T034805Z
CREATED:20260426T034805Z
DTSTART:20191228T203000Z
DTEND:20191228T205000Z
LOCATION:Field 4
CONTACT:
SUMMARY:Candy Cane Crushers VS. It's About to Get Messi
DESCRIPTION:League Name: 4 V 4 GIRLS U10/U11 FROSTY CAPS TOURNAMENT\nGame T
 ype: Regular\nGame Status: Pending\nHome Team: Candy Cane Crushers\nAway T
 eam: It's About to Get Messi\n
END:VEVENT
END:VCALENDAR
