BEGIN:VCALENDAR
VERSION:2.0
PRODID:-//EZFacility.com, Inc.//EZL 2.5.5.28621
BEGIN:VEVENT
UID:12957885@ezleagues.ezfacility.com
DTSTAMP:20260425T031537Z
CREATED:20260425T031537Z
DTSTART:20191228T190000Z
DTEND:20191228T192000Z
LOCATION:Field 4
CONTACT:
SUMMARY:It's About to Get Messi VS. The Grinch Gang
DESCRIPTION:League Name: 4 V 4 GIRLS U10/U11 FROSTY CAPS TOURNAMENT\nGame T
 ype: Regular\nGame Status: Pending\nHome Team: It's About to Get Messi\nAw
 ay Team: The Grinch Gang\n
END:VEVENT
BEGIN:VEVENT
UID:12957888@ezleagues.ezfacility.com
DTSTAMP:20260425T031537Z
CREATED:20260425T031537Z
DTSTART:20191228T200000Z
DTEND:20191228T202000Z
LOCATION:Field 2
CONTACT:
SUMMARY:Candy Cane Crushers VS. The Grinch Gang
DESCRIPTION:League Name: 4 V 4 GIRLS U10/U11 FROSTY CAPS TOURNAMENT\nGame T
 ype: Regular\nGame Status: Pending\nHome Team: Candy Cane Crushers\nAway T
 eam: The Grinch Gang\n
END:VEVENT
BEGIN:VEVENT
UID:12957935@ezleagues.ezfacility.com
DTSTAMP:20260425T031537Z
CREATED:20260425T031537Z
DTSTART:20191228T203000Z
DTEND:20191228T205000Z
LOCATION:Field 3
CONTACT:
SUMMARY:The Grinch Gang VS. Dream Team
DESCRIPTION:League Name: 4 V 4 GIRLS U10/U11 FROSTY CAPS TOURNAMENT\nGame T
 ype: Regular\nGame Status: Pending\nHome Team: The Grinch Gang\nAway Team:
  Dream Team\n
END:VEVENT
END:VCALENDAR
