BEGIN:VCALENDAR
VERSION:2.0
PRODID:-//EZFacility.com, Inc.//EZL 2.5.5.28621
BEGIN:VEVENT
UID:12958039@ezleagues.ezfacility.com
DTSTAMP:20260426T002255Z
CREATED:20260426T002255Z
DTSTART:20191228T130000Z
DTEND:20191228T132000Z
LOCATION:Field 4
CONTACT:
SUMMARY:Megs and Marshmallows VS. Sleigh Belles
DESCRIPTION:League Name: 4 v 4 GIRLS U13/14 FROSTY CAPS TOURNAMENT\nGame Ty
 pe: Regular\nGame Status: Pending\nHome Team: Megs and Marshmallows\nAway 
 Team: Sleigh Belles\n
END:VEVENT
BEGIN:VEVENT
UID:12958040@ezleagues.ezfacility.com
DTSTAMP:20260426T002255Z
CREATED:20260426T002255Z
DTSTART:20191228T140000Z
DTEND:20191228T142000Z
LOCATION:Field 3
CONTACT:
SUMMARY:Sleigh Belles VS. Blue Fire
DESCRIPTION:League Name: 4 v 4 GIRLS U13/14 FROSTY CAPS TOURNAMENT\nGame Ty
 pe: Regular\nGame Status: Pending\nHome Team: Sleigh Belles\nAway Team: Bl
 ue Fire\n
END:VEVENT
BEGIN:VEVENT
UID:12958043@ezleagues.ezfacility.com
DTSTAMP:20260426T002255Z
CREATED:20260426T002255Z
DTSTART:20191228T150000Z
DTEND:20191228T152000Z
LOCATION:Field 3
CONTACT:
SUMMARY:Thundercats VS. Sleigh Belles
DESCRIPTION:League Name: 4 v 4 GIRLS U13/14 FROSTY CAPS TOURNAMENT\nGame Ty
 pe: Regular\nGame Status: Pending\nHome Team: Thundercats\nAway Team: Slei
 gh Belles\n
END:VEVENT
BEGIN:VEVENT
UID:12958050@ezleagues.ezfacility.com
DTSTAMP:20260426T002255Z
CREATED:20260426T002255Z
DTSTART:20191228T160000Z
DTEND:20191228T162000Z
LOCATION:Field 4
CONTACT:
SUMMARY:Sleigh Belles VS. Team Blitz
DESCRIPTION:League Name: 4 v 4 GIRLS U13/14 FROSTY CAPS TOURNAMENT\nGame Ty
 pe: Regular\nGame Status: Pending\nHome Team: Sleigh Belles\nAway Team: Te
 am Blitz\n
END:VEVENT
END:VCALENDAR
