BEGIN:VCALENDAR
VERSION:2.0
PRODID:-//EZFacility.com, Inc.//EZL 2.5.5.28621
BEGIN:VEVENT
UID:12958039@ezleagues.ezfacility.com
DTSTAMP:20260426T034956Z
CREATED:20260426T034956Z
DTSTART:20191228T130000Z
DTEND:20191228T132000Z
LOCATION:Field 4
CONTACT:
SUMMARY:Megs and Marshmallows VS. Sleigh Belles
DESCRIPTION:League Name: 4 v 4 GIRLS U13/14 FROSTY CAPS TOURNAMENT\nGame Ty
 pe: Regular\nGame Status: Pending\nHome Team: Megs and Marshmallows\nAway 
 Team: Sleigh Belles\n
END:VEVENT
BEGIN:VEVENT
UID:12958046@ezleagues.ezfacility.com
DTSTAMP:20260426T034956Z
CREATED:20260426T034956Z
DTSTART:20191228T150000Z
DTEND:20191228T152000Z
LOCATION:Field 4
CONTACT:
SUMMARY:Blue Fire VS. Megs and Marshmallows
DESCRIPTION:League Name: 4 v 4 GIRLS U13/14 FROSTY CAPS TOURNAMENT\nGame Ty
 pe: Regular\nGame Status: Pending\nHome Team: Blue Fire\nAway Team: Megs a
 nd Marshmallows\n
END:VEVENT
BEGIN:VEVENT
UID:12958048@ezleagues.ezfacility.com
DTSTAMP:20260426T034956Z
CREATED:20260426T034956Z
DTSTART:20191228T160000Z
DTEND:20191228T162000Z
LOCATION:Field 3
CONTACT:
SUMMARY:Megs and Marshmallows VS. Thundercats
DESCRIPTION:League Name: 4 v 4 GIRLS U13/14 FROSTY CAPS TOURNAMENT\nGame Ty
 pe: Regular\nGame Status: Pending\nHome Team: Megs and Marshmallows\nAway 
 Team: Thundercats\n
END:VEVENT
BEGIN:VEVENT
UID:12958054@ezleagues.ezfacility.com
DTSTAMP:20260426T034956Z
CREATED:20260426T034956Z
DTSTART:20191228T170000Z
DTEND:20191228T172000Z
LOCATION:Field 2
CONTACT:
SUMMARY:Team Blitz VS. Megs and Marshmallows
DESCRIPTION:League Name: 4 v 4 GIRLS U13/14 FROSTY CAPS TOURNAMENT\nGame Ty
 pe: Regular\nGame Status: Pending\nHome Team: Team Blitz\nAway Team: Megs 
 and Marshmallows\n
END:VEVENT
END:VCALENDAR
