BEGIN:VCALENDAR
VERSION:2.0
PRODID:-//EZFacility.com, Inc.//EZL 2.5.5.28621
BEGIN:VEVENT
UID:12958320@ezleagues.ezfacility.com
DTSTAMP:20260426T021355Z
CREATED:20260426T021355Z
DTSTART:20191228T130000Z
DTEND:20191228T132000Z
LOCATION:Field 1
CONTACT:
SUMMARY:CFC Black VS. CFC White
DESCRIPTION:League Name: 4 v 4 BOYS U13/14  FROSTY CAPS TOURNAMENT\nGame Ty
 pe: Regular\nGame Status: Pending\nHome Team: CFC Black\nAway Team: CFC Wh
 ite\n
END:VEVENT
BEGIN:VEVENT
UID:12958328@ezleagues.ezfacility.com
DTSTAMP:20260426T021355Z
CREATED:20260426T021355Z
DTSTART:20191228T140000Z
DTEND:20191228T142000Z
LOCATION:Field 1
CONTACT:
SUMMARY:CFC Black VS. Little Drummer Boyz
DESCRIPTION:League Name: 4 v 4 BOYS U13/14  FROSTY CAPS TOURNAMENT\nGame Ty
 pe: Regular\nGame Status: Pending\nHome Team: CFC Black\nAway Team: Little
  Drummer Boyz\n
END:VEVENT
BEGIN:VEVENT
UID:12958400@ezleagues.ezfacility.com
DTSTAMP:20260426T021355Z
CREATED:20260426T021355Z
DTSTART:20191228T150000Z
DTEND:20191228T152000Z
LOCATION:Field 1
CONTACT:
SUMMARY:Go 2 Goal VS. CFC Black
DESCRIPTION:League Name: 4 v 4 BOYS U13/14  FROSTY CAPS TOURNAMENT\nGame Ty
 pe: Regular\nGame Status: Pending\nHome Team: Go 2 Goal\nAway Team: CFC Bl
 ack\n
END:VEVENT
END:VCALENDAR
