BEGIN:VCALENDAR
VERSION:2.0
PRODID:-//EZFacility.com, Inc.//EZL 2.5.5.28621
BEGIN:VEVENT
UID:12963900@ezleagues.ezfacility.com
DTSTAMP:20260424T115009Z
CREATED:20260424T115009Z
DTSTART:20200105T011500Z
DTEND:20200105T020000Z
LOCATION:Indoor West
CONTACT:
SUMMARY:USA Premier 06 BS Red VS. AXIS
DESCRIPTION:League Name: Boys 2006 Gold\nGame Type: Regular\nGame Status: C
 omplete\nHome Team: USA Premier 06 BS Red\nAway Team: AXIS\nHome Score: 12
 \nAway Score: 0
END:VEVENT
BEGIN:VEVENT
UID:12963902@ezleagues.ezfacility.com
DTSTAMP:20260424T115009Z
CREATED:20260424T115009Z
DTSTART:20200112T020000Z
DTEND:20200112T024500Z
LOCATION:Indoor West
CONTACT:
SUMMARY:AFC Apex 06 Gold VS. USA Premier 06 BS Red
DESCRIPTION:League Name: Boys 2006 Gold\nGame Type: Regular\nGame Status: C
 omplete\nHome Team: AFC Apex 06 Gold\nAway Team: USA Premier 06 BS Red\nHo
 me Score: 2\nAway Score: 5
END:VEVENT
BEGIN:VEVENT
UID:12963906@ezleagues.ezfacility.com
DTSTAMP:20260424T115009Z
CREATED:20260424T115009Z
DTSTART:20200119T011500Z
DTEND:20200119T020000Z
LOCATION:Indoor West
CONTACT:
SUMMARY:USA Premier 06 BS Blue VS. USA Premier 06 BS Red
DESCRIPTION:League Name: Boys 2006 Gold\nGame Type: Regular\nGame Status: C
 omplete\nHome Team: USA Premier 06 BS Blue\nAway Team: USA Premier 06 BS R
 ed\nHome Score: 18\nAway Score: 16
END:VEVENT
BEGIN:VEVENT
UID:12963915@ezleagues.ezfacility.com
DTSTAMP:20260424T115009Z
CREATED:20260424T115009Z
DTSTART:20200209T033000Z
DTEND:20200209T041500Z
LOCATION:Indoor East
CONTACT:
SUMMARY:AXIS VS. USA Premier 06 BS Red
DESCRIPTION:League Name: Boys 2006 Gold\nGame Type: Regular\nGame Status: C
 omplete\nHome Team: AXIS\nAway Team: USA Premier 06 BS Red\nHome Score: 3\
 nAway Score: 11
END:VEVENT
BEGIN:VEVENT
UID:12963921@ezleagues.ezfacility.com
DTSTAMP:20260424T115009Z
CREATED:20260424T115009Z
DTSTART:20200223T021500Z
DTEND:20200223T030000Z
LOCATION:Indoor West
CONTACT:
SUMMARY:USA Premier 06 BS Red VS. USA Premier 06 BS Blue
DESCRIPTION:League Name: Boys 2006 Gold\nGame Type: Regular\nGame Status: C
 omplete\nHome Team: USA Premier 06 BS Red\nAway Team: USA Premier 06 BS Bl
 ue\nHome Score: 8\nAway Score: 5
END:VEVENT
BEGIN:VEVENT
UID:12963910@ezleagues.ezfacility.com
DTSTAMP:20260424T115009Z
CREATED:20260424T115009Z
DTSTART:20200229T234500Z
DTEND:20200301T003000Z
LOCATION:Indoor East
CONTACT:
SUMMARY:USA Premier 06 BS Red VS. Sparta 06 JH
DESCRIPTION:League Name: Boys 2006 Gold\nGame Type: Regular\nGame Status: C
 omplete\nHome Team: USA Premier 06 BS Red\nAway Team: Sparta 06 JH\nHome S
 core: 20\nAway Score: 0
END:VEVENT
BEGIN:VEVENT
UID:12963913@ezleagues.ezfacility.com
DTSTAMP:20260424T115009Z
CREATED:20260424T115009Z
DTSTART:20200308T004500Z
DTEND:20200308T013000Z
LOCATION:Indoor East
CONTACT:
SUMMARY:Utah Surf 06 FS VS. USA Premier 06 BS Red
DESCRIPTION:League Name: Boys 2006 Gold\nGame Type: Regular\nGame Status: C
 omplete\nHome Team: Utah Surf 06 FS\nAway Team: USA Premier 06 BS Red\nHom
 e Score: 0\nAway Score: 7
END:VEVENT
BEGIN:VEVENT
UID:12963917@ezleagues.ezfacility.com
DTSTAMP:20260424T115009Z
CREATED:20260424T115009Z
DTSTART:20200314T003000Z
DTEND:20200314T011500Z
LOCATION:Indoor East
CONTACT:
SUMMARY:USA Premier 06 BS Red VS. AFC Apex 06 Gold
DESCRIPTION:League Name: Boys 2006 Gold\nGame Type: Regular\nGame Status: C
 omplete\nHome Team: USA Premier 06 BS Red\nAway Team: AFC Apex 06 Gold\nHo
 me Score: 3\nAway Score: 0
END:VEVENT
END:VCALENDAR
