BEGIN:VCALENDAR
VERSION:2.0
PRODID:-//EZFacility.com, Inc.//EZL 2.5.5.28621
BEGIN:VEVENT
UID:12970380@ezleagues.ezfacility.com
DTSTAMP:20260424T044416Z
CREATED:20260424T044416Z
DTSTART:20200112T230000Z
DTEND:20200113T000000Z
LOCATION:Court
CONTACT:
SUMMARY:Herbein VS. Team Flash
DESCRIPTION:League Name: Basketball Leagues Winter 2020 - Men's Sunday Open
 \nGame Type: Regular\nGame Status: Complete\nHome Team: Herbein\nAway Team
 : Team Flash\nHome Score: 55\nAway Score: 85
END:VEVENT
BEGIN:VEVENT
UID:12970386@ezleagues.ezfacility.com
DTSTAMP:20260424T044416Z
CREATED:20260424T044416Z
DTSTART:20200119T220000Z
DTEND:20200119T230000Z
LOCATION:Court
CONTACT:
SUMMARY:Herbein VS. Starry Property Solutions
DESCRIPTION:League Name: Basketball Leagues Winter 2020 - Men's Sunday Open
 \nGame Type: Regular\nGame Status: Complete\nHome Team: Herbein\nAway Team
 : Starry Property Solutions\nHome Score: 70\nAway Score: 53
END:VEVENT
BEGIN:VEVENT
UID:12970391@ezleagues.ezfacility.com
DTSTAMP:20260424T044416Z
CREATED:20260424T044416Z
DTSTART:20200126T223000Z
DTEND:20200126T233000Z
LOCATION:Court
CONTACT:
SUMMARY:Herbein VS. GSK
DESCRIPTION:League Name: Basketball Leagues Winter 2020 - Men's Sunday Open
 \nGame Type: Regular\nGame Status: Complete\nHome Team: Herbein\nAway Team
 : GSK\nHome Score: 54\nAway Score: 53
END:VEVENT
BEGIN:VEVENT
UID:12970395@ezleagues.ezfacility.com
DTSTAMP:20260424T044416Z
CREATED:20260424T044416Z
DTSTART:20200202T180000Z
DTEND:20200202T190000Z
LOCATION:Court
CONTACT:
SUMMARY:Roc Boys VS. Herbein
DESCRIPTION:League Name: Basketball Leagues Winter 2020 - Men's Sunday Open
 \nGame Type: Regular\nGame Status: Complete\nHome Team: Roc Boys\nAway Tea
 m: Herbein\nHome Score: 84\nAway Score: 70
END:VEVENT
BEGIN:VEVENT
UID:12970399@ezleagues.ezfacility.com
DTSTAMP:20260424T044416Z
CREATED:20260424T044416Z
DTSTART:20200209T220000Z
DTEND:20200209T230000Z
LOCATION:Court
CONTACT:
SUMMARY:The Cardinals VS. Herbein
DESCRIPTION:League Name: Basketball Leagues Winter 2020 - Men's Sunday Open
 \nGame Type: Regular\nGame Status: Complete\nHome Team: The Cardinals\nAwa
 y Team: Herbein\nHome Score: 62\nAway Score: 73
END:VEVENT
BEGIN:VEVENT
UID:12970405@ezleagues.ezfacility.com
DTSTAMP:20260424T044416Z
CREATED:20260424T044416Z
DTSTART:20200224T000000Z
DTEND:20200224T010000Z
LOCATION:Court
CONTACT:
SUMMARY:Herbein VS. Doyle
DESCRIPTION:League Name: Basketball Leagues Winter 2020 - Men's Sunday Open
 \nGame Type: Regular\nGame Status: Complete\nHome Team: Herbein\nAway Team
 : Doyle\nHome Score: 65\nAway Score: 84
END:VEVENT
BEGIN:VEVENT
UID:12970402@ezleagues.ezfacility.com
DTSTAMP:20260424T044416Z
CREATED:20260424T044416Z
DTSTART:20200301T230000Z
DTEND:20200302T000000Z
LOCATION:Court
CONTACT:
SUMMARY:Innovative Autom. Concepts VS. Herbein
DESCRIPTION:League Name: Basketball Leagues Winter 2020 - Men's Sunday Open
 \nGame Type: Regular\nGame Status: Complete\nHome Team: Innovative Autom. 
 Concepts\nAway Team: Herbein\nHome Score: 93\nAway Score: 66
END:VEVENT
BEGIN:VEVENT
UID:12970377@ezleagues.ezfacility.com
DTSTAMP:20260424T044416Z
CREATED:20260424T044416Z
DTSTART:20200302T000000Z
DTEND:20200302T010000Z
LOCATION:Court
CONTACT:
SUMMARY:Doyle VS. Herbein
DESCRIPTION:League Name: Basketball Leagues Winter 2020 - Men's Sunday Open
 \nGame Type: Regular\nGame Status: Complete\nHome Team: Doyle\nAway Team: 
 Herbein\nHome Score: 89\nAway Score: 68
END:VEVENT
END:VCALENDAR
