BEGIN:VCALENDAR
VERSION:2.0
PRODID:-//EZFacility.com, Inc.//EZL 2.5.5.28621
BEGIN:VEVENT
UID:12977313@ezleagues.ezfacility.com
DTSTAMP:20260426T034823Z
CREATED:20260426T034823Z
DTSTART:20200104T130000Z
DTEND:20200104T135000Z
LOCATION:Red Field
CONTACT:
SUMMARY:Dynamite VS. Empire United 2010
DESCRIPTION:League Name: Winter B Soccer Session (2020) - U10 Girls\nGame T
 ype: Regular\nGame Status: Complete\nHome Team: Dynamite\nAway Team: Empir
 e United 2010\nHome Score: 4\nAway Score: 6
END:VEVENT
BEGIN:VEVENT
UID:12977330@ezleagues.ezfacility.com
DTSTAMP:20260426T034823Z
CREATED:20260426T034823Z
DTSTART:20200118T180000Z
DTEND:20200118T185000Z
LOCATION:Blue Field
CONTACT:
SUMMARY:Dynamite VS. Clarence Inferno GU10R
DESCRIPTION:League Name: Winter B Soccer Session (2020) - U10 Girls\nGame T
 ype: Regular\nGame Status: Complete\nHome Team: Dynamite\nAway Team: Clare
 nce Inferno GU10R\nHome Score: 3\nAway Score: 1
END:VEVENT
BEGIN:VEVENT
UID:12977334@ezleagues.ezfacility.com
DTSTAMP:20260426T034823Z
CREATED:20260426T034823Z
DTSTART:20200201T180000Z
DTEND:20200201T185000Z
LOCATION:Blue Field
CONTACT:
SUMMARY:Amherst Flames VS. Dynamite
DESCRIPTION:League Name: Winter B Soccer Session (2020) - U10 Girls\nGame T
 ype: Regular\nGame Status: Complete\nHome Team: Amherst Flames\nAway Team:
  Dynamite\nHome Score: 0\nAway Score: 3
END:VEVENT
BEGIN:VEVENT
UID:12977342@ezleagues.ezfacility.com
DTSTAMP:20260426T034823Z
CREATED:20260426T034823Z
DTSTART:20200208T135000Z
DTEND:20200208T144000Z
LOCATION:Blue Field
CONTACT:
SUMMARY:Pioneer Green Storm VS. Dynamite
DESCRIPTION:League Name: Winter B Soccer Session (2020) - U10 Girls\nGame T
 ype: Regular\nGame Status: Complete\nHome Team: Pioneer Green Storm\nAway 
 Team: Dynamite\nHome Score: 1\nAway Score: 2
END:VEVENT
BEGIN:VEVENT
UID:12977352@ezleagues.ezfacility.com
DTSTAMP:20260426T034823Z
CREATED:20260426T034823Z
DTSTART:20200216T152500Z
DTEND:20200216T161500Z
LOCATION:Blue Field
CONTACT:
SUMMARY:Dynamite VS. Delaware Reign U9
DESCRIPTION:League Name: Winter B Soccer Session (2020) - U10 Girls\nGame T
 ype: Regular\nGame Status: Complete\nHome Team: Dynamite\nAway Team: Delaw
 are Reign U9\nHome Score: 2\nAway Score: 3
END:VEVENT
BEGIN:VEVENT
UID:12977338@ezleagues.ezfacility.com
DTSTAMP:20260426T034823Z
CREATED:20260426T034823Z
DTSTART:20200222T130000Z
DTEND:20200222T135000Z
LOCATION:Red Field
CONTACT:
SUMMARY:Dynamite VS. NWAA Wolves 2011
DESCRIPTION:League Name: Winter B Soccer Session (2020) - U10 Girls\nGame T
 ype: Regular\nGame Status: Complete\nHome Team: Dynamite\nAway Team: NWAA 
 Wolves 2011\nHome Score: 4\nAway Score: 0
END:VEVENT
BEGIN:VEVENT
UID:12977325@ezleagues.ezfacility.com
DTSTAMP:20260426T034823Z
CREATED:20260426T034823Z
DTSTART:20200229T120500Z
DTEND:20200229T125500Z
LOCATION:Red Field
CONTACT:
SUMMARY:Dynamite VS. Empire United U9
DESCRIPTION:League Name: Winter B Soccer Session (2020) - U10 Girls\nGame T
 ype: Regular\nGame Status: Complete\nHome Team: Dynamite\nAway Team: Empir
 e United U9\nHome Score: 3\nAway Score: 4
END:VEVENT
BEGIN:VEVENT
UID:12977346@ezleagues.ezfacility.com
DTSTAMP:20260426T034823Z
CREATED:20260426T034823Z
DTSTART:20200307T135000Z
DTEND:20200307T144000Z
LOCATION:Blue Field
CONTACT:
SUMMARY:Lockport Lightning VS. Dynamite
DESCRIPTION:League Name: Winter B Soccer Session (2020) - U10 Girls\nGame T
 ype: Regular\nGame Status: Complete\nHome Team: Lockport Lightning\nAway T
 eam: Dynamite\nHome Score: 1\nAway Score: 6
END:VEVENT
BEGIN:VEVENT
UID:12977366@ezleagues.ezfacility.com
DTSTAMP:20260426T034823Z
CREATED:20260426T034823Z
DTSTART:20200321T160500Z
DTEND:20200321T165500Z
LOCATION:Blue Field
CONTACT:
SUMMARY:Dynamite VS. Pioneer Green Storm
DESCRIPTION:League Name: Winter B Soccer Session (2020) - U10 Girls\nGame T
 ype: Regular\nGame Status: Postponed\nHome Team: Dynamite\nAway Team: Pion
 eer Green Storm\n
END:VEVENT
BEGIN:VEVENT
UID:12977358@ezleagues.ezfacility.com
DTSTAMP:20260426T034823Z
CREATED:20260426T034823Z
DTSTART:20200404T170000Z
DTEND:20200404T175000Z
LOCATION:Blue Field
CONTACT:
SUMMARY:Empire United 2010 VS. Dynamite
DESCRIPTION:League Name: Winter B Soccer Session (2020) - U10 Girls\nGame T
 ype: Regular\nGame Status: Pending\nHome Team: Empire United 2010\nAway Te
 am: Dynamite\n
END:VEVENT
END:VCALENDAR
