BEGIN:VCALENDAR
VERSION:2.0
PRODID:-//EZFacility.com, Inc.//EZL 2.5.5.28621
BEGIN:VEVENT
UID:12981939@ezleagues.ezfacility.com
DTSTAMP:20260426T021325Z
CREATED:20260426T021325Z
DTSTART:20200110T031500Z
DTEND:20200110T040000Z
LOCATION:Soccer Field
CONTACT:
SUMMARY:Turtle Soup VS. Lil Kickers
DESCRIPTION:League Name: Thursday Coed Soccer Winter II 2019-2020 - Blk Div
 \nGame Type: Regular\nGame Status: Complete\nHome Team: Turtle Soup\nAway 
 Team: Lil Kickers\nHome Score: 4\nAway Score: 3
END:VEVENT
BEGIN:VEVENT
UID:12981941@ezleagues.ezfacility.com
DTSTAMP:20260426T021325Z
CREATED:20260426T021325Z
DTSTART:20200117T001500Z
DTEND:20200117T010000Z
LOCATION:Soccer Field
CONTACT:
SUMMARY:Soccer Ball Players VS. Lil Kickers
DESCRIPTION:League Name: Thursday Coed Soccer Winter II 2019-2020 - Blk Div
 \nGame Type: Regular\nGame Status: Complete\nHome Team: Soccer Ball Player
 s\nAway Team: Lil Kickers\nHome Score: 3\nAway Score: 2
END:VEVENT
BEGIN:VEVENT
UID:12981946@ezleagues.ezfacility.com
DTSTAMP:20260426T021325Z
CREATED:20260426T021325Z
DTSTART:20200124T031500Z
DTEND:20200124T040000Z
LOCATION:Soccer Field
CONTACT:
SUMMARY:Smurfs VS. Lil Kickers
DESCRIPTION:League Name: Thursday Coed Soccer Winter II 2019-2020 - Blk Div
 \nGame Type: Regular\nGame Status: Complete\nHome Team: Smurfs\nAway Team:
  Lil Kickers\nHome Score: 8\nAway Score: 1
END:VEVENT
BEGIN:VEVENT
UID:12981952@ezleagues.ezfacility.com
DTSTAMP:20260426T021325Z
CREATED:20260426T021325Z
DTSTART:20200207T023000Z
DTEND:20200207T031500Z
LOCATION:Soccer Field
CONTACT:
SUMMARY:Ivory Towerish VS. Lil Kickers
DESCRIPTION:League Name: Thursday Coed Soccer Winter II 2019-2020 - Blk Div
 \nGame Type: Regular\nGame Status: Complete\nHome Team: Ivory Towerish\nAw
 ay Team: Lil Kickers\nHome Score: 10\nAway Score: 4
END:VEVENT
BEGIN:VEVENT
UID:12981955@ezleagues.ezfacility.com
DTSTAMP:20260426T021325Z
CREATED:20260426T021325Z
DTSTART:20200214T001500Z
DTEND:20200214T010000Z
LOCATION:Soccer Field
CONTACT:
SUMMARY:Bad Touch VS. Lil Kickers
DESCRIPTION:League Name: Thursday Coed Soccer Winter II 2019-2020 - Blk Div
 \nGame Type: Regular\nGame Status: Complete\nHome Team: Bad Touch\nAway Te
 am: Lil Kickers\nHome Score: 5\nAway Score: 5
END:VEVENT
BEGIN:VEVENT
UID:12982096@ezleagues.ezfacility.com
DTSTAMP:20260426T021325Z
CREATED:20260426T021325Z
DTSTART:20200306T023000Z
DTEND:20200306T031500Z
LOCATION:Soccer Field
CONTACT:
SUMMARY:Straight Outta Work VS. Lil Kickers
DESCRIPTION:League Name: Thursday Coed Soccer Winter II 2019-2020 - Blk Div
 \nGame Type: Regular\nGame Status: Complete\nHome Team: Straight Outta Wor
 k\nAway Team: Lil Kickers\nHome Score: 3\nAway Score: 3
END:VEVENT
BEGIN:VEVENT
UID:12982234@ezleagues.ezfacility.com
DTSTAMP:20260426T021325Z
CREATED:20260426T021325Z
DTSTART:20200619T013000Z
DTEND:20200619T021500Z
LOCATION:Soccer Field
CONTACT:
SUMMARY:Big Green VS. Lil Kickers
DESCRIPTION:League Name: Thursday Coed Soccer Winter II 2019-2020 - Blk Div
 \nGame Type: Regular\nGame Status: Complete\nHome Team: Big Green\nAway Te
 am: Lil Kickers\nHome Score: 0\nAway Score: 0
END:VEVENT
BEGIN:VEVENT
UID:12982267@ezleagues.ezfacility.com
DTSTAMP:20260426T021325Z
CREATED:20260426T021325Z
DTSTART:20200625T223000Z
DTEND:20200625T231500Z
LOCATION:Soccer Field
CONTACT:
SUMMARY:Kix VS. Lil Kickers
DESCRIPTION:League Name: Thursday Coed Soccer Winter II 2019-2020 - Blk Div
 \nGame Type: Regular\nGame Status: Complete\nHome Team: Kix\nAway Team: Li
 l Kickers\nHome Score: 3\nAway Score: 0
END:VEVENT
END:VCALENDAR
