BEGIN:VCALENDAR
VERSION:2.0
PRODID:-//EZFacility.com, Inc.//EZL 2.5.5.28621
BEGIN:VEVENT
UID:12982099@ezleagues.ezfacility.com
DTSTAMP:20260424T044311Z
CREATED:20260424T044311Z
DTSTART:20200109T224500Z
DTEND:20200109T233000Z
LOCATION:Field 2C (Rec)
CONTACT:
SUMMARY:WY Black 1st VS. Gremio FC 1st Grade
DESCRIPTION:League Name: Winter Soccer-Winter II-5v5 League-1st Grade\nGame
  Type: Regular\nGame Status: Complete\nHome Team: WY Black 1st\nAway Team:
  Gremio FC 1st Grade\nHome Score: 3\nAway Score: 5
END:VEVENT
BEGIN:VEVENT
UID:12982111@ezleagues.ezfacility.com
DTSTAMP:20260424T044311Z
CREATED:20260424T044311Z
DTSTART:20200116T224500Z
DTEND:20200116T233000Z
LOCATION:Field 2C (Rec)
CONTACT:
SUMMARY:Gremio FC 1st Grade VS. Wizard FC U7
DESCRIPTION:League Name: Winter Soccer-Winter II-5v5 League-1st Grade\nGame
  Type: Regular\nGame Status: Complete\nHome Team: Gremio FC 1st Grade\nAwa
 y Team: Wizard FC U7\nHome Score: 6\nAway Score: 6
END:VEVENT
BEGIN:VEVENT
UID:12982122@ezleagues.ezfacility.com
DTSTAMP:20260424T044311Z
CREATED:20260424T044311Z
DTSTART:20200123T224500Z
DTEND:20200123T233000Z
LOCATION:Field 2A (Rec)
CONTACT:
SUMMARY:CSL Dynamo VS. Gremio FC 1st Grade
DESCRIPTION:League Name: Winter Soccer-Winter II-5v5 League-1st Grade\nGame
  Type: Regular\nGame Status: Complete\nHome Team: CSL Dynamo\nAway Team: G
 remio FC 1st Grade\nHome Score: 5\nAway Score: 6
END:VEVENT
BEGIN:VEVENT
UID:12982135@ezleagues.ezfacility.com
DTSTAMP:20260424T044311Z
CREATED:20260424T044311Z
DTSTART:20200130T224500Z
DTEND:20200130T233000Z
LOCATION:Field 2A (Rec)
CONTACT:
SUMMARY:WY Black 1st VS. Gremio FC 1st Grade
DESCRIPTION:League Name: Winter Soccer-Winter II-5v5 League-1st Grade\nGame
  Type: Regular\nGame Status: Complete\nHome Team: WY Black 1st\nAway Team:
  Gremio FC 1st Grade\nHome Score: 1\nAway Score: 4
END:VEVENT
BEGIN:VEVENT
UID:12982147@ezleagues.ezfacility.com
DTSTAMP:20260424T044311Z
CREATED:20260424T044311Z
DTSTART:20200206T224500Z
DTEND:20200206T233000Z
LOCATION:Field 2A (Rec)
CONTACT:
SUMMARY:Gremio FC 1st Grade VS. Wizard FC U7
DESCRIPTION:League Name: Winter Soccer-Winter II-5v5 League-1st Grade\nGame
  Type: Regular\nGame Status: Complete\nHome Team: Gremio FC 1st Grade\nAwa
 y Team: Wizard FC U7\nHome Score: 3\nAway Score: 4
END:VEVENT
BEGIN:VEVENT
UID:12982158@ezleagues.ezfacility.com
DTSTAMP:20260424T044311Z
CREATED:20260424T044311Z
DTSTART:20200213T224500Z
DTEND:20200213T233000Z
LOCATION:Field 2C (Rec)
CONTACT:
SUMMARY:Gremio FC 1st Grade VS. CSL Dynamo
DESCRIPTION:League Name: Winter Soccer-Winter II-5v5 League-1st Grade\nGame
  Type: Regular\nGame Status: Complete\nHome Team: Gremio FC 1st Grade\nAwa
 y Team: CSL Dynamo\nHome Score: 5\nAway Score: 5
END:VEVENT
BEGIN:VEVENT
UID:12982171@ezleagues.ezfacility.com
DTSTAMP:20260424T044311Z
CREATED:20260424T044311Z
DTSTART:20200220T224500Z
DTEND:20200220T233000Z
LOCATION:Field 2C (Rec)
CONTACT:
SUMMARY:Gremio FC 1st Grade VS. WY Black 1st
DESCRIPTION:League Name: Winter Soccer-Winter II-5v5 League-1st Grade\nGame
  Type: Regular\nGame Status: Complete\nHome Team: Gremio FC 1st Grade\nAwa
 y Team: WY Black 1st\nHome Score: 5\nAway Score: 5
END:VEVENT
BEGIN:VEVENT
UID:12982183@ezleagues.ezfacility.com
DTSTAMP:20260424T044311Z
CREATED:20260424T044311Z
DTSTART:20200227T224500Z
DTEND:20200227T233000Z
LOCATION:Field 2C (Rec)
CONTACT:
SUMMARY:Wizard FC U7 VS. Gremio FC 1st Grade
DESCRIPTION:League Name: Winter Soccer-Winter II-5v5 League-1st Grade\nGame
  Type: Regular\nGame Status: Complete\nHome Team: Wizard FC U7\nAway Team:
  Gremio FC 1st Grade\nHome Score: 6\nAway Score: 4
END:VEVENT
BEGIN:VEVENT
UID:12982194@ezleagues.ezfacility.com
DTSTAMP:20260424T044311Z
CREATED:20260424T044311Z
DTSTART:20200305T224500Z
DTEND:20200305T233000Z
LOCATION:Field 2A (Rec)
CONTACT:
SUMMARY:Gremio FC 1st Grade VS. CSL Dynamo
DESCRIPTION:League Name: Winter Soccer-Winter II-5v5 League-1st Grade\nGame
  Type: Regular\nGame Status: Complete\nHome Team: Gremio FC 1st Grade\nAwa
 y Team: CSL Dynamo\nHome Score: 8\nAway Score: 6
END:VEVENT
BEGIN:VEVENT
UID:12982207@ezleagues.ezfacility.com
DTSTAMP:20260424T044311Z
CREATED:20260424T044311Z
DTSTART:20200312T214500Z
DTEND:20200312T223000Z
LOCATION:Field 2A (Rec)
CONTACT:
SUMMARY:Gremio FC 1st Grade VS. WY Black 1st
DESCRIPTION:League Name: Winter Soccer-Winter II-5v5 League-1st Grade\nGame
  Type: Regular\nGame Status: Complete\nHome Team: Gremio FC 1st Grade\nAwa
 y Team: WY Black 1st\nHome Score: 4\nAway Score: 1
END:VEVENT
END:VCALENDAR
