BEGIN:VCALENDAR
VERSION:2.0
PRODID:-//EZFacility.com, Inc.//EZL 2.5.5.28621
BEGIN:VEVENT
UID:12985171@ezleagues.ezfacility.com
DTSTAMP:20260422T053240Z
CREATED:20260422T053240Z
DTSTART:20200109T015000Z
DTEND:20200109T024000Z
LOCATION:Field 2
CONTACT:
SUMMARY:Net Six and Chill VS. Land sharks
DESCRIPTION:League Name: Adult Soccer Leagues Winter 2020 -Men's Competitiv
 e Soccer League Winter 2020\nGame Type: Regular\nGame Status: Complete\nHo
 me Team: Net Six and Chill\nAway Team: Land sharks\nHome Score: 9\nAway Sc
 ore: 4
END:VEVENT
BEGIN:VEVENT
UID:12985172@ezleagues.ezfacility.com
DTSTAMP:20260422T053240Z
CREATED:20260422T053240Z
DTSTART:20200116T013000Z
DTEND:20200116T022000Z
LOCATION:Field 1
CONTACT:
SUMMARY:BET VS. Net Six and Chill
DESCRIPTION:League Name: Adult Soccer Leagues Winter 2020 -Men's Competitiv
 e Soccer League Winter 2020\nGame Type: Regular\nGame Status: Complete\nHo
 me Team: BET\nAway Team: Net Six and Chill\nHome Score: 9\nAway Score: 4
END:VEVENT
BEGIN:VEVENT
UID:12985175@ezleagues.ezfacility.com
DTSTAMP:20260422T053240Z
CREATED:20260422T053240Z
DTSTART:20200123T013000Z
DTEND:20200123T022000Z
LOCATION:Field 1
CONTACT:
SUMMARY:Union VS. Net Six and Chill
DESCRIPTION:League Name: Adult Soccer Leagues Winter 2020 -Men's Competitiv
 e Soccer League Winter 2020\nGame Type: Regular\nGame Status: Complete\nHo
 me Team: Union\nAway Team: Net Six and Chill\nHome Score: 10\nAway Score: 
 5
END:VEVENT
BEGIN:VEVENT
UID:13032516@ezleagues.ezfacility.com
DTSTAMP:20260422T053240Z
CREATED:20260422T053240Z
DTSTART:20200129T022000Z
DTEND:20200129T031000Z
LOCATION:Field 1
CONTACT:
SUMMARY:Sneaky Snakes VS. Net Six and Chill
DESCRIPTION:League Name: Adult Soccer Leagues Winter 2020 -Men's Competitiv
 e Soccer League Winter 2020\nGame Type: Regular\nGame Status: Complete\nHo
 me Team: Sneaky Snakes\nAway Team: Net Six and Chill\nHome Score: 2\nAway 
 Score: 13
END:VEVENT
BEGIN:VEVENT
UID:13034870@ezleagues.ezfacility.com
DTSTAMP:20260422T053240Z
CREATED:20260422T053240Z
DTSTART:20200205T022000Z
DTEND:20200205T031000Z
LOCATION:Field 1
CONTACT:
SUMMARY:Net Six and Chill VS. Happy Hippos
DESCRIPTION:League Name: Adult Soccer Leagues Winter 2020 -Men's Competitiv
 e Soccer League Winter 2020\nGame Type: Regular\nGame Status: Complete\nHo
 me Team: Net Six and Chill\nAway Team: Happy Hippos\nHome Score: 4\nAway S
 core: 7
END:VEVENT
BEGIN:VEVENT
UID:12985181@ezleagues.ezfacility.com
DTSTAMP:20260422T053240Z
CREATED:20260422T053240Z
DTSTART:20200213T013000Z
DTEND:20200213T022000Z
LOCATION:Field 1
CONTACT:
SUMMARY:Net Six and Chill VS. Manchester FC
DESCRIPTION:League Name: Adult Soccer Leagues Winter 2020 -Men's Competitiv
 e Soccer League Winter 2020\nGame Type: Regular\nGame Status: Complete\nHo
 me Team: Net Six and Chill\nAway Team: Manchester FC\nHome Score: 7\nAway 
 Score: 6
END:VEVENT
BEGIN:VEVENT
UID:12985183@ezleagues.ezfacility.com
DTSTAMP:20260422T053240Z
CREATED:20260422T053240Z
DTSTART:20200220T022000Z
DTEND:20200220T031000Z
LOCATION:Field 1
CONTACT:
SUMMARY:Land sharks VS. Net Six and Chill
DESCRIPTION:League Name: Adult Soccer Leagues Winter 2020 -Men's Competitiv
 e Soccer League Winter 2020\nGame Type: Regular\nGame Status: Complete\nHo
 me Team: Land sharks\nAway Team: Net Six and Chill\nHome Score: 11\nAway S
 core: 4
END:VEVENT
BEGIN:VEVENT
UID:13119786@ezleagues.ezfacility.com
DTSTAMP:20260422T053240Z
CREATED:20260422T053240Z
DTSTART:20200227T013000Z
DTEND:20200227T020000Z
LOCATION:Field 1
CONTACT:
SUMMARY:Land sharks VS. Net Six and Chill
DESCRIPTION:League Name: Adult Soccer Leagues Winter 2020 -Men's Competitiv
 e Soccer League Winter 2020\nGame Type: Postseason\nGame Status: Complete\
 nHome Team: Land sharks\nAway Team: Net Six and Chill\nHome Score: 1\nAway
  Score: 0
END:VEVENT
END:VCALENDAR
