BEGIN:VCALENDAR
VERSION:2.0
PRODID:-//EZFacility.com, Inc.//EZL 2.5.5.28621
BEGIN:VEVENT
UID:12998283@ezleagues.ezfacility.com
DTSTAMP:20260426T033835Z
CREATED:20260426T033835Z
DTSTART:20200104T082000Z
DTEND:20200104T090500Z
LOCATION:Hoops The Right Way Court 4
CONTACT:
SUMMARY:STER 10 B1 VS. FCV 10 G2
DESCRIPTION:League Name: 2020 Youth Futsal, U10-11 Coed\nGame Type: Regular
 \nGame Status: Complete\nHome Team: STER 10 B1\nAway Team: FCV 10 G2\nHome
  Score: 13\nAway Score: 1
END:VEVENT
BEGIN:VEVENT
UID:12998325@ezleagues.ezfacility.com
DTSTAMP:20260426T033835Z
CREATED:20260426T033835Z
DTSTART:20200111T202000Z
DTEND:20200111T210500Z
LOCATION:Hoops The Right Way Court 5
CONTACT:
SUMMARY:FCV 10 G2 VS. GFR 10 B
DESCRIPTION:League Name: 2020 Youth Futsal, U10-11 Coed\nGame Type: Regular
 \nGame Status: Complete\nHome Team: FCV 10 G2\nAway Team: GFR 10 B\nHome S
 core: 1\nAway Score: 6
END:VEVENT
BEGIN:VEVENT
UID:12998363@ezleagues.ezfacility.com
DTSTAMP:20260426T033835Z
CREATED:20260426T033835Z
DTSTART:20200118T193000Z
DTEND:20200118T201500Z
LOCATION:Hoops The Right Way Court 6
CONTACT:
SUMMARY:GFR 11 G VS. FCV 10 G2
DESCRIPTION:League Name: 2020 Youth Futsal, U10-11 Coed\nGame Type: Regular
 \nGame Status: Complete\nHome Team: GFR 11 G\nAway Team: FCV 10 G2\nHome S
 core: 5\nAway Score: 1
END:VEVENT
BEGIN:VEVENT
UID:12998439@ezleagues.ezfacility.com
DTSTAMP:20260426T033835Z
CREATED:20260426T033835Z
DTSTART:20200201T201500Z
DTEND:20200201T210000Z
LOCATION:Hoops The Right Way Court 6
CONTACT:
SUMMARY:FCV 10 G2 VS. FCV 09 G1
DESCRIPTION:League Name: 2020 Youth Futsal, U10-11 Coed\nGame Type: Regular
 \nGame Status: Complete\nHome Team: FCV 10 G2\nAway Team: FCV 09 G1\nHome 
 Score: 5\nAway Score: 4
END:VEVENT
BEGIN:VEVENT
UID:12998477@ezleagues.ezfacility.com
DTSTAMP:20260426T033835Z
CREATED:20260426T033835Z
DTSTART:20200208T193000Z
DTEND:20200208T201500Z
LOCATION:Hoops The Right Way Court 5
CONTACT:
SUMMARY:FCV 10 G2 VS. FCV 09 G2
DESCRIPTION:League Name: 2020 Youth Futsal, U10-11 Coed\nGame Type: Regular
 \nGame Status: Complete\nHome Team: FCV 10 G2\nAway Team: FCV 09 G2\nHome 
 Score: 4\nAway Score: 6
END:VEVENT
BEGIN:VEVENT
UID:13103893@ezleagues.ezfacility.com
DTSTAMP:20260426T033835Z
CREATED:20260426T033835Z
DTSTART:20200229T201500Z
DTEND:20200229T210000Z
LOCATION:Hoops The Right Way Court 5
CONTACT:
SUMMARY:FCV 10 G2 VS. FC Barcelona
DESCRIPTION:League Name: 2020 Youth Futsal, U10-11 Coed\nGame Type: Postsea
 son\nGame Status: Complete\nHome Team: FCV 10 G2\nAway Team: FC Barcelona\
 nHome Score: 1\nAway Score: 3
END:VEVENT
END:VCALENDAR
