BEGIN:VCALENDAR
VERSION:2.0
PRODID:-//EZFacility.com, Inc.//EZL 2.5.5.28621
BEGIN:VEVENT
UID:13008855@ezleagues.ezfacility.com
DTSTAMP:20260426T034808Z
CREATED:20260426T034808Z
DTSTART:20200107T014000Z
DTEND:20200107T023000Z
LOCATION:Red Field
CONTACT:
SUMMARY:Pizza FC VS. The Isotopes
DESCRIPTION:League Name: Winter B Soccer Session (2020) - Coed Green Divisi
 on\nGame Type: Regular\nGame Status: Complete\nHome Team: Pizza FC\nAway T
 eam: The Isotopes\nHome Score: 4\nAway Score: 0
END:VEVENT
BEGIN:VEVENT
UID:13008911@ezleagues.ezfacility.com
DTSTAMP:20260426T034808Z
CREATED:20260426T034808Z
DTSTART:20200116T020500Z
DTEND:20200116T025500Z
LOCATION:Red Field
CONTACT:
SUMMARY:Straight Shooters VS. The Isotopes
DESCRIPTION:League Name: Winter B Soccer Session (2020) - Coed Green Divisi
 on\nGame Type: Regular\nGame Status: Complete\nHome Team: Straight Shooter
 s\nAway Team: The Isotopes\nHome Score: 4\nAway Score: 1
END:VEVENT
BEGIN:VEVENT
UID:13008887@ezleagues.ezfacility.com
DTSTAMP:20260426T034808Z
CREATED:20260426T034808Z
DTSTART:20200123T014000Z
DTEND:20200123T023000Z
LOCATION:Blue Field
CONTACT:
SUMMARY:Twisted Ankles VS. The Isotopes
DESCRIPTION:League Name: Winter B Soccer Session (2020) - Coed Green Divisi
 on\nGame Type: Regular\nGame Status: Complete\nHome Team: Twisted Ankles\n
 Away Team: The Isotopes\nHome Score: 0\nAway Score: 4
END:VEVENT
BEGIN:VEVENT
UID:13008899@ezleagues.ezfacility.com
DTSTAMP:20260426T034808Z
CREATED:20260426T034808Z
DTSTART:20200130T020500Z
DTEND:20200130T025500Z
LOCATION:Red Field
CONTACT:
SUMMARY:The Isotopes VS. Team Woodstock
DESCRIPTION:League Name: Winter B Soccer Session (2020) - Coed Green Divisi
 on\nGame Type: Regular\nGame Status: Complete\nHome Team: The Isotopes\nAw
 ay Team: Team Woodstock\nHome Score: 2\nAway Score: 2
END:VEVENT
BEGIN:VEVENT
UID:13008875@ezleagues.ezfacility.com
DTSTAMP:20260426T034808Z
CREATED:20260426T034808Z
DTSTART:20200206T033000Z
DTEND:20200206T042000Z
LOCATION:Blue Field
CONTACT:
SUMMARY:Erie Canal Wanderers VS. The Isotopes
DESCRIPTION:League Name: Winter B Soccer Session (2020) - Coed Green Divisi
 on\nGame Type: Regular\nGame Status: Complete\nHome Team: Erie Canal Wande
 rers\nAway Team: The Isotopes\nHome Score: 1\nAway Score: 2
END:VEVENT
BEGIN:VEVENT
UID:13008923@ezleagues.ezfacility.com
DTSTAMP:20260426T034808Z
CREATED:20260426T034808Z
DTSTART:20200218T014000Z
DTEND:20200218T023000Z
LOCATION:Red Field
CONTACT:
SUMMARY:The Isotopes VS. Maybe Next Week
DESCRIPTION:League Name: Winter B Soccer Session (2020) - Coed Green Divisi
 on\nGame Type: Regular\nGame Status: Complete\nHome Team: The Isotopes\nAw
 ay Team: Maybe Next Week\nHome Score: 3\nAway Score: 4
END:VEVENT
BEGIN:VEVENT
UID:13111295@ezleagues.ezfacility.com
DTSTAMP:20260426T034808Z
CREATED:20260426T034808Z
DTSTART:20200225T023000Z
DTEND:20200225T032000Z
LOCATION:Blue Field
CONTACT:
SUMMARY:Erie Canal Wanderers VS. The Isotopes
DESCRIPTION:League Name: Winter B Soccer Session (2020) - Coed Green Divisi
 on\nGame Type: Postseason\nGame Status: Complete\nHome Team: Erie Canal Wa
 nderers\nAway Team: The Isotopes\nHome Score: 2\nAway Score: 0
END:VEVENT
BEGIN:VEVENT
UID:13111300@ezleagues.ezfacility.com
DTSTAMP:20260426T034808Z
CREATED:20260426T034808Z
DTSTART:20200303T032500Z
DTEND:20200303T041500Z
LOCATION:Blue Field
CONTACT:
SUMMARY:Purple Cobras  VS. The Isotopes
DESCRIPTION:League Name: Winter B Soccer Session (2020) - Coed Green Divisi
 on\nGame Type: Postseason\nGame Status: Complete\nHome Team: Purple Cobras
  \nAway Team: The Isotopes\nHome Score: 4\nAway Score: 6
END:VEVENT
END:VCALENDAR
