BEGIN:VCALENDAR
VERSION:2.0
PRODID:-//EZFacility.com, Inc.//EZL 2.5.5.28621
BEGIN:VEVENT
UID:13008849@ezleagues.ezfacility.com
DTSTAMP:20260425T004803Z
CREATED:20260425T004803Z
DTSTART:20200109T020500Z
DTEND:20200109T025500Z
LOCATION:Red Field
CONTACT:
SUMMARY:Buffalo Gnus VS. Bearded Dragons
DESCRIPTION:League Name: Winter B Soccer Session(2020) - Coed Blue Division
 \nGame Type: Regular\nGame Status: Complete\nHome Team: Buffalo Gnus\nAway
  Team: Bearded Dragons\nHome Score: 5\nAway Score: 5
END:VEVENT
BEGIN:VEVENT
UID:13008906@ezleagues.ezfacility.com
DTSTAMP:20260425T004803Z
CREATED:20260425T004803Z
DTSTART:20200114T023000Z
DTEND:20200114T032000Z
LOCATION:Blue Field
CONTACT:
SUMMARY:Buffalo Gnus VS. MAGA FC
DESCRIPTION:League Name: Winter B Soccer Session(2020) - Coed Blue Division
 \nGame Type: Regular\nGame Status: Complete\nHome Team: Buffalo Gnus\nAway
  Team: MAGA FC\nHome Score: 5\nAway Score: 3
END:VEVENT
BEGIN:VEVENT
UID:13008896@ezleagues.ezfacility.com
DTSTAMP:20260425T004803Z
CREATED:20260425T004803Z
DTSTART:20200123T020500Z
DTEND:20200123T025500Z
LOCATION:Red Field
CONTACT:
SUMMARY:Frenemies FC VS. Buffalo Gnus
DESCRIPTION:League Name: Winter B Soccer Session(2020) - Coed Blue Division
 \nGame Type: Regular\nGame Status: Complete\nHome Team: Frenemies FC\nAway
  Team: Buffalo Gnus\nHome Score: 5\nAway Score: 5
END:VEVENT
BEGIN:VEVENT
UID:13008885@ezleagues.ezfacility.com
DTSTAMP:20260425T004803Z
CREATED:20260425T004803Z
DTSTART:20200128T023000Z
DTEND:20200128T032000Z
LOCATION:Blue Field
CONTACT:
SUMMARY:Kangaroos VS. Buffalo Gnus
DESCRIPTION:League Name: Winter B Soccer Session(2020) - Coed Blue Division
 \nGame Type: Regular\nGame Status: Complete\nHome Team: Kangaroos\nAway Te
 am: Buffalo Gnus\nHome Score: 2\nAway Score: 8
END:VEVENT
BEGIN:VEVENT
UID:13008861@ezleagues.ezfacility.com
DTSTAMP:20260425T004803Z
CREATED:20260425T004803Z
DTSTART:20200206T020500Z
DTEND:20200206T025500Z
LOCATION:Red Field
CONTACT:
SUMMARY:Tekkers VS. Buffalo Gnus
DESCRIPTION:League Name: Winter B Soccer Session(2020) - Coed Blue Division
 \nGame Type: Regular\nGame Status: Complete\nHome Team: Tekkers\nAway Team
 : Buffalo Gnus\nHome Score: 1\nAway Score: 7
END:VEVENT
BEGIN:VEVENT
UID:13008873@ezleagues.ezfacility.com
DTSTAMP:20260425T004803Z
CREATED:20260425T004803Z
DTSTART:20200220T020500Z
DTEND:20200220T025500Z
LOCATION:Red Field
CONTACT:
SUMMARY:Buffalo Gnus VS. Past Our Prime FC
DESCRIPTION:League Name: Winter B Soccer Session(2020) - Coed Blue Division
 \nGame Type: Regular\nGame Status: Complete\nHome Team: Buffalo Gnus\nAway
  Team: Past Our Prime FC\nHome Score: 8\nAway Score: 5
END:VEVENT
BEGIN:VEVENT
UID:13111284@ezleagues.ezfacility.com
DTSTAMP:20260425T004803Z
CREATED:20260425T004803Z
DTSTART:20200227T030000Z
DTEND:20200227T035000Z
LOCATION:Red Field
CONTACT:
SUMMARY:Buffalo Gnus VS. Bearded Dragons
DESCRIPTION:League Name: Winter B Soccer Session(2020) - Coed Blue Division
 \nGame Type: Postseason\nGame Status: Complete\nHome Team: Buffalo Gnus\nA
 way Team: Bearded Dragons\nHome Score: 0\nAway Score: 6
END:VEVENT
BEGIN:VEVENT
UID:13111288@ezleagues.ezfacility.com
DTSTAMP:20260425T004803Z
CREATED:20260425T004803Z
DTSTART:20200303T033000Z
DTEND:20200303T042000Z
LOCATION:Red Field
CONTACT:
SUMMARY:Past Our Prime FC VS. Buffalo Gnus
DESCRIPTION:League Name: Winter B Soccer Session(2020) - Coed Blue Division
 \nGame Type: Postseason\nGame Status: Complete\nHome Team: Past Our Prime 
 FC\nAway Team: Buffalo Gnus\nHome Score: 4\nAway Score: 6
END:VEVENT
END:VCALENDAR
