BEGIN:VCALENDAR
VERSION:2.0
PRODID:-//EZFacility.com, Inc.//EZL 2.5.5.28621
BEGIN:VEVENT
UID:13022175@ezleagues.ezfacility.com
DTSTAMP:20260425T211344Z
CREATED:20260425T211344Z
DTSTART:20200120T010000Z
DTEND:20200120T020000Z
LOCATION:Mississauga Sportsplex Court 2
CONTACT:
SUMMARY:Pop\, Lock and Block It  VS. Hit and Miss
DESCRIPTION:League Name: Sunday CIVL East - Winter 2020\nGame Type: Regular
 \nGame Status: Complete\nHome Team: Pop, Lock and Block It \nAway Team: Hi
 t and Miss\nHome Score: 1\nAway Score: 2
END:VEVENT
BEGIN:VEVENT
UID:13022188@ezleagues.ezfacility.com
DTSTAMP:20260425T211344Z
CREATED:20260425T211344Z
DTSTART:20200127T020000Z
DTEND:20200127T030000Z
LOCATION:Mississauga Sportsplex Court 1
CONTACT:
SUMMARY:Hit and Miss VS. Finga Poppaz
DESCRIPTION:League Name: Sunday CIVL East - Winter 2020\nGame Type: Regular
 \nGame Status: Complete\nHome Team: Hit and Miss\nAway Team: Finga Poppaz\
 nHome Score: 3\nAway Score: 0
END:VEVENT
BEGIN:VEVENT
UID:13022200@ezleagues.ezfacility.com
DTSTAMP:20260425T211344Z
CREATED:20260425T211344Z
DTSTART:20200203T030000Z
DTEND:20200203T040000Z
LOCATION:Mississauga Sportsplex Court 3
CONTACT:
SUMMARY:Friends VS. Hit and Miss
DESCRIPTION:League Name: Sunday CIVL East - Winter 2020\nGame Type: Regular
 \nGame Status: Complete\nHome Team: Friends\nAway Team: Hit and Miss\nHome
  Score: 0\nAway Score: 3
END:VEVENT
BEGIN:VEVENT
UID:13022211@ezleagues.ezfacility.com
DTSTAMP:20260425T211344Z
CREATED:20260425T211344Z
DTSTART:20200210T040000Z
DTEND:20200210T050000Z
LOCATION:Mississauga Sportsplex Court 3
CONTACT:
SUMMARY:Set on my Face VS. Hit and Miss
DESCRIPTION:League Name: Sunday CIVL East - Winter 2020\nGame Type: Regular
 \nGame Status: Complete\nHome Team: Set on my Face\nAway Team: Hit and Mis
 s\nHome Score: 3\nAway Score: 0
END:VEVENT
BEGIN:VEVENT
UID:13022222@ezleagues.ezfacility.com
DTSTAMP:20260425T211344Z
CREATED:20260425T211344Z
DTSTART:20200217T010000Z
DTEND:20200217T020000Z
LOCATION:Mississauga Sportsplex Court 2
CONTACT:
SUMMARY:I Dig Your Bumps  VS. Hit and Miss
DESCRIPTION:League Name: Sunday CIVL East - Winter 2020\nGame Type: Regular
 \nGame Status: Complete\nHome Team: I Dig Your Bumps \nAway Team: Hit and 
 Miss\nHome Score: 2\nAway Score: 1
END:VEVENT
BEGIN:VEVENT
UID:13022233@ezleagues.ezfacility.com
DTSTAMP:20260425T211344Z
CREATED:20260425T211344Z
DTSTART:20200224T020000Z
DTEND:20200224T030000Z
LOCATION:Mississauga Sportsplex Court 1
CONTACT:
SUMMARY:Hit and Miss VS. Full of Hits
DESCRIPTION:League Name: Sunday CIVL East - Winter 2020\nGame Type: Regular
 \nGame Status: Complete\nHome Team: Hit and Miss\nAway Team: Full of Hits\
 nHome Score: 0\nAway Score: 3
END:VEVENT
BEGIN:VEVENT
UID:13022246@ezleagues.ezfacility.com
DTSTAMP:20260425T211344Z
CREATED:20260425T211344Z
DTSTART:20200302T030000Z
DTEND:20200302T040000Z
LOCATION:Mississauga Sportsplex Court 1
CONTACT:
SUMMARY:Hit and Miss VS. You Got Served
DESCRIPTION:League Name: Sunday CIVL East - Winter 2020\nGame Type: Regular
 \nGame Status: Complete\nHome Team: Hit and Miss\nAway Team: You Got Serve
 d\nHome Score: 0\nAway Score: 3
END:VEVENT
BEGIN:VEVENT
UID:13022259@ezleagues.ezfacility.com
DTSTAMP:20260425T211344Z
CREATED:20260425T211344Z
DTSTART:20200309T030000Z
DTEND:20200309T040000Z
LOCATION:Mississauga Sportsplex Court 3
CONTACT:
SUMMARY:Hit and Miss VS. Pop\, Lock and Block It 
DESCRIPTION:League Name: Sunday CIVL East - Winter 2020\nGame Type: Regular
 \nGame Status: Complete\nHome Team: Hit and Miss\nAway Team: Pop, Lock and
  Block It \nHome Score: 3\nAway Score: 0
END:VEVENT
END:VCALENDAR
