BEGIN:VCALENDAR
VERSION:2.0
PRODID:-//EZFacility.com, Inc.//EZL 2.5.5.28621
BEGIN:VEVENT
UID:13022180@ezleagues.ezfacility.com
DTSTAMP:20260426T035005Z
CREATED:20260426T035005Z
DTSTART:20200120T020000Z
DTEND:20200120T030000Z
LOCATION:Mississauga Sportsplex Court 3
CONTACT:
SUMMARY:How I Set Your Mother  VS. Practice Safe Sets
DESCRIPTION:League Name: Sunday CIVL North - Winter 2020\nGame Type: Regula
 r\nGame Status: Complete\nHome Team: How I Set Your Mother \nAway Team: Pr
 actice Safe Sets\nHome Score: 3\nAway Score: 0
END:VEVENT
BEGIN:VEVENT
UID:13022192@ezleagues.ezfacility.com
DTSTAMP:20260426T035005Z
CREATED:20260426T035005Z
DTSTART:20200127T030000Z
DTEND:20200127T040000Z
LOCATION:Mississauga Sportsplex Court 3
CONTACT:
SUMMARY:Tryna Smash  VS. Practice Safe Sets
DESCRIPTION:League Name: Sunday CIVL North - Winter 2020\nGame Type: Regula
 r\nGame Status: Complete\nHome Team: Tryna Smash \nAway Team: Practice Saf
 e Sets\nHome Score: 3\nAway Score: 0
END:VEVENT
BEGIN:VEVENT
UID:13022203@ezleagues.ezfacility.com
DTSTAMP:20260426T035005Z
CREATED:20260426T035005Z
DTSTART:20200203T040000Z
DTEND:20200203T050000Z
LOCATION:Mississauga Sportsplex Court 2
CONTACT:
SUMMARY:Blockbusters VS. Practice Safe Sets
DESCRIPTION:League Name: Sunday CIVL North - Winter 2020\nGame Type: Regula
 r\nGame Status: Complete\nHome Team: Blockbusters\nAway Team: Practice Saf
 e Sets\nHome Score: 2\nAway Score: 1
END:VEVENT
BEGIN:VEVENT
UID:13022214@ezleagues.ezfacility.com
DTSTAMP:20260426T035005Z
CREATED:20260426T035005Z
DTSTART:20200210T020000Z
DTEND:20200210T030000Z
LOCATION:Mississauga Sportsplex Court 1
CONTACT:
SUMMARY:Subtle Ace'n Traits VS. Practice Safe Sets
DESCRIPTION:League Name: Sunday CIVL North - Winter 2020\nGame Type: Regula
 r\nGame Status: Complete\nHome Team: Subtle Ace'n Traits\nAway Team: Pract
 ice Safe Sets\nHome Score: 3\nAway Score: 0
END:VEVENT
BEGIN:VEVENT
UID:13022225@ezleagues.ezfacility.com
DTSTAMP:20260426T035005Z
CREATED:20260426T035005Z
DTSTART:20200217T030000Z
DTEND:20200217T040000Z
LOCATION:Mississauga Sportsplex Court 2
CONTACT:
SUMMARY:Practice Safe Sets VS. Team Camp
DESCRIPTION:League Name: Sunday CIVL North - Winter 2020\nGame Type: Regula
 r\nGame Status: Complete\nHome Team: Practice Safe Sets\nAway Team: Team C
 amp\nHome Score: 3\nAway Score: 0
END:VEVENT
BEGIN:VEVENT
UID:13022238@ezleagues.ezfacility.com
DTSTAMP:20260426T035005Z
CREATED:20260426T035005Z
DTSTART:20200224T030000Z
DTEND:20200224T040000Z
LOCATION:Mississauga Sportsplex Court 1
CONTACT:
SUMMARY:Practice Safe Sets VS. The Lalors
DESCRIPTION:League Name: Sunday CIVL North - Winter 2020\nGame Type: Regula
 r\nGame Status: Complete\nHome Team: Practice Safe Sets\nAway Team: The La
 lors\nHome Score: 0\nAway Score: 3
END:VEVENT
BEGIN:VEVENT
UID:13022251@ezleagues.ezfacility.com
DTSTAMP:20260426T035005Z
CREATED:20260426T035005Z
DTSTART:20200302T010000Z
DTEND:20200302T020000Z
LOCATION:Mississauga Sportsplex Court 2
CONTACT:
SUMMARY:Practice Safe Sets VS. Indy Ballers
DESCRIPTION:League Name: Sunday CIVL North - Winter 2020\nGame Type: Regula
 r\nGame Status: Complete\nHome Team: Practice Safe Sets\nAway Team: Indy B
 allers\nHome Score: 0\nAway Score: 3
END:VEVENT
BEGIN:VEVENT
UID:13022264@ezleagues.ezfacility.com
DTSTAMP:20260426T035005Z
CREATED:20260426T035005Z
DTSTART:20200309T000000Z
DTEND:20200309T010000Z
LOCATION:Mississauga Sportsplex Court 3
CONTACT:
SUMMARY:Practice Safe Sets VS. How I Set Your Mother 
DESCRIPTION:League Name: Sunday CIVL North - Winter 2020\nGame Type: Regula
 r\nGame Status: Complete\nHome Team: Practice Safe Sets\nAway Team: How I 
 Set Your Mother \nHome Score: 0\nAway Score: 3
END:VEVENT
END:VCALENDAR
