BEGIN:VCALENDAR
VERSION:2.0
PRODID:-//EZFacility.com, Inc.//EZL 2.5.5.28621
BEGIN:VEVENT
UID:13029911@ezleagues.ezfacility.com
DTSTAMP:20260422T224553Z
CREATED:20260422T224553Z
DTSTART:20200112T230000Z
DTEND:20200113T000000Z
LOCATION:Court 1B
CONTACT:
SUMMARY:Seals- Simpson VS. Cy-Fair
DESCRIPTION:League Name: 7-8th Boys Select- Sunday\nGame Type: Regular\nGam
 e Status: Complete\nHome Team: Seals- Simpson\nAway Team: Cy-Fair\nHome Sc
 ore: 21\nAway Score: 59
END:VEVENT
BEGIN:VEVENT
UID:13047765@ezleagues.ezfacility.com
DTSTAMP:20260422T224553Z
CREATED:20260422T224553Z
DTSTART:20200126T230000Z
DTEND:20200127T000000Z
LOCATION:Court 1A
CONTACT:
SUMMARY:CenTex Attack Blake VS. Cy-Fair
DESCRIPTION:League Name: 7-8th Boys Select- Sunday\nGame Type: Regular\nGam
 e Status: Postponed\nHome Team: CenTex Attack Blake\nAway Team: Cy-Fair\n
END:VEVENT
BEGIN:VEVENT
UID:13047769@ezleagues.ezfacility.com
DTSTAMP:20260422T224553Z
CREATED:20260422T224553Z
DTSTART:20200202T190000Z
DTEND:20200202T200000Z
LOCATION:Court 2B
CONTACT:
SUMMARY:Cy-Fair VS. Pure Ambition
DESCRIPTION:League Name: 7-8th Boys Select- Sunday\nGame Type: Regular\nGam
 e Status: Complete\nHome Team: Cy-Fair\nAway Team: Pure Ambition\nHome Sco
 re: 0\nAway Score: 1
END:VEVENT
BEGIN:VEVENT
UID:13047774@ezleagues.ezfacility.com
DTSTAMP:20260422T224553Z
CREATED:20260422T224553Z
DTSTART:20200209T230000Z
DTEND:20200210T000000Z
LOCATION:Court 2B
CONTACT:
SUMMARY:Seals- Simpson VS. Cy-Fair
DESCRIPTION:League Name: 7-8th Boys Select- Sunday\nGame Type: Regular\nGam
 e Status: Complete\nHome Team: Seals- Simpson\nAway Team: Cy-Fair\nHome Sc
 ore: 29\nAway Score: 48
END:VEVENT
BEGIN:VEVENT
UID:13047777@ezleagues.ezfacility.com
DTSTAMP:20260422T224553Z
CREATED:20260422T224553Z
DTSTART:20200216T230000Z
DTEND:20200217T000000Z
LOCATION:Court 1B
CONTACT:
SUMMARY:Cy-Fair VS. Pure Ambition
DESCRIPTION:League Name: 7-8th Boys Select- Sunday\nGame Type: Regular\nGam
 e Status: Complete\nHome Team: Cy-Fair\nAway Team: Pure Ambition\nHome Sco
 re: 68\nAway Score: 17
END:VEVENT
BEGIN:VEVENT
UID:13047778@ezleagues.ezfacility.com
DTSTAMP:20260422T224553Z
CREATED:20260422T224553Z
DTSTART:20200223T200000Z
DTEND:20200223T210000Z
LOCATION:Court 2A
CONTACT:
SUMMARY:CenTex Attack Blake VS. Cy-Fair
DESCRIPTION:League Name: 7-8th Boys Select- Sunday\nGame Type: Regular\nGam
 e Status: Complete\nHome Team: CenTex Attack Blake\nAway Team: Cy-Fair\nHo
 me Score: 0\nAway Score: 1
END:VEVENT
END:VCALENDAR
