BEGIN:VCALENDAR
VERSION:2.0
PRODID:-//EZFacility.com, Inc.//EZL 2.5.5.28621
BEGIN:VEVENT
UID:13037060@ezleagues.ezfacility.com
DTSTAMP:20260426T034050Z
CREATED:20260426T034050Z
DTSTART:20200122T010000Z
DTEND:20200122T020000Z
LOCATION:Mississauga Sportsplex Court 2
CONTACT:
SUMMARY:Diggaz With Attitude VS. Order on the Court
DESCRIPTION:League Name: Tuesday CIVL East - Winter 2020\nGame Type: Regula
 r\nGame Status: Complete\nHome Team: Diggaz With Attitude\nAway Team: Orde
 r on the Court\nHome Score: 1\nAway Score: 1
END:VEVENT
BEGIN:VEVENT
UID:13037068@ezleagues.ezfacility.com
DTSTAMP:20260426T034050Z
CREATED:20260426T034050Z
DTSTART:20200129T040000Z
DTEND:20200129T050000Z
LOCATION:Mississauga Sportsplex Court 2
CONTACT:
SUMMARY:Order on the Court VS. The Asian Volleyball Team Dem
DESCRIPTION:League Name: Tuesday CIVL East - Winter 2020\nGame Type: Regula
 r\nGame Status: Complete\nHome Team: Order on the Court\nAway Team: The As
 ian Volleyball Team Dem\nHome Score: 1\nAway Score: 2
END:VEVENT
BEGIN:VEVENT
UID:13037076@ezleagues.ezfacility.com
DTSTAMP:20260426T034050Z
CREATED:20260426T034050Z
DTSTART:20200205T040000Z
DTEND:20200205T050000Z
LOCATION:Mississauga Sportsplex Court 3
CONTACT:
SUMMARY:Cunning Stunts VS. Order on the Court
DESCRIPTION:League Name: Tuesday CIVL East - Winter 2020\nGame Type: Regula
 r\nGame Status: Complete\nHome Team: Cunning Stunts\nAway Team: Order on t
 he Court\nHome Score: 1\nAway Score: 2
END:VEVENT
BEGIN:VEVENT
UID:13037084@ezleagues.ezfacility.com
DTSTAMP:20260426T034050Z
CREATED:20260426T034050Z
DTSTART:20200212T030000Z
DTEND:20200212T040000Z
LOCATION:Mississauga Sportsplex Court 1
CONTACT:
SUMMARY:Set on my Face VS. Order on the Court
DESCRIPTION:League Name: Tuesday CIVL East - Winter 2020\nGame Type: Regula
 r\nGame Status: Complete\nHome Team: Set on my Face\nAway Team: Order on t
 he Court\nHome Score: 0\nAway Score: 3
END:VEVENT
BEGIN:VEVENT
UID:13037094@ezleagues.ezfacility.com
DTSTAMP:20260426T034050Z
CREATED:20260426T034050Z
DTSTART:20200219T010000Z
DTEND:20200219T020000Z
LOCATION:Mississauga Sportsplex Court 3
CONTACT:
SUMMARY:Order on the Court VS. That's What She Set
DESCRIPTION:League Name: Tuesday CIVL East - Winter 2020\nGame Type: Regula
 r\nGame Status: Complete\nHome Team: Order on the Court\nAway Team: That's
  What She Set\nHome Score: 3\nAway Score: 0
END:VEVENT
BEGIN:VEVENT
UID:13037104@ezleagues.ezfacility.com
DTSTAMP:20260426T034050Z
CREATED:20260426T034050Z
DTSTART:20200226T020000Z
DTEND:20200226T030000Z
LOCATION:Mississauga Sportsplex Court 1
CONTACT:
SUMMARY:Bump Puff Pass VS. Order on the Court
DESCRIPTION:League Name: Tuesday CIVL East - Winter 2020\nGame Type: Regula
 r\nGame Status: Complete\nHome Team: Bump Puff Pass\nAway Team: Order on t
 he Court\nHome Score: 0\nAway Score: 3
END:VEVENT
BEGIN:VEVENT
UID:13037114@ezleagues.ezfacility.com
DTSTAMP:20260426T034050Z
CREATED:20260426T034050Z
DTSTART:20200304T040000Z
DTEND:20200304T050000Z
LOCATION:Mississauga Sportsplex Court 1
CONTACT:
SUMMARY:Order on the Court VS. Two Hit Tuesdays
DESCRIPTION:League Name: Tuesday CIVL East - Winter 2020\nGame Type: Regula
 r\nGame Status: Complete\nHome Team: Order on the Court\nAway Team: Two Hi
 t Tuesdays\nHome Score: 3\nAway Score: 0
END:VEVENT
BEGIN:VEVENT
UID:13037123@ezleagues.ezfacility.com
DTSTAMP:20260426T034050Z
CREATED:20260426T034050Z
DTSTART:20200311T000000Z
DTEND:20200311T010000Z
LOCATION:Mississauga Sportsplex Court 2
CONTACT:
SUMMARY:Cunning Stunts VS. Order on the Court
DESCRIPTION:League Name: Tuesday CIVL East - Winter 2020\nGame Type: Regula
 r\nGame Status: Complete\nHome Team: Cunning Stunts\nAway Team: Order on t
 he Court\nHome Score: 0\nAway Score: 3
END:VEVENT
BEGIN:VEVENT
UID:13037124@ezleagues.ezfacility.com
DTSTAMP:20260426T034050Z
CREATED:20260426T034050Z
DTSTART:20200311T020000Z
DTEND:20200311T030000Z
LOCATION:Mississauga Sportsplex Court 2
CONTACT:
SUMMARY:Order on the Court VS. Blockers
DESCRIPTION:League Name: Tuesday CIVL East - Winter 2020\nGame Type: Regula
 r\nGame Status: Complete\nHome Team: Order on the Court\nAway Team: Blocke
 rs\nHome Score: 1\nAway Score: 2
END:VEVENT
END:VCALENDAR
