BEGIN:VCALENDAR
VERSION:2.0
PRODID:-//EZFacility.com, Inc.//EZL 2.5.5.28621
BEGIN:VEVENT
UID:13063593@ezleagues.ezfacility.com
DTSTAMP:20260424T114414Z
CREATED:20260424T114414Z
DTSTART:20200127T030500Z
DTEND:20200127T040000Z
LOCATION:PFFC Field House - B
CONTACT:
SUMMARY:Man Down VS. Iona FC
DESCRIPTION:League Name: MSL Soccer- Sunday Men's Open - First Game Times\n
 Game Type: Regular\nGame Status: Complete\nHome Team: Man Down\nAway Team:
  Iona FC\nHome Score: 2\nAway Score: 6
END:VEVENT
BEGIN:VEVENT
UID:13063177@ezleagues.ezfacility.com
DTSTAMP:20260424T114414Z
CREATED:20260424T114414Z
DTSTART:20200202T232500Z
DTEND:20200203T002000Z
LOCATION:PFFC Field House - B
CONTACT:
SUMMARY:Man Down VS. Just For Practice FC
DESCRIPTION:League Name: MSL Soccer- Sunday Men's Open - First Game Times\n
 Game Type: Regular\nGame Status: Complete\nHome Team: Man Down\nAway Team:
  Just For Practice FC\nHome Score: 4\nAway Score: 3
END:VEVENT
END:VCALENDAR
