BEGIN:VCALENDAR
VERSION:2.0
PRODID:-//EZFacility.com, Inc.//EZL 2.5.5.28621
BEGIN:VEVENT
UID:13063140@ezleagues.ezfacility.com
DTSTAMP:20260423T083549Z
CREATED:20260423T083549Z
DTSTART:20200126T213500Z
DTEND:20200126T223000Z
LOCATION:PFFC Field House - A
CONTACT:
SUMMARY:Sunday Funday VS. Indvidually United
DESCRIPTION:League Name: MSL Soccer- Sunday Men's Open - First Game Times\n
 Game Type: Regular\nGame Status: Complete\nHome Team: Sunday Funday\nAway 
 Team: Indvidually United\nHome Score: 4\nAway Score: 1
END:VEVENT
BEGIN:VEVENT
UID:13063192@ezleagues.ezfacility.com
DTSTAMP:20260423T083549Z
CREATED:20260423T083549Z
DTSTART:20200203T030500Z
DTEND:20200203T040000Z
LOCATION:PFFC Field House - B
CONTACT:
SUMMARY:Chak FC VS. Sunday Funday
DESCRIPTION:League Name: MSL Soccer- Sunday Men's Open - First Game Times\n
 Game Type: Regular\nGame Status: Complete\nHome Team: Chak FC\nAway Team: 
 Sunday Funday\nHome Score: 0\nAway Score: 3
END:VEVENT
END:VCALENDAR
