BEGIN:VCALENDAR
VERSION:2.0
PRODID:-//EZFacility.com, Inc.//EZL 2.5.5.28621
BEGIN:VEVENT
UID:13067729@ezleagues.ezfacility.com
DTSTAMP:20260426T033509Z
CREATED:20260426T033509Z
DTSTART:20200131T022500Z
DTEND:20200131T031500Z
LOCATION:Indoor West
CONTACT:
SUMMARY:Regulators VS. RSLiverpool
DESCRIPTION:League Name: 2020-01-01-Thursday Mens Intermediate\nGame Type: 
 Regular\nGame Status: Complete\nHome Team: Regulators\nAway Team: RSLiverp
 ool\nHome Score: 5\nAway Score: 5
END:VEVENT
BEGIN:VEVENT
UID:13083235@ezleagues.ezfacility.com
DTSTAMP:20260426T033509Z
CREATED:20260426T033509Z
DTSTART:20200207T052500Z
DTEND:20200207T061500Z
LOCATION:Indoor East
CONTACT:
SUMMARY:RSLiverpool VS. Vertex
DESCRIPTION:League Name: 2020-01-01-Thursday Mens Intermediate\nGame Type: 
 Regular\nGame Status: Complete\nHome Team: RSLiverpool\nAway Team: Vertex\
 nHome Score: 2\nAway Score: 4
END:VEVENT
BEGIN:VEVENT
UID:13083242@ezleagues.ezfacility.com
DTSTAMP:20260426T033509Z
CREATED:20260426T033509Z
DTSTART:20200214T063500Z
DTEND:20200214T072500Z
LOCATION:Indoor West
CONTACT:
SUMMARY:Mamba VS. RSLiverpool
DESCRIPTION:League Name: 2020-01-01-Thursday Mens Intermediate\nGame Type: 
 Regular\nGame Status: Complete\nHome Team: Mamba\nAway Team: RSLiverpool\n
 Home Score: 4\nAway Score: 7
END:VEVENT
BEGIN:VEVENT
UID:13083249@ezleagues.ezfacility.com
DTSTAMP:20260426T033509Z
CREATED:20260426T033509Z
DTSTART:20200221T022500Z
DTEND:20200221T031500Z
LOCATION:Indoor West
CONTACT:
SUMMARY:RSLiverpool VS. Real Premature Adjudication
DESCRIPTION:League Name: 2020-01-01-Thursday Mens Intermediate\nGame Type: 
 Regular\nGame Status: Complete\nHome Team: RSLiverpool\nAway Team: Real Pr
 emature Adjudication\nHome Score: 8\nAway Score: 6
END:VEVENT
BEGIN:VEVENT
UID:13083252@ezleagues.ezfacility.com
DTSTAMP:20260426T033509Z
CREATED:20260426T033509Z
DTSTART:20200228T022500Z
DTEND:20200228T031500Z
LOCATION:Indoor West
CONTACT:
SUMMARY:RSLiverpool VS. Lo peor es nada
DESCRIPTION:League Name: 2020-01-01-Thursday Mens Intermediate\nGame Type: 
 Regular\nGame Status: Complete\nHome Team: RSLiverpool\nAway Team: Lo peor
  es nada\nHome Score: 3\nAway Score: 5
END:VEVENT
BEGIN:VEVENT
UID:13083262@ezleagues.ezfacility.com
DTSTAMP:20260426T033509Z
CREATED:20260426T033509Z
DTSTART:20200306T022500Z
DTEND:20200306T031500Z
LOCATION:Indoor West
CONTACT:
SUMMARY:RSLiverpool VS. British Invasion
DESCRIPTION:League Name: 2020-01-01-Thursday Mens Intermediate\nGame Type: 
 Regular\nGame Status: Complete\nHome Team: RSLiverpool\nAway Team: British
  Invasion\nHome Score: 7\nAway Score: 8
END:VEVENT
BEGIN:VEVENT
UID:13083269@ezleagues.ezfacility.com
DTSTAMP:20260426T033509Z
CREATED:20260426T033509Z
DTSTART:20200313T051500Z
DTEND:20200313T060500Z
LOCATION:Indoor East
CONTACT:
SUMMARY:England FC VS. RSLiverpool
DESCRIPTION:League Name: 2020-01-01-Thursday Mens Intermediate\nGame Type: 
 Regular\nGame Status: Complete\nHome Team: England FC\nAway Team: RSLiverp
 ool\nHome Score: 7\nAway Score: 10
END:VEVENT
BEGIN:VEVENT
UID:13083274@ezleagues.ezfacility.com
DTSTAMP:20260426T033509Z
CREATED:20260426T033509Z
DTSTART:20200522T043000Z
DTEND:20200522T052000Z
LOCATION:Indoor East
CONTACT:
SUMMARY:Trinidad y los vagos VS. RSLiverpool
DESCRIPTION:League Name: 2020-01-01-Thursday Mens Intermediate\nGame Type: 
 Regular\nGame Status: Complete\nHome Team: Trinidad y los vagos\nAway Team
 : RSLiverpool\nHome Score: 14\nAway Score: 4
END:VEVENT
END:VCALENDAR
