BEGIN:VCALENDAR
VERSION:2.0
PRODID:-//EZFacility.com, Inc.//EZL 2.5.5.28621
BEGIN:VEVENT
UID:13072156@ezleagues.ezfacility.com
DTSTAMP:20260426T033406Z
CREATED:20260426T033406Z
DTSTART:20200130T021000Z
DTEND:20200130T030500Z
LOCATION:PFFC Dome - 2
CONTACT:
SUMMARY:Internazionale FC VS. Gol FC
DESCRIPTION:League Name: MSL Soccer - Wed/Thurs Men's  - First Game Times\n
 Game Type: Regular\nGame Status: Complete\nHome Team: Internazionale FC\nA
 way Team: Gol FC\nHome Score: 15\nAway Score: 0
END:VEVENT
BEGIN:VEVENT
UID:13083159@ezleagues.ezfacility.com
DTSTAMP:20260426T033406Z
CREATED:20260426T033406Z
DTSTART:20200206T021000Z
DTEND:20200206T030500Z
LOCATION:PFFC Dome - 2
CONTACT:
SUMMARY:Etobicoke CF VS. Internazionale FC
DESCRIPTION:League Name: MSL Soccer - Wed/Thurs Men's  - First Game Times\n
 Game Type: Regular\nGame Status: Complete\nHome Team: Etobicoke CF\nAway T
 eam: Internazionale FC\nHome Score: 0\nAway Score: 4
END:VEVENT
END:VCALENDAR
