BEGIN:VCALENDAR
VERSION:2.0
PRODID:-//EZFacility.com, Inc.//EZL 2.5.5.28621
BEGIN:VEVENT
UID:13080126@ezleagues.ezfacility.com
DTSTAMP:20260426T035113Z
CREATED:20260426T035113Z
DTSTART:20200205T024500Z
DTEND:20200205T034000Z
LOCATION:PFFC Field House - D
CONTACT:
SUMMARY:The Royals VS. Panthers
DESCRIPTION:League Name: MSL Soccer - Tuesday Ladies- Division 3\nGame Type
 : Regular\nGame Status: Complete\nHome Team: The Royals\nAway Team: Panthe
 rs\nHome Score: 2\nAway Score: 2
END:VEVENT
BEGIN:VEVENT
UID:13079972@ezleagues.ezfacility.com
DTSTAMP:20260426T035113Z
CREATED:20260426T035113Z
DTSTART:20200206T021000Z
DTEND:20200206T030500Z
LOCATION:PFFC Dome - 3
CONTACT:
SUMMARY:The Royals VS. Oakville Lady Classic
DESCRIPTION:League Name: MSL Soccer - Tuesday Ladies- Division 3\nGame Type
 : Regular\nGame Status: Complete\nHome Team: The Royals\nAway Team: Oakvil
 le Lady Classic\nHome Score: 2\nAway Score: 3
END:VEVENT
BEGIN:VEVENT
UID:13079983@ezleagues.ezfacility.com
DTSTAMP:20260426T035113Z
CREATED:20260426T035113Z
DTSTART:20200212T015000Z
DTEND:20200212T024500Z
LOCATION:PFFC Field House - D
CONTACT:
SUMMARY:The Royals VS. Multiple Scoregasms
DESCRIPTION:League Name: MSL Soccer - Tuesday Ladies- Division 3\nGame Type
 : Regular\nGame Status: Complete\nHome Team: The Royals\nAway Team: Multip
 le Scoregasms\nHome Score: 0\nAway Score: 2
END:VEVENT
BEGIN:VEVENT
UID:13079996@ezleagues.ezfacility.com
DTSTAMP:20260426T035113Z
CREATED:20260426T035113Z
DTSTART:20200219T034000Z
DTEND:20200219T043500Z
LOCATION:PFFC Field House - D
CONTACT:
SUMMARY:The Heat VS. The Royals
DESCRIPTION:League Name: MSL Soccer - Tuesday Ladies- Division 3\nGame Type
 : Regular\nGame Status: Complete\nHome Team: The Heat\nAway Team: The Roya
 ls\nHome Score: 1\nAway Score: 0
END:VEVENT
BEGIN:VEVENT
UID:13080009@ezleagues.ezfacility.com
DTSTAMP:20260426T035113Z
CREATED:20260426T035113Z
DTSTART:20200226T024500Z
DTEND:20200226T034000Z
LOCATION:PFFC Field House - D
CONTACT:
SUMMARY:The Royals VS. Goal Diggers
DESCRIPTION:League Name: MSL Soccer - Tuesday Ladies- Division 3\nGame Type
 : Regular\nGame Status: Complete\nHome Team: The Royals\nAway Team: Goal D
 iggers\nHome Score: 1\nAway Score: 2
END:VEVENT
BEGIN:VEVENT
UID:13080021@ezleagues.ezfacility.com
DTSTAMP:20260426T035113Z
CREATED:20260426T035113Z
DTSTART:20200304T005500Z
DTEND:20200304T015000Z
LOCATION:PFFC Field House - C
CONTACT:
SUMMARY:The Royals VS. Pumas
DESCRIPTION:League Name: MSL Soccer - Tuesday Ladies- Division 3\nGame Type
 : Regular\nGame Status: Complete\nHome Team: The Royals\nAway Team: Pumas\
 nHome Score: 5\nAway Score: 0
END:VEVENT
BEGIN:VEVENT
UID:13080032@ezleagues.ezfacility.com
DTSTAMP:20260426T035113Z
CREATED:20260426T035113Z
DTSTART:20200311T005000Z
DTEND:20200311T014500Z
LOCATION:PFFC Field House - C
CONTACT:
SUMMARY:Oakville Lady Classic VS. The Royals
DESCRIPTION:League Name: MSL Soccer - Tuesday Ladies- Division 3\nGame Type
 : Regular\nGame Status: Complete\nHome Team: Oakville Lady Classic\nAway T
 eam: The Royals\nHome Score: 3\nAway Score: 1
END:VEVENT
BEGIN:VEVENT
UID:13080043@ezleagues.ezfacility.com
DTSTAMP:20260426T035113Z
CREATED:20260426T035113Z
DTSTART:20200317T230000Z
DTEND:20200317T235500Z
LOCATION:PFFC Field House - D
CONTACT:
SUMMARY:Multiple Scoregasms VS. The Royals
DESCRIPTION:League Name: MSL Soccer - Tuesday Ladies- Division 3\nGame Type
 : Regular\nGame Status: Postponed\nHome Team: Multiple Scoregasms\nAway Te
 am: The Royals\n
END:VEVENT
BEGIN:VEVENT
UID:13080056@ezleagues.ezfacility.com
DTSTAMP:20260426T035113Z
CREATED:20260426T035113Z
DTSTART:20200324T220500Z
DTEND:20200324T230000Z
LOCATION:PFFC Field House - D
CONTACT:
SUMMARY:The Heat VS. The Royals
DESCRIPTION:League Name: MSL Soccer - Tuesday Ladies- Division 3\nGame Type
 : Regular\nGame Status: Postponed\nHome Team: The Heat\nAway Team: The Roy
 als\n
END:VEVENT
BEGIN:VEVENT
UID:13080069@ezleagues.ezfacility.com
DTSTAMP:20260426T035113Z
CREATED:20260426T035113Z
DTSTART:20200401T024000Z
DTEND:20200401T033500Z
LOCATION:PFFC Field House - C
CONTACT:
SUMMARY:Goal Diggers VS. The Royals
DESCRIPTION:League Name: MSL Soccer - Tuesday Ladies- Division 3\nGame Type
 : Regular\nGame Status: Postponed\nHome Team: Goal Diggers\nAway Team: The
  Royals\n
END:VEVENT
BEGIN:VEVENT
UID:13080081@ezleagues.ezfacility.com
DTSTAMP:20260426T035113Z
CREATED:20260426T035113Z
DTSTART:20200408T005000Z
DTEND:20200408T014500Z
LOCATION:PFFC Field House - C
CONTACT:
SUMMARY:Pumas VS. The Royals
DESCRIPTION:League Name: MSL Soccer - Tuesday Ladies- Division 3\nGame Type
 : Regular\nGame Status: Postponed\nHome Team: Pumas\nAway Team: The Royals
 \n
END:VEVENT
BEGIN:VEVENT
UID:13080092@ezleagues.ezfacility.com
DTSTAMP:20260426T035113Z
CREATED:20260426T035113Z
DTSTART:20200415T014500Z
DTEND:20200415T024000Z
LOCATION:PFFC Field House - D
CONTACT:
SUMMARY:The Royals VS. Oakville Lady Classic
DESCRIPTION:League Name: MSL Soccer - Tuesday Ladies- Division 3\nGame Type
 : Regular\nGame Status: Postponed\nHome Team: The Royals\nAway Team: Oakvi
 lle Lady Classic\n
END:VEVENT
BEGIN:VEVENT
UID:13080103@ezleagues.ezfacility.com
DTSTAMP:20260426T035113Z
CREATED:20260426T035113Z
DTSTART:20200421T235500Z
DTEND:20200422T005000Z
LOCATION:PFFC Field House - C
CONTACT:
SUMMARY:The Royals VS. Multiple Scoregasms
DESCRIPTION:League Name: MSL Soccer - Tuesday Ladies- Division 3\nGame Type
 : Regular\nGame Status: Pending\nHome Team: The Royals\nAway Team: Multipl
 e Scoregasms\n
END:VEVENT
BEGIN:VEVENT
UID:13080162@ezleagues.ezfacility.com
DTSTAMP:20260426T035113Z
CREATED:20260426T035113Z
DTSTART:20200428T230000Z
DTEND:20200428T235500Z
LOCATION:PFFC Field House - C
CONTACT:
SUMMARY:The Royals VS. Oakville Lady Classic
DESCRIPTION:League Name: MSL Soccer - Tuesday Ladies- Division 3\nGame Type
 : Regular\nGame Status: Pending\nHome Team: The Royals\nAway Team: Oakvill
 e Lady Classic\n
END:VEVENT
END:VCALENDAR
