BEGIN:VCALENDAR
VERSION:2.0
PRODID:-//EZFacility.com, Inc.//EZL 2.5.5.28621
BEGIN:VEVENT
UID:13083770@ezleagues.ezfacility.com
DTSTAMP:20260426T034915Z
CREATED:20260426T034915Z
DTSTART:20200205T031000Z
DTEND:20200205T040000Z
LOCATION:Flag Football Field 1
CONTACT:
SUMMARY:Empire VS. Gang Green
DESCRIPTION:League Name: Flag Football Winter II 2019-2020\nGame Type: Regu
 lar\nGame Status: Complete\nHome Team: Empire\nAway Team: Gang Green\nHome
  Score: 42\nAway Score: 31
END:VEVENT
BEGIN:VEVENT
UID:13083777@ezleagues.ezfacility.com
DTSTAMP:20260426T034915Z
CREATED:20260426T034915Z
DTSTART:20200212T013000Z
DTEND:20200212T022000Z
LOCATION:Flag Football Field 1
CONTACT:
SUMMARY:Empire VS. Wrecking Crew
DESCRIPTION:League Name: Flag Football Winter II 2019-2020\nGame Type: Regu
 lar\nGame Status: Complete\nHome Team: Empire\nAway Team: Wrecking Crew\nH
 ome Score: 26\nAway Score: 20
END:VEVENT
BEGIN:VEVENT
UID:13083784@ezleagues.ezfacility.com
DTSTAMP:20260426T034915Z
CREATED:20260426T034915Z
DTSTART:20200219T010000Z
DTEND:20200219T015000Z
LOCATION:Flag Football Field 2
CONTACT:
SUMMARY:Empire VS. Sauce Squad
DESCRIPTION:League Name: Flag Football Winter II 2019-2020\nGame Type: Regu
 lar\nGame Status: Complete\nHome Team: Empire\nAway Team: Sauce Squad\nHom
 e Score: 42\nAway Score: 8
END:VEVENT
BEGIN:VEVENT
UID:13083791@ezleagues.ezfacility.com
DTSTAMP:20260426T034915Z
CREATED:20260426T034915Z
DTSTART:20200226T020000Z
DTEND:20200226T025000Z
LOCATION:Flag Football Field 2
CONTACT:
SUMMARY:Empire VS. Dream Team
DESCRIPTION:League Name: Flag Football Winter II 2019-2020\nGame Type: Regu
 lar\nGame Status: Complete\nHome Team: Empire\nAway Team: Dream Team\nHome
  Score: 26\nAway Score: 24
END:VEVENT
BEGIN:VEVENT
UID:13083797@ezleagues.ezfacility.com
DTSTAMP:20260426T034915Z
CREATED:20260426T034915Z
DTSTART:20200304T020000Z
DTEND:20200304T025000Z
LOCATION:Flag Football Field 2
CONTACT:
SUMMARY:Wolfpack VS. Empire
DESCRIPTION:League Name: Flag Football Winter II 2019-2020\nGame Type: Regu
 lar\nGame Status: Complete\nHome Team: Wolfpack\nAway Team: Empire\nHome S
 core: 21\nAway Score: 36
END:VEVENT
BEGIN:VEVENT
UID:13083802@ezleagues.ezfacility.com
DTSTAMP:20260426T034915Z
CREATED:20260426T034915Z
DTSTART:20200310T230000Z
DTEND:20200310T235000Z
LOCATION:Flag Football Field 2
CONTACT:
SUMMARY:Gridiron Monsters VS. Empire
DESCRIPTION:League Name: Flag Football Winter II 2019-2020\nGame Type: Regu
 lar\nGame Status: Complete\nHome Team: Gridiron Monsters\nAway Team: Empir
 e\nHome Score: 34\nAway Score: 40
END:VEVENT
BEGIN:VEVENT
UID:13083807@ezleagues.ezfacility.com
DTSTAMP:20260426T034915Z
CREATED:20260426T034915Z
DTSTART:20200318T000000Z
DTEND:20200318T005000Z
LOCATION:Flag Football Field 2
CONTACT:
SUMMARY:Show Time VS. Empire
DESCRIPTION:League Name: Flag Football Winter II 2019-2020\nGame Type: Regu
 lar\nGame Status: Pending\nHome Team: Show Time\nAway Team: Empire\n
END:VEVENT
END:VCALENDAR
