BEGIN:VCALENDAR
VERSION:2.0
PRODID:-//EZFacility.com, Inc.//EZL 2.5.5.28621
BEGIN:VEVENT
UID:13087267@ezleagues.ezfacility.com
DTSTAMP:20260426T035125Z
CREATED:20260426T035125Z
DTSTART:20200206T031500Z
DTEND:20200206T041500Z
LOCATION:Field 3
CONTACT:
SUMMARY:Pitch Slaps VS. Wednesday Warriors
DESCRIPTION:League Name: Season 1 Wednesday D3 Men's Feb 5, 2020\nGame Type
 : Regular\nGame Status: Complete\nHome Team: Pitch Slaps\nAway Team: Wedne
 sday Warriors\nHome Score: 11\nAway Score: 10
END:VEVENT
BEGIN:VEVENT
UID:13087268@ezleagues.ezfacility.com
DTSTAMP:20260426T035125Z
CREATED:20260426T035125Z
DTSTART:20200206T041500Z
DTEND:20200206T051500Z
LOCATION:Field 3
CONTACT:
SUMMARY:Wednesday Warriors VS. Pitch Slaps
DESCRIPTION:League Name: Season 1 Wednesday D3 Men's Feb 5, 2020\nGame Type
 : Regular\nGame Status: Complete\nHome Team: Wednesday Warriors\nAway Team
 : Pitch Slaps\nHome Score: 3\nAway Score: 24
END:VEVENT
BEGIN:VEVENT
UID:13087287@ezleagues.ezfacility.com
DTSTAMP:20260426T035125Z
CREATED:20260426T035125Z
DTSTART:20200213T031500Z
DTEND:20200213T041500Z
LOCATION:Field 6
CONTACT:
SUMMARY:Wednesday Warriors VS. Dry Heaves
DESCRIPTION:League Name: Season 1 Wednesday D3 Men's Feb 5, 2020\nGame Type
 : Regular\nGame Status: Complete\nHome Team: Wednesday Warriors\nAway Team
 : Dry Heaves\nHome Score: 15\nAway Score: 5
END:VEVENT
BEGIN:VEVENT
UID:13087296@ezleagues.ezfacility.com
DTSTAMP:20260426T035125Z
CREATED:20260426T035125Z
DTSTART:20200213T041500Z
DTEND:20200213T051500Z
LOCATION:Field 6
CONTACT:
SUMMARY:Dry Heaves VS. Wednesday Warriors
DESCRIPTION:League Name: Season 1 Wednesday D3 Men's Feb 5, 2020\nGame Type
 : Regular\nGame Status: Complete\nHome Team: Dry Heaves\nAway Team: Wednes
 day Warriors\nHome Score: 11\nAway Score: 17
END:VEVENT
BEGIN:VEVENT
UID:13087419@ezleagues.ezfacility.com
DTSTAMP:20260426T035125Z
CREATED:20260426T035125Z
DTSTART:20200220T031500Z
DTEND:20200220T041500Z
LOCATION:Field 1
CONTACT:
SUMMARY:Wednesday Warriors VS. 4 BASE ERROR
DESCRIPTION:League Name: Season 1 Wednesday D3 Men's Feb 5, 2020\nGame Type
 : Regular\nGame Status: Complete\nHome Team: Wednesday Warriors\nAway Team
 : 4 BASE ERROR\nHome Score: 15\nAway Score: 19
END:VEVENT
BEGIN:VEVENT
UID:13087417@ezleagues.ezfacility.com
DTSTAMP:20260426T035125Z
CREATED:20260426T035125Z
DTSTART:20200220T041500Z
DTEND:20200220T051500Z
LOCATION:Field 1
CONTACT:
SUMMARY:Middle closed VS. Wednesday Warriors
DESCRIPTION:League Name: Season 1 Wednesday D3 Men's Feb 5, 2020\nGame Type
 : Regular\nGame Status: Complete\nHome Team: Middle closed\nAway Team: Wed
 nesday Warriors\nHome Score: 15\nAway Score: 7
END:VEVENT
BEGIN:VEVENT
UID:13087340@ezleagues.ezfacility.com
DTSTAMP:20260426T035125Z
CREATED:20260426T035125Z
DTSTART:20200227T021500Z
DTEND:20200227T031500Z
LOCATION:Field 6
CONTACT:
SUMMARY:Phoenix Cartel VS. Wednesday Warriors
DESCRIPTION:League Name: Season 1 Wednesday D3 Men's Feb 5, 2020\nGame Type
 : Regular\nGame Status: Complete\nHome Team: Phoenix Cartel\nAway Team: We
 dnesday Warriors\nHome Score: 18\nAway Score: 11
END:VEVENT
BEGIN:VEVENT
UID:13087337@ezleagues.ezfacility.com
DTSTAMP:20260426T035125Z
CREATED:20260426T035125Z
DTSTART:20200227T031500Z
DTEND:20200227T041500Z
LOCATION:Field 6
CONTACT:
SUMMARY:Wednesday Warriors VS. Mavericks
DESCRIPTION:League Name: Season 1 Wednesday D3 Men's Feb 5, 2020\nGame Type
 : Regular\nGame Status: Complete\nHome Team: Wednesday Warriors\nAway Team
 : Mavericks\nHome Score: 12\nAway Score: 9
END:VEVENT
BEGIN:VEVENT
UID:13087360@ezleagues.ezfacility.com
DTSTAMP:20260426T035125Z
CREATED:20260426T035125Z
DTSTART:20200305T021500Z
DTEND:20200305T031500Z
LOCATION:Field 1
CONTACT:
SUMMARY:Wednesday Warriors VS. One Bad Inning
DESCRIPTION:League Name: Season 1 Wednesday D3 Men's Feb 5, 2020\nGame Type
 : Regular\nGame Status: Complete\nHome Team: Wednesday Warriors\nAway Team
 : One Bad Inning\nHome Score: 21\nAway Score: 5
END:VEVENT
BEGIN:VEVENT
UID:13087354@ezleagues.ezfacility.com
DTSTAMP:20260426T035125Z
CREATED:20260426T035125Z
DTSTART:20200305T041500Z
DTEND:20200305T051500Z
LOCATION:Field 1
CONTACT:
SUMMARY:Thirty Racks VS. Wednesday Warriors
DESCRIPTION:League Name: Season 1 Wednesday D3 Men's Feb 5, 2020\nGame Type
 : Regular\nGame Status: Complete\nHome Team: Thirty Racks\nAway Team: Wedn
 esday Warriors\nHome Score: 15\nAway Score: 5
END:VEVENT
BEGIN:VEVENT
UID:13087307@ezleagues.ezfacility.com
DTSTAMP:20260426T035125Z
CREATED:20260426T035125Z
DTSTART:20200521T031500Z
DTEND:20200521T041500Z
LOCATION:Field 6
CONTACT:
SUMMARY:Blue Ballers VS. Wednesday Warriors
DESCRIPTION:League Name: Season 1 Wednesday D3 Men's Feb 5, 2020\nGame Type
 : Regular\nGame Status: Complete\nHome Team: Blue Ballers\nAway Team: Wedn
 esday Warriors\nHome Score: 7\nAway Score: 19
END:VEVENT
BEGIN:VEVENT
UID:13087308@ezleagues.ezfacility.com
DTSTAMP:20260426T035125Z
CREATED:20260426T035125Z
DTSTART:20200521T041500Z
DTEND:20200521T051500Z
LOCATION:Field 6
CONTACT:
SUMMARY:Wednesday Warriors VS. Blue Ballers
DESCRIPTION:League Name: Season 1 Wednesday D3 Men's Feb 5, 2020\nGame Type
 : Regular\nGame Status: Complete\nHome Team: Wednesday Warriors\nAway Team
 : Blue Ballers\nHome Score: 7\nAway Score: 12
END:VEVENT
BEGIN:VEVENT
UID:13087373@ezleagues.ezfacility.com
DTSTAMP:20260426T035125Z
CREATED:20260426T035125Z
DTSTART:20200528T031500Z
DTEND:20200528T041500Z
LOCATION:Field 1
CONTACT:
SUMMARY:Wednesday Warriors VS. Thirty Racks
DESCRIPTION:League Name: Season 1 Wednesday D3 Men's Feb 5, 2020\nGame Type
 : Regular\nGame Status: Complete\nHome Team: Wednesday Warriors\nAway Team
 : Thirty Racks\nHome Score: 8\nAway Score: 10
END:VEVENT
BEGIN:VEVENT
UID:13087374@ezleagues.ezfacility.com
DTSTAMP:20260426T035125Z
CREATED:20260426T035125Z
DTSTART:20200528T041500Z
DTEND:20200528T051500Z
LOCATION:Field 1
CONTACT:
SUMMARY:Thirty Racks VS. Wednesday Warriors
DESCRIPTION:League Name: Season 1 Wednesday D3 Men's Feb 5, 2020\nGame Type
 : Regular\nGame Status: Complete\nHome Team: Thirty Racks\nAway Team: Wedn
 esday Warriors\nHome Score: 17\nAway Score: 12
END:VEVENT
BEGIN:VEVENT
UID:13185228@ezleagues.ezfacility.com
DTSTAMP:20260426T035125Z
CREATED:20260426T035125Z
DTSTART:20200604T011500Z
DTEND:20200604T021500Z
LOCATION:Field 4
CONTACT:
SUMMARY:Wednesday Warriors VS. 4 BASE ERROR
DESCRIPTION:League Name: Season 1 Wednesday D3 Men's Feb 5, 2020\nGame Type
 : Postseason\nGame Status: Complete\nHome Team: Wednesday Warriors\nAway T
 eam: 4 BASE ERROR\nHome Score: 16\nAway Score: 15
END:VEVENT
BEGIN:VEVENT
UID:13185229@ezleagues.ezfacility.com
DTSTAMP:20260426T035125Z
CREATED:20260426T035125Z
DTSTART:20200604T021500Z
DTEND:20200604T031500Z
LOCATION:Field 4
CONTACT:
SUMMARY:4 BASE ERROR VS. Wednesday Warriors
DESCRIPTION:League Name: Season 1 Wednesday D3 Men's Feb 5, 2020\nGame Type
 : Postseason\nGame Status: Complete\nHome Team: 4 BASE ERROR\nAway Team: W
 ednesday Warriors\nHome Score: 9\nAway Score: 8
END:VEVENT
END:VCALENDAR
