BEGIN:VCALENDAR
VERSION:2.0
PRODID:-//EZFacility.com, Inc.//EZL 2.5.5.28621
BEGIN:VEVENT
UID:13087277@ezleagues.ezfacility.com
DTSTAMP:20260426T035053Z
CREATED:20260426T035053Z
DTSTART:20200206T031500Z
DTEND:20200206T041500Z
LOCATION:Field 2
CONTACT:
SUMMARY:Merica VS. Shankers
DESCRIPTION:League Name: Season 1 Wednesday D1/D2 Men's Feb 5, 2020\nGame T
 ype: Regular\nGame Status: Complete\nHome Team: Merica\nAway Team: Shanker
 s\nHome Score: 4\nAway Score: 21
END:VEVENT
BEGIN:VEVENT
UID:13087278@ezleagues.ezfacility.com
DTSTAMP:20260426T035053Z
CREATED:20260426T035053Z
DTSTART:20200206T041500Z
DTEND:20200206T051500Z
LOCATION:Field 2
CONTACT:
SUMMARY:Shankers VS. Merica
DESCRIPTION:League Name: Season 1 Wednesday D1/D2 Men's Feb 5, 2020\nGame T
 ype: Regular\nGame Status: Complete\nHome Team: Shankers\nAway Team: Meric
 a\nHome Score: 18\nAway Score: 8
END:VEVENT
BEGIN:VEVENT
UID:13087299@ezleagues.ezfacility.com
DTSTAMP:20260426T035053Z
CREATED:20260426T035053Z
DTSTART:20200213T031500Z
DTEND:20200213T041500Z
LOCATION:Field 4
CONTACT:
SUMMARY:Screwballs VS. Merica
DESCRIPTION:League Name: Season 1 Wednesday D1/D2 Men's Feb 5, 2020\nGame T
 ype: Regular\nGame Status: Complete\nHome Team: Screwballs\nAway Team: Mer
 ica\nHome Score: 22\nAway Score: 6
END:VEVENT
BEGIN:VEVENT
UID:13087300@ezleagues.ezfacility.com
DTSTAMP:20260426T035053Z
CREATED:20260426T035053Z
DTSTART:20200213T041500Z
DTEND:20200213T051500Z
LOCATION:Field 4
CONTACT:
SUMMARY:Merica VS. Screwballs
DESCRIPTION:League Name: Season 1 Wednesday D1/D2 Men's Feb 5, 2020\nGame T
 ype: Regular\nGame Status: Complete\nHome Team: Merica\nAway Team: Screwba
 lls\nHome Score: 6\nAway Score: 24
END:VEVENT
BEGIN:VEVENT
UID:13087327@ezleagues.ezfacility.com
DTSTAMP:20260426T035053Z
CREATED:20260426T035053Z
DTSTART:20200220T031500Z
DTEND:20200220T041500Z
LOCATION:Field 5
CONTACT:
SUMMARY:GAT PAC VS. Merica
DESCRIPTION:League Name: Season 1 Wednesday D1/D2 Men's Feb 5, 2020\nGame T
 ype: Regular\nGame Status: Complete\nHome Team: GAT PAC\nAway Team: Merica
 \nHome Score: 7\nAway Score: 14
END:VEVENT
BEGIN:VEVENT
UID:13087328@ezleagues.ezfacility.com
DTSTAMP:20260426T035053Z
CREATED:20260426T035053Z
DTSTART:20200220T041500Z
DTEND:20200220T051500Z
LOCATION:Field 5
CONTACT:
SUMMARY:Merica VS. GAT PAC
DESCRIPTION:League Name: Season 1 Wednesday D1/D2 Men's Feb 5, 2020\nGame T
 ype: Regular\nGame Status: Complete\nHome Team: Merica\nAway Team: GAT PAC
 \nHome Score: 19\nAway Score: 11
END:VEVENT
BEGIN:VEVENT
UID:13087343@ezleagues.ezfacility.com
DTSTAMP:20260426T035053Z
CREATED:20260426T035053Z
DTSTART:20200227T031500Z
DTEND:20200227T041500Z
LOCATION:Field 4
CONTACT:
SUMMARY:Sons of Pitches VS. Merica
DESCRIPTION:League Name: Season 1 Wednesday D1/D2 Men's Feb 5, 2020\nGame T
 ype: Regular\nGame Status: Complete\nHome Team: Sons of Pitches\nAway Team
 : Merica\nHome Score: 19\nAway Score: 17
END:VEVENT
BEGIN:VEVENT
UID:13087344@ezleagues.ezfacility.com
DTSTAMP:20260426T035053Z
CREATED:20260426T035053Z
DTSTART:20200227T041500Z
DTEND:20200227T051500Z
LOCATION:Field 4
CONTACT:
SUMMARY:Merica VS. Sons of Pitches
DESCRIPTION:League Name: Season 1 Wednesday D1/D2 Men's Feb 5, 2020\nGame T
 ype: Regular\nGame Status: Complete\nHome Team: Merica\nAway Team: Sons of
  Pitches\nHome Score: 17\nAway Score: 25
END:VEVENT
BEGIN:VEVENT
UID:13087369@ezleagues.ezfacility.com
DTSTAMP:20260426T035053Z
CREATED:20260426T035053Z
DTSTART:20200305T031500Z
DTEND:20200305T041500Z
LOCATION:Field 5
CONTACT:
SUMMARY:Ripper Magoos VS. Merica
DESCRIPTION:League Name: Season 1 Wednesday D1/D2 Men's Feb 5, 2020\nGame T
 ype: Regular\nGame Status: Complete\nHome Team: Ripper Magoos\nAway Team: 
 Merica\nHome Score: 11\nAway Score: 6
END:VEVENT
BEGIN:VEVENT
UID:13087370@ezleagues.ezfacility.com
DTSTAMP:20260426T035053Z
CREATED:20260426T035053Z
DTSTART:20200305T041500Z
DTEND:20200305T051500Z
LOCATION:Field 5
CONTACT:
SUMMARY:Merica VS. Ripper Magoos
DESCRIPTION:League Name: Season 1 Wednesday D1/D2 Men's Feb 5, 2020\nGame T
 ype: Regular\nGame Status: Complete\nHome Team: Merica\nAway Team: Ripper 
 Magoos\nHome Score: 9\nAway Score: 14
END:VEVENT
BEGIN:VEVENT
UID:13087409@ezleagues.ezfacility.com
DTSTAMP:20260426T035053Z
CREATED:20260426T035053Z
DTSTART:20200521T011500Z
DTEND:20200521T021500Z
LOCATION:Field 3
CONTACT:
SUMMARY:GAT PAC VS. Merica
DESCRIPTION:League Name: Season 1 Wednesday D1/D2 Men's Feb 5, 2020\nGame T
 ype: Regular\nGame Status: Complete\nHome Team: GAT PAC\nAway Team: Merica
 \nHome Score: 7\nAway Score: 5
END:VEVENT
BEGIN:VEVENT
UID:13087410@ezleagues.ezfacility.com
DTSTAMP:20260426T035053Z
CREATED:20260426T035053Z
DTSTART:20200521T021500Z
DTEND:20200521T031500Z
LOCATION:Field 3
CONTACT:
SUMMARY:Merica VS. GAT PAC
DESCRIPTION:League Name: Season 1 Wednesday D1/D2 Men's Feb 5, 2020\nGame T
 ype: Regular\nGame Status: Complete\nHome Team: Merica\nAway Team: GAT PAC
 \nHome Score: 16\nAway Score: 12
END:VEVENT
BEGIN:VEVENT
UID:13087387@ezleagues.ezfacility.com
DTSTAMP:20260426T035053Z
CREATED:20260426T035053Z
DTSTART:20200528T031500Z
DTEND:20200528T041500Z
LOCATION:Field 2
CONTACT:
SUMMARY:Merica VS. Long Shots
DESCRIPTION:League Name: Season 1 Wednesday D1/D2 Men's Feb 5, 2020\nGame T
 ype: Regular\nGame Status: Complete\nHome Team: Merica\nAway Team: Long Sh
 ots\nHome Score: 11\nAway Score: 28
END:VEVENT
BEGIN:VEVENT
UID:13087388@ezleagues.ezfacility.com
DTSTAMP:20260426T035053Z
CREATED:20260426T035053Z
DTSTART:20200528T041500Z
DTEND:20200528T051500Z
LOCATION:Field 2
CONTACT:
SUMMARY:Long Shots VS. Merica
DESCRIPTION:League Name: Season 1 Wednesday D1/D2 Men's Feb 5, 2020\nGame T
 ype: Regular\nGame Status: Complete\nHome Team: Long Shots\nAway Team: Mer
 ica\nHome Score: 20\nAway Score: 5
END:VEVENT
BEGIN:VEVENT
UID:13087431@ezleagues.ezfacility.com
DTSTAMP:20260426T035053Z
CREATED:20260426T035053Z
DTSTART:20200604T031500Z
DTEND:20200604T041500Z
LOCATION:Field 5
CONTACT:
SUMMARY:Merica VS. Long Shots
DESCRIPTION:League Name: Season 1 Wednesday D1/D2 Men's Feb 5, 2020\nGame T
 ype: Postseason\nGame Status: Complete\nHome Team: Merica\nAway Team: Long
  Shots\nHome Score: 6\nAway Score: 14
END:VEVENT
END:VCALENDAR
