BEGIN:VCALENDAR
VERSION:2.0
PRODID:-//EZFacility.com, Inc.//EZL 2.5.5.28621
BEGIN:VEVENT
UID:13093084@ezleagues.ezfacility.com
DTSTAMP:20260419T202710Z
CREATED:20260419T202710Z
DTSTART:20200125T000000Z
DTEND:20200125T005500Z
LOCATION:PFFC Field House - B
CONTACT:
SUMMARY:Hershey FC VS. Stella Maris
DESCRIPTION:League Name: MSL Soccer - Friday Men's O35 - Owen Division\nGam
 e Type: Regular\nGame Status: Complete\nHome Team: Hershey FC\nAway Team: 
 Stella Maris\nHome Score: 4\nAway Score: 7
END:VEVENT
BEGIN:VEVENT
UID:13093087@ezleagues.ezfacility.com
DTSTAMP:20260419T202710Z
CREATED:20260419T202710Z
DTSTART:20200201T034000Z
DTEND:20200201T043500Z
LOCATION:PFFC Field House - B
CONTACT:
SUMMARY:Hershey FC VS. PcClick.ca
DESCRIPTION:League Name: MSL Soccer - Friday Men's O35 - Owen Division\nGam
 e Type: Regular\nGame Status: Complete\nHome Team: Hershey FC\nAway Team: 
 PcClick.ca\nHome Score: 0\nAway Score: 3
END:VEVENT
BEGIN:VEVENT
UID:13090158@ezleagues.ezfacility.com
DTSTAMP:20260419T202710Z
CREATED:20260419T202710Z
DTSTART:20200208T000000Z
DTEND:20200208T010000Z
LOCATION:PFFC Field House - B
CONTACT:
SUMMARY:Hershey FC VS. United
DESCRIPTION:League Name: MSL Soccer - Friday Men's O35 - Owen Division\nGam
 e Type: Regular\nGame Status: Complete\nHome Team: Hershey FC\nAway Team: 
 United\nHome Score: 5\nAway Score: 2
END:VEVENT
BEGIN:VEVENT
UID:13090187@ezleagues.ezfacility.com
DTSTAMP:20260419T202710Z
CREATED:20260419T202710Z
DTSTART:20200215T024500Z
DTEND:20200215T034500Z
LOCATION:PFFC Field House - D
CONTACT:
SUMMARY:Hershey FC VS. Internationals FC
DESCRIPTION:League Name: MSL Soccer - Friday Men's O35 - Owen Division\nGam
 e Type: Regular\nGame Status: Complete\nHome Team: Hershey FC\nAway Team: 
 Internationals FC\nHome Score: 6\nAway Score: 2
END:VEVENT
BEGIN:VEVENT
UID:13090216@ezleagues.ezfacility.com
DTSTAMP:20260419T202710Z
CREATED:20260419T202710Z
DTSTART:20200221T230500Z
DTEND:20200222T000500Z
LOCATION:PFFC Field House - A
CONTACT:
SUMMARY:Hershey FC VS. Toronto West United
DESCRIPTION:League Name: MSL Soccer - Friday Men's O35 - Owen Division\nGam
 e Type: Regular\nGame Status: Complete\nHome Team: Hershey FC\nAway Team: 
 Toronto West United\nHome Score: 5\nAway Score: 8
END:VEVENT
BEGIN:VEVENT
UID:13090245@ezleagues.ezfacility.com
DTSTAMP:20260419T202710Z
CREATED:20260419T202710Z
DTSTART:20200229T030000Z
DTEND:20200229T040000Z
LOCATION:PFFC Dome - 1
CONTACT:
SUMMARY:Hershey FC VS. Balkan Express
DESCRIPTION:League Name: MSL Soccer - Friday Men's O35 - Owen Division\nGam
 e Type: Regular\nGame Status: Complete\nHome Team: Hershey FC\nAway Team: 
 Balkan Express\nHome Score: 2\nAway Score: 7
END:VEVENT
BEGIN:VEVENT
UID:13090274@ezleagues.ezfacility.com
DTSTAMP:20260419T202710Z
CREATED:20260419T202710Z
DTSTART:20200307T020000Z
DTEND:20200307T030000Z
LOCATION:PFFC Dome - 3
CONTACT:
SUMMARY:Hershey FC VS. Salt N Pepper
DESCRIPTION:League Name: MSL Soccer - Friday Men's O35 - Owen Division\nGam
 e Type: Regular\nGame Status: Complete\nHome Team: Hershey FC\nAway Team: 
 Salt N Pepper\nHome Score: 2\nAway Score: 4
END:VEVENT
BEGIN:VEVENT
UID:13090303@ezleagues.ezfacility.com
DTSTAMP:20260419T202710Z
CREATED:20260419T202710Z
DTSTART:20200314T024000Z
DTEND:20200314T034000Z
LOCATION:PFFC Field House - A
CONTACT:
SUMMARY:United VS. Hershey FC
DESCRIPTION:League Name: MSL Soccer - Friday Men's O35 - Owen Division\nGam
 e Type: Regular\nGame Status: Postponed\nHome Team: United\nAway Team: Her
 shey FC\n
END:VEVENT
BEGIN:VEVENT
UID:13090332@ezleagues.ezfacility.com
DTSTAMP:20260419T202710Z
CREATED:20260419T202710Z
DTSTART:20200321T014500Z
DTEND:20200321T024500Z
LOCATION:PFFC Field House - D
CONTACT:
SUMMARY:Internationals FC VS. Hershey FC
DESCRIPTION:League Name: MSL Soccer - Friday Men's O35 - Owen Division\nGam
 e Type: Regular\nGame Status: Postponed\nHome Team: Internationals FC\nAwa
 y Team: Hershey FC\n
END:VEVENT
BEGIN:VEVENT
UID:13090361@ezleagues.ezfacility.com
DTSTAMP:20260419T202710Z
CREATED:20260419T202710Z
DTSTART:20200327T220500Z
DTEND:20200327T230500Z
LOCATION:PFFC Field House - C
CONTACT:
SUMMARY:Toronto West United VS. Hershey FC
DESCRIPTION:League Name: MSL Soccer - Friday Men's O35 - Owen Division\nGam
 e Type: Regular\nGame Status: Postponed\nHome Team: Toronto West United\nA
 way Team: Hershey FC\n
END:VEVENT
BEGIN:VEVENT
UID:13090390@ezleagues.ezfacility.com
DTSTAMP:20260419T202710Z
CREATED:20260419T202710Z
DTSTART:20200404T010000Z
DTEND:20200404T020000Z
LOCATION:PFFC Dome - 4
CONTACT:
SUMMARY:Balkan Express VS. Hershey FC
DESCRIPTION:League Name: MSL Soccer - Friday Men's O35 - Owen Division\nGam
 e Type: Regular\nGame Status: Postponed\nHome Team: Balkan Express\nAway T
 eam: Hershey FC\n
END:VEVENT
BEGIN:VEVENT
UID:13090448@ezleagues.ezfacility.com
DTSTAMP:20260419T202710Z
CREATED:20260419T202710Z
DTSTART:20200418T010000Z
DTEND:20200418T020000Z
LOCATION:PFFC Dome - 1
CONTACT:
SUMMARY:United VS. Hershey FC
DESCRIPTION:League Name: MSL Soccer - Friday Men's O35 - Owen Division\nGam
 e Type: Regular\nGame Status: Pending\nHome Team: United\nAway Team: Hersh
 ey FC\n
END:VEVENT
BEGIN:VEVENT
UID:13090477@ezleagues.ezfacility.com
DTSTAMP:20260419T202710Z
CREATED:20260419T202710Z
DTSTART:20200423T230000Z
DTEND:20200424T000000Z
LOCATION:PFFC Dome - 1
CONTACT:
SUMMARY:Internationals FC VS. Hershey FC
DESCRIPTION:League Name: MSL Soccer - Friday Men's O35 - Owen Division\nGam
 e Type: Regular\nGame Status: Pending\nHome Team: Internationals FC\nAway 
 Team: Hershey FC\n
END:VEVENT
BEGIN:VEVENT
UID:13090419@ezleagues.ezfacility.com
DTSTAMP:20260419T202710Z
CREATED:20260419T202710Z
DTSTART:20200501T010000Z
DTEND:20200501T020000Z
LOCATION:PFFC Field House - D
CONTACT:
SUMMARY:Hershey FC VS. Salt N Pepper
DESCRIPTION:League Name: MSL Soccer - Friday Men's O35 - Owen Division\nGam
 e Type: Regular\nGame Status: Pending\nHome Team: Hershey FC\nAway Team: S
 alt N Pepper\n
END:VEVENT
END:VCALENDAR
